BEGIN:VCALENDAR
VERSION:2.0
PRODID:-//Barrett Paradise Friendly Library - ECPv6.15.20//NONSGML v1.0//EN
CALSCALE:GREGORIAN
METHOD:PUBLISH
X-ORIGINAL-URL:https://www.barrettlibrary.org
X-WR-CALDESC:Events for Barrett Paradise Friendly Library
REFRESH-INTERVAL;VALUE=DURATION:PT1H
X-Robots-Tag:noindex
X-PUBLISHED-TTL:PT1H
BEGIN:VTIMEZONE
TZID:America/New_York
BEGIN:DAYLIGHT
TZOFFSETFROM:-0500
TZOFFSETTO:-0400
TZNAME:EDT
DTSTART:20240310T070000
END:DAYLIGHT
BEGIN:STANDARD
TZOFFSETFROM:-0400
TZOFFSETTO:-0500
TZNAME:EST
DTSTART:20241103T060000
END:STANDARD
BEGIN:DAYLIGHT
TZOFFSETFROM:-0500
TZOFFSETTO:-0400
TZNAME:EDT
DTSTART:20250309T070000
END:DAYLIGHT
BEGIN:STANDARD
TZOFFSETFROM:-0400
TZOFFSETTO:-0500
TZNAME:EST
DTSTART:20251102T060000
END:STANDARD
BEGIN:DAYLIGHT
TZOFFSETFROM:-0500
TZOFFSETTO:-0400
TZNAME:EDT
DTSTART:20260308T070000
END:DAYLIGHT
BEGIN:STANDARD
TZOFFSETFROM:-0400
TZOFFSETTO:-0500
TZNAME:EST
DTSTART:20261101T060000
END:STANDARD
END:VTIMEZONE
BEGIN:VEVENT
DTSTART;TZID=America/New_York:20250414T100000
DTEND;TZID=America/New_York:20250414T110000
DTSTAMP:20260424T015033
CREATED:20250329T200542Z
LAST-MODIFIED:20250329T200542Z
UID:7256-1744624800-1744628400@www.barrettlibrary.org
SUMMARY:Mindful Meditation & Yoga
DESCRIPTION:Danielle Lane will guide you through relaxing meditation with light yoga or basic Pilates to start your day. Please register each week.
URL:https://www.barrettlibrary.org/event/mindful-meditation-yoga-14/
END:VEVENT
BEGIN:VEVENT
DTSTART;TZID=America/New_York:20250414T180000
DTEND;TZID=America/New_York:20250414T190000
DTSTAMP:20260424T015033
CREATED:20250320T145603Z
LAST-MODIFIED:20250320T145603Z
UID:7222-1744653600-1744657200@www.barrettlibrary.org
SUMMARY:Teen Activity Club - Seed Bombs
DESCRIPTION:Teen Activity Club – Seed Bombs \nTeens Ages 12-17 \nMonday\, April 14th 6pm \nAwaken your inner gardener by making seed bombs at the Library! \nSeed bombs are balls of seeds and soil which can be used to spread flowers to all kinds of places. \nRegistration is required.
URL:https://www.barrettlibrary.org/event/teen-activity-club-seed-bombs/
END:VEVENT
END:VCALENDAR