BEGIN:VCALENDAR
VERSION:2.0
PRODID:-//Barrett Paradise Friendly Library - ECPv6.15.20//NONSGML v1.0//EN
CALSCALE:GREGORIAN
METHOD:PUBLISH
X-ORIGINAL-URL:https://www.barrettlibrary.org
X-WR-CALDESC:Events for Barrett Paradise Friendly Library
REFRESH-INTERVAL;VALUE=DURATION:PT1H
X-Robots-Tag:noindex
X-PUBLISHED-TTL:PT1H
BEGIN:VTIMEZONE
TZID:America/New_York
BEGIN:DAYLIGHT
TZOFFSETFROM:-0500
TZOFFSETTO:-0400
TZNAME:EDT
DTSTART:20240310T070000
END:DAYLIGHT
BEGIN:STANDARD
TZOFFSETFROM:-0400
TZOFFSETTO:-0500
TZNAME:EST
DTSTART:20241103T060000
END:STANDARD
BEGIN:DAYLIGHT
TZOFFSETFROM:-0500
TZOFFSETTO:-0400
TZNAME:EDT
DTSTART:20250309T070000
END:DAYLIGHT
BEGIN:STANDARD
TZOFFSETFROM:-0400
TZOFFSETTO:-0500
TZNAME:EST
DTSTART:20251102T060000
END:STANDARD
BEGIN:DAYLIGHT
TZOFFSETFROM:-0500
TZOFFSETTO:-0400
TZNAME:EDT
DTSTART:20260308T070000
END:DAYLIGHT
BEGIN:STANDARD
TZOFFSETFROM:-0400
TZOFFSETTO:-0500
TZNAME:EST
DTSTART:20261101T060000
END:STANDARD
END:VTIMEZONE
BEGIN:VEVENT
DTSTART;TZID=America/New_York:20250520T103000
DTEND;TZID=America/New_York:20250520T110000
DTSTAMP:20260424T012620
CREATED:20250426T181828Z
LAST-MODIFIED:20250426T181828Z
UID:7338-1747737000-1747738800@www.barrettlibrary.org
SUMMARY:Baby & Me
DESCRIPTION:Baby & Me \nAges 0-2 \nTuesdays in May 10:30am \nA special story time for our youngest patrons and their grownups.  \nJoin us for stories\, songs\, and games! 
URL:https://www.barrettlibrary.org/event/baby-me-80/
END:VEVENT
BEGIN:VEVENT
DTSTART;TZID=America/New_York:20250520T130000
DTEND;TZID=America/New_York:20250520T140000
DTSTAMP:20260424T012620
CREATED:20250419T155938Z
LAST-MODIFIED:20250419T155938Z
UID:7314-1747746000-1747749600@www.barrettlibrary.org
SUMMARY:Afternoon Book Club
DESCRIPTION:Our Afternoon Book Club meets at the Library. An option to join with Zoom is available\, as well. This month we will discuss People of the Book by Geraldine Brooks. If you’re interested in joining\, please contact the Library for more details.
URL:https://www.barrettlibrary.org/event/afternoon-book-club-23/
END:VEVENT
END:VCALENDAR