BEGIN:VCALENDAR
VERSION:2.0
PRODID:-//Barrett Paradise Friendly Library - ECPv6.15.20//NONSGML v1.0//EN
CALSCALE:GREGORIAN
METHOD:PUBLISH
X-WR-CALNAME:Barrett Paradise Friendly Library
X-ORIGINAL-URL:https://www.barrettlibrary.org
X-WR-CALDESC:Events for Barrett Paradise Friendly Library
REFRESH-INTERVAL;VALUE=DURATION:PT1H
X-Robots-Tag:noindex
X-PUBLISHED-TTL:PT1H
BEGIN:VTIMEZONE
TZID:America/New_York
BEGIN:DAYLIGHT
TZOFFSETFROM:-0500
TZOFFSETTO:-0400
TZNAME:EDT
DTSTART:20240310T070000
END:DAYLIGHT
BEGIN:STANDARD
TZOFFSETFROM:-0400
TZOFFSETTO:-0500
TZNAME:EST
DTSTART:20241103T060000
END:STANDARD
BEGIN:DAYLIGHT
TZOFFSETFROM:-0500
TZOFFSETTO:-0400
TZNAME:EDT
DTSTART:20250309T070000
END:DAYLIGHT
BEGIN:STANDARD
TZOFFSETFROM:-0400
TZOFFSETTO:-0500
TZNAME:EST
DTSTART:20251102T060000
END:STANDARD
BEGIN:DAYLIGHT
TZOFFSETFROM:-0500
TZOFFSETTO:-0400
TZNAME:EDT
DTSTART:20260308T070000
END:DAYLIGHT
BEGIN:STANDARD
TZOFFSETFROM:-0400
TZOFFSETTO:-0500
TZNAME:EST
DTSTART:20261101T060000
END:STANDARD
END:VTIMEZONE
BEGIN:VEVENT
DTSTART;TZID=America/New_York:20250613T183000
DTEND;TZID=America/New_York:20250613T203000
DTSTAMP:20260424T002439
CREATED:20250528T000242Z
LAST-MODIFIED:20250528T000242Z
UID:7400-1749839400-1749846600@www.barrettlibrary.org
SUMMARY:Books & Bubbly!
DESCRIPTION:Join us for Books & Bubbly\, our most delicious fundraising event! Friday\, June 13\, 6:30-8:30pm. \nSample tasty treats and beverages from local restaurants\, businesses\, and friends of the Library. Enjoy an evening with good company in a warm\, inviting atmosphere. $35 in advance; $40 at the door. Adults only\, age 21+. Purchase tickets at the Library or follow this link to purchase online. All proceeds benefit library programs and services.
URL:https://www.barrettlibrary.org/event/books-bubbly/
END:VEVENT
END:VCALENDAR