BEGIN:VCALENDAR
VERSION:2.0
PRODID:-//Barrett Paradise Friendly Library - ECPv6.15.20//NONSGML v1.0//EN
CALSCALE:GREGORIAN
METHOD:PUBLISH
X-WR-CALNAME:Barrett Paradise Friendly Library
X-ORIGINAL-URL:https://www.barrettlibrary.org
X-WR-CALDESC:Events for Barrett Paradise Friendly Library
REFRESH-INTERVAL;VALUE=DURATION:PT1H
X-Robots-Tag:noindex
X-PUBLISHED-TTL:PT1H
BEGIN:VTIMEZONE
TZID:America/New_York
BEGIN:DAYLIGHT
TZOFFSETFROM:-0500
TZOFFSETTO:-0400
TZNAME:EDT
DTSTART:20240310T070000
END:DAYLIGHT
BEGIN:STANDARD
TZOFFSETFROM:-0400
TZOFFSETTO:-0500
TZNAME:EST
DTSTART:20241103T060000
END:STANDARD
BEGIN:DAYLIGHT
TZOFFSETFROM:-0500
TZOFFSETTO:-0400
TZNAME:EDT
DTSTART:20250309T070000
END:DAYLIGHT
BEGIN:STANDARD
TZOFFSETFROM:-0400
TZOFFSETTO:-0500
TZNAME:EST
DTSTART:20251102T060000
END:STANDARD
BEGIN:DAYLIGHT
TZOFFSETFROM:-0500
TZOFFSETTO:-0400
TZNAME:EDT
DTSTART:20260308T070000
END:DAYLIGHT
BEGIN:STANDARD
TZOFFSETFROM:-0400
TZOFFSETTO:-0500
TZNAME:EST
DTSTART:20261101T060000
END:STANDARD
END:VTIMEZONE
BEGIN:VEVENT
DTSTART;TZID=America/New_York:20250730T160000
DTEND;TZID=America/New_York:20250730T180000
DTSTAMP:20260423T233325
CREATED:20250621T184413Z
LAST-MODIFIED:20250621T184413Z
UID:7488-1753891200-1753898400@www.barrettlibrary.org
SUMMARY:Fraud 2025: Reducing Risk
DESCRIPTION:U.S. adults collectively lose billions of dollars annually to scams and fraud\, and the growth in these crimes is skyrocketing. Fraudsters seek to steal from everyone\, regardless of age\, race\, gender or socioeconomic status\, and the financial and emotional impacts are especially devastating. This presentation will arm you with information and strategies that help you reduce your risk of being scammed. You’ll learn about: fraud fundamentals\, top scams targeting Pennsylvanians\, important scam warning signs to watch out for\, practical tips to reduce the risk of being defrauded\, and how and why to report fraud. We will be offering two sessions. Please register for which time slot you’d like to attend.
URL:https://www.barrettlibrary.org/event/fraud-2025-reducing-risk/
END:VEVENT
END:VCALENDAR