BEGIN:VCALENDAR
VERSION:2.0
PRODID:-//Barrett Paradise Friendly Library - ECPv6.15.20//NONSGML v1.0//EN
CALSCALE:GREGORIAN
METHOD:PUBLISH
X-ORIGINAL-URL:https://www.barrettlibrary.org
X-WR-CALDESC:Events for Barrett Paradise Friendly Library
REFRESH-INTERVAL;VALUE=DURATION:PT1H
X-Robots-Tag:noindex
X-PUBLISHED-TTL:PT1H
BEGIN:VTIMEZONE
TZID:America/New_York
BEGIN:DAYLIGHT
TZOFFSETFROM:-0500
TZOFFSETTO:-0400
TZNAME:EDT
DTSTART:20240310T070000
END:DAYLIGHT
BEGIN:STANDARD
TZOFFSETFROM:-0400
TZOFFSETTO:-0500
TZNAME:EST
DTSTART:20241103T060000
END:STANDARD
BEGIN:DAYLIGHT
TZOFFSETFROM:-0500
TZOFFSETTO:-0400
TZNAME:EDT
DTSTART:20250309T070000
END:DAYLIGHT
BEGIN:STANDARD
TZOFFSETFROM:-0400
TZOFFSETTO:-0500
TZNAME:EST
DTSTART:20251102T060000
END:STANDARD
BEGIN:DAYLIGHT
TZOFFSETFROM:-0500
TZOFFSETTO:-0400
TZNAME:EDT
DTSTART:20260308T070000
END:DAYLIGHT
BEGIN:STANDARD
TZOFFSETFROM:-0400
TZOFFSETTO:-0500
TZNAME:EST
DTSTART:20261101T060000
END:STANDARD
END:VTIMEZONE
BEGIN:VEVENT
DTSTART;TZID=America/New_York:20250804T100000
DTEND;TZID=America/New_York:20250804T110000
DTSTAMP:20260423T232744
CREATED:20250730T230445Z
LAST-MODIFIED:20250730T230818Z
UID:7576-1754301600-1754305200@www.barrettlibrary.org
SUMMARY:Mindful Meditation & Yoga
DESCRIPTION:Danielle Lane will guide you through relaxing meditation with light yoga or basic Pilates to start your day. Please register each week.
URL:https://www.barrettlibrary.org/event/mondays-mindful-meditation-yoga/
END:VEVENT
BEGIN:VEVENT
DTSTART;TZID=America/New_York:20250804T103000
DTEND;TZID=America/New_York:20250804T113000
DTSTAMP:20260423T232744
CREATED:20250707T203643Z
LAST-MODIFIED:20250707T203643Z
UID:7521-1754303400-1754307000@www.barrettlibrary.org
SUMMARY:Library Story Time
DESCRIPTION:Library Story Time \nAges 0-5 \nMondays in August 10:30am \nJoin us in the children’s area for stories\, songs\, crafts\, and more!
URL:https://www.barrettlibrary.org/event/library-story-time-61/
END:VEVENT
END:VCALENDAR