BEGIN:VCALENDAR
VERSION:2.0
PRODID:-//Barrett Paradise Friendly Library - ECPv6.15.20//NONSGML v1.0//EN
CALSCALE:GREGORIAN
METHOD:PUBLISH
X-ORIGINAL-URL:https://www.barrettlibrary.org
X-WR-CALDESC:Events for Barrett Paradise Friendly Library
REFRESH-INTERVAL;VALUE=DURATION:PT1H
X-Robots-Tag:noindex
X-PUBLISHED-TTL:PT1H
BEGIN:VTIMEZONE
TZID:America/New_York
BEGIN:DAYLIGHT
TZOFFSETFROM:-0500
TZOFFSETTO:-0400
TZNAME:EDT
DTSTART:20240310T070000
END:DAYLIGHT
BEGIN:STANDARD
TZOFFSETFROM:-0400
TZOFFSETTO:-0500
TZNAME:EST
DTSTART:20241103T060000
END:STANDARD
BEGIN:DAYLIGHT
TZOFFSETFROM:-0500
TZOFFSETTO:-0400
TZNAME:EDT
DTSTART:20250309T070000
END:DAYLIGHT
BEGIN:STANDARD
TZOFFSETFROM:-0400
TZOFFSETTO:-0500
TZNAME:EST
DTSTART:20251102T060000
END:STANDARD
BEGIN:DAYLIGHT
TZOFFSETFROM:-0500
TZOFFSETTO:-0400
TZNAME:EDT
DTSTART:20260308T070000
END:DAYLIGHT
BEGIN:STANDARD
TZOFFSETFROM:-0400
TZOFFSETTO:-0500
TZNAME:EST
DTSTART:20261101T060000
END:STANDARD
END:VTIMEZONE
BEGIN:VEVENT
DTSTART;TZID=America/New_York:20250902T103000
DTEND;TZID=America/New_York:20250902T110000
DTSTAMP:20260423T233152
CREATED:20250811T222736Z
LAST-MODIFIED:20250811T222736Z
UID:7618-1756809000-1756810800@www.barrettlibrary.org
SUMMARY:Baby & Me
DESCRIPTION:Baby & Me \nAges 0-2 \nTuesdays in September 10:30am \nA special story time for our youngest patrons and their grownups.  \nJoin us for stories\, songs\, and games!  \n 
URL:https://www.barrettlibrary.org/event/baby-me-96/
END:VEVENT
BEGIN:VEVENT
DTSTART;TZID=America/New_York:20250902T130000
DTEND;TZID=America/New_York:20250902T150000
DTSTAMP:20260423T233152
CREATED:20250809T144839Z
LAST-MODIFIED:20250809T144839Z
UID:7614-1756818000-1756825200@www.barrettlibrary.org
SUMMARY:Movie Day at the Library
DESCRIPTION:Come to the Library the first Tuesday of each month to watch a feature film with friends. This month we will watch Black Bag\, starring Cate Blanchett and Michael Fassbender. Rated R. \n  \nWhen his beloved wife\, Kathryn\, is suspected of betraying the nation\, intelligence agent George Woodhouse faces the ultimate test — loyalty to his marriage or his country.
URL:https://www.barrettlibrary.org/event/movie-day-at-the-library-33/
END:VEVENT
END:VCALENDAR