BEGIN:VCALENDAR
VERSION:2.0
PRODID:-//Barrett Paradise Friendly Library - ECPv6.15.20//NONSGML v1.0//EN
CALSCALE:GREGORIAN
METHOD:PUBLISH
X-WR-CALNAME:Barrett Paradise Friendly Library
X-ORIGINAL-URL:https://www.barrettlibrary.org
X-WR-CALDESC:Events for Barrett Paradise Friendly Library
REFRESH-INTERVAL;VALUE=DURATION:PT1H
X-Robots-Tag:noindex
X-PUBLISHED-TTL:PT1H
BEGIN:VTIMEZONE
TZID:America/New_York
BEGIN:DAYLIGHT
TZOFFSETFROM:-0500
TZOFFSETTO:-0400
TZNAME:EDT
DTSTART:20240310T070000
END:DAYLIGHT
BEGIN:STANDARD
TZOFFSETFROM:-0400
TZOFFSETTO:-0500
TZNAME:EST
DTSTART:20241103T060000
END:STANDARD
BEGIN:DAYLIGHT
TZOFFSETFROM:-0500
TZOFFSETTO:-0400
TZNAME:EDT
DTSTART:20250309T070000
END:DAYLIGHT
BEGIN:STANDARD
TZOFFSETFROM:-0400
TZOFFSETTO:-0500
TZNAME:EST
DTSTART:20251102T060000
END:STANDARD
BEGIN:DAYLIGHT
TZOFFSETFROM:-0500
TZOFFSETTO:-0400
TZNAME:EDT
DTSTART:20260308T070000
END:DAYLIGHT
BEGIN:STANDARD
TZOFFSETFROM:-0400
TZOFFSETTO:-0500
TZNAME:EST
DTSTART:20261101T060000
END:STANDARD
END:VTIMEZONE
BEGIN:VEVENT
DTSTART;TZID=America/New_York:20250929T100000
DTEND;TZID=America/New_York:20250929T110000
DTSTAMP:20260423T215051
CREATED:20250830T160152Z
LAST-MODIFIED:20250929T140100Z
UID:7653-1759140000-1759143600@www.barrettlibrary.org
SUMMARY:CANCELLED TODAY: Mindful Meditation & Yoga
DESCRIPTION:CLASS IS CANCELLED TODAY 🙁 Please join us next Monday morning! \nDanielle Lane will guide you through relaxing meditation with light yoga or basic Pilates to start your day.
URL:https://www.barrettlibrary.org/event/mindful-meditation-yoga-35/
END:VEVENT
BEGIN:VEVENT
DTSTART;TZID=America/New_York:20250929T183000
DTEND;TZID=America/New_York:20250929T193000
DTSTAMP:20260423T215051
CREATED:20250811T230147Z
LAST-MODIFIED:20250811T230147Z
UID:7636-1759170600-1759174200@www.barrettlibrary.org
SUMMARY:Family Science: All About Apples
DESCRIPTION:Family Science: All About Apples \nFamily Program \nOpen to families with children of all ages \nMonday\, September 29th 6pm \nLearn all about apples in this hands-on cooking and tasting program.  \nWe will explore the parts of the apple and learn about how they grow  \nas we taste different types of apples and make our own applesauce! \nRegistration required
URL:https://www.barrettlibrary.org/event/family-science-all-about-apples/
END:VEVENT
END:VCALENDAR