BEGIN:VCALENDAR
VERSION:2.0
PRODID:-//Barrett Paradise Friendly Library - ECPv6.15.20//NONSGML v1.0//EN
CALSCALE:GREGORIAN
METHOD:PUBLISH
X-WR-CALNAME:Barrett Paradise Friendly Library
X-ORIGINAL-URL:https://www.barrettlibrary.org
X-WR-CALDESC:Events for Barrett Paradise Friendly Library
REFRESH-INTERVAL;VALUE=DURATION:PT1H
X-Robots-Tag:noindex
X-PUBLISHED-TTL:PT1H
BEGIN:VTIMEZONE
TZID:America/New_York
BEGIN:DAYLIGHT
TZOFFSETFROM:-0500
TZOFFSETTO:-0400
TZNAME:EDT
DTSTART:20240310T070000
END:DAYLIGHT
BEGIN:STANDARD
TZOFFSETFROM:-0400
TZOFFSETTO:-0500
TZNAME:EST
DTSTART:20241103T060000
END:STANDARD
BEGIN:DAYLIGHT
TZOFFSETFROM:-0500
TZOFFSETTO:-0400
TZNAME:EDT
DTSTART:20250309T070000
END:DAYLIGHT
BEGIN:STANDARD
TZOFFSETFROM:-0400
TZOFFSETTO:-0500
TZNAME:EST
DTSTART:20251102T060000
END:STANDARD
BEGIN:DAYLIGHT
TZOFFSETFROM:-0500
TZOFFSETTO:-0400
TZNAME:EDT
DTSTART:20260308T070000
END:DAYLIGHT
BEGIN:STANDARD
TZOFFSETFROM:-0400
TZOFFSETTO:-0500
TZNAME:EST
DTSTART:20261101T060000
END:STANDARD
END:VTIMEZONE
BEGIN:VEVENT
DTSTART;VALUE=DATE:20251020
DTEND;VALUE=DATE:20251021
DTSTAMP:20260423T202355
CREATED:20250927T165128Z
LAST-MODIFIED:20250927T165128Z
UID:7755-1760918400-1761004799@www.barrettlibrary.org
SUMMARY:Adult Take-Home Kit: Apple Bread in a Jar
DESCRIPTION:It’s apple-picking season\, and we have a tasty recipe for you to try. Apple bread in a jar! We supply the dry ingredients needed. This recipe will require a few ingredients from home. You must register to receive a kit. Supplies will be available for pickup beginning Monday\, October 20. 
URL:https://www.barrettlibrary.org/event/adult-take-home-kit-apple-bread-in-a-jar-2/
END:VEVENT
BEGIN:VEVENT
DTSTART;TZID=America/New_York:20251020T100000
DTEND;TZID=America/New_York:20251020T110000
DTSTAMP:20260423T202355
CREATED:20250927T164444Z
LAST-MODIFIED:20250927T164444Z
UID:7743-1760954400-1760958000@www.barrettlibrary.org
SUMMARY:Mindful Meditation & Yoga
DESCRIPTION:Danielle Lane will guide you through relaxing meditation with light yoga or basic Pilates to start your day.
URL:https://www.barrettlibrary.org/event/mindful-meditation-yoga-38/
END:VEVENT
END:VCALENDAR