BEGIN:VCALENDAR
VERSION:2.0
PRODID:-//Barrett Paradise Friendly Library - ECPv6.15.20//NONSGML v1.0//EN
CALSCALE:GREGORIAN
METHOD:PUBLISH
X-WR-CALNAME:Barrett Paradise Friendly Library
X-ORIGINAL-URL:https://www.barrettlibrary.org
X-WR-CALDESC:Events for Barrett Paradise Friendly Library
REFRESH-INTERVAL;VALUE=DURATION:PT1H
X-Robots-Tag:noindex
X-PUBLISHED-TTL:PT1H
BEGIN:VTIMEZONE
TZID:America/New_York
BEGIN:DAYLIGHT
TZOFFSETFROM:-0500
TZOFFSETTO:-0400
TZNAME:EDT
DTSTART:20240310T070000
END:DAYLIGHT
BEGIN:STANDARD
TZOFFSETFROM:-0400
TZOFFSETTO:-0500
TZNAME:EST
DTSTART:20241103T060000
END:STANDARD
BEGIN:DAYLIGHT
TZOFFSETFROM:-0500
TZOFFSETTO:-0400
TZNAME:EDT
DTSTART:20250309T070000
END:DAYLIGHT
BEGIN:STANDARD
TZOFFSETFROM:-0400
TZOFFSETTO:-0500
TZNAME:EST
DTSTART:20251102T060000
END:STANDARD
BEGIN:DAYLIGHT
TZOFFSETFROM:-0500
TZOFFSETTO:-0400
TZNAME:EDT
DTSTART:20260308T070000
END:DAYLIGHT
BEGIN:STANDARD
TZOFFSETFROM:-0400
TZOFFSETTO:-0500
TZNAME:EST
DTSTART:20261101T060000
END:STANDARD
END:VTIMEZONE
BEGIN:VEVENT
DTSTART;TZID=America/New_York:20251107T103000
DTEND;TZID=America/New_York:20251107T113000
DTSTAMP:20260423T202325
CREATED:20251021T174803Z
LAST-MODIFIED:20251107T160523Z
UID:7800-1762511400-1762515000@www.barrettlibrary.org
SUMMARY:Fan Club Friday: KPop Demon Hunters
DESCRIPTION:Fan Club Friday: KPop Demon Hunters \nAges 2-8 \nFriday\, November 7th 10:30am \nJoin us for an informal program all about HunterX and the Saja Boys!  \nWe will have books\, activities\, and games featuring your K-pop favorites.  \nRegistration required.
URL:https://www.barrettlibrary.org/event/fan-club-friday-kpop-demon-hunters/
END:VEVENT
BEGIN:VEVENT
DTSTART;TZID=America/New_York:20251107T190000
DTEND;TZID=America/New_York:20251107T200000
DTSTAMP:20260423T202325
CREATED:20251021T175035Z
LAST-MODIFIED:20251107T161821Z
UID:7803-1762542000-1762545600@www.barrettlibrary.org
SUMMARY:K-Pop Party (Postponed to January)
DESCRIPTION:K-pop Party \nAges 12-17 \nFriday\, November 7th 7pm postponed! New date will be announced soon! \nDress in your KPop best and join us for karaoke\, musical bingo\, and KPop Cake Pops! \nRegistration is required.
URL:https://www.barrettlibrary.org/event/k-pop-party/
END:VEVENT
END:VCALENDAR