BEGIN:VCALENDAR
VERSION:2.0
PRODID:-//Barrett Paradise Friendly Library - ECPv6.15.20//NONSGML v1.0//EN
CALSCALE:GREGORIAN
METHOD:PUBLISH
X-ORIGINAL-URL:https://www.barrettlibrary.org
X-WR-CALDESC:Events for Barrett Paradise Friendly Library
REFRESH-INTERVAL;VALUE=DURATION:PT1H
X-Robots-Tag:noindex
X-PUBLISHED-TTL:PT1H
BEGIN:VTIMEZONE
TZID:America/New_York
BEGIN:DAYLIGHT
TZOFFSETFROM:-0500
TZOFFSETTO:-0400
TZNAME:EDT
DTSTART:20240310T070000
END:DAYLIGHT
BEGIN:STANDARD
TZOFFSETFROM:-0400
TZOFFSETTO:-0500
TZNAME:EST
DTSTART:20241103T060000
END:STANDARD
BEGIN:DAYLIGHT
TZOFFSETFROM:-0500
TZOFFSETTO:-0400
TZNAME:EDT
DTSTART:20250309T070000
END:DAYLIGHT
BEGIN:STANDARD
TZOFFSETFROM:-0400
TZOFFSETTO:-0500
TZNAME:EST
DTSTART:20251102T060000
END:STANDARD
BEGIN:DAYLIGHT
TZOFFSETFROM:-0500
TZOFFSETTO:-0400
TZNAME:EDT
DTSTART:20260308T070000
END:DAYLIGHT
BEGIN:STANDARD
TZOFFSETFROM:-0400
TZOFFSETTO:-0500
TZNAME:EST
DTSTART:20261101T060000
END:STANDARD
END:VTIMEZONE
BEGIN:VEVENT
DTSTART;TZID=America/New_York:20251113T103000
DTEND;TZID=America/New_York:20251113T113000
DTSTAMP:20260423T175527
CREATED:20251021T171552Z
LAST-MODIFIED:20251021T171552Z
UID:7791-1763029800-1763033400@www.barrettlibrary.org
SUMMARY:Library Story Time
DESCRIPTION:Library Story Time \nAges 0-5 \nThursdays in November 10:30am \nJoin us in the children’s area for stories\, songs\, crafts\, and more!
URL:https://www.barrettlibrary.org/event/library-story-time-76/
END:VEVENT
BEGIN:VEVENT
DTSTART;TZID=America/New_York:20251113T183000
DTEND;TZID=America/New_York:20251113T193000
DTSTAMP:20260423T175527
CREATED:20251101T140946Z
LAST-MODIFIED:20251101T140946Z
UID:7814-1763058600-1763062200@www.barrettlibrary.org
SUMMARY:Virtual Writing Group: Ready to Write a Novel?
DESCRIPTION:Join us on Zoom to discuss the art of writing while sharing work with the group. This month we will continue to focus on genre\, writing a western\, but we have big plans for 2026! Everyone in the group will work on a novel\, from brainstorming to revising. More details to come. If you’re interested in joining for novel writing in 2026\, please contact Lynn for more details.
URL:https://www.barrettlibrary.org/event/virtual-writing-group-ready-to-write-a-novel/
END:VEVENT
END:VCALENDAR