BEGIN:VCALENDAR
VERSION:2.0
PRODID:-//Barrett Paradise Friendly Library - ECPv6.15.20//NONSGML v1.0//EN
CALSCALE:GREGORIAN
METHOD:PUBLISH
X-WR-CALNAME:Barrett Paradise Friendly Library
X-ORIGINAL-URL:https://www.barrettlibrary.org
X-WR-CALDESC:Events for Barrett Paradise Friendly Library
REFRESH-INTERVAL;VALUE=DURATION:PT1H
X-Robots-Tag:noindex
X-PUBLISHED-TTL:PT1H
BEGIN:VTIMEZONE
TZID:America/New_York
BEGIN:DAYLIGHT
TZOFFSETFROM:-0500
TZOFFSETTO:-0400
TZNAME:EDT
DTSTART:20240310T070000
END:DAYLIGHT
BEGIN:STANDARD
TZOFFSETFROM:-0400
TZOFFSETTO:-0500
TZNAME:EST
DTSTART:20241103T060000
END:STANDARD
BEGIN:DAYLIGHT
TZOFFSETFROM:-0500
TZOFFSETTO:-0400
TZNAME:EDT
DTSTART:20250309T070000
END:DAYLIGHT
BEGIN:STANDARD
TZOFFSETFROM:-0400
TZOFFSETTO:-0500
TZNAME:EST
DTSTART:20251102T060000
END:STANDARD
BEGIN:DAYLIGHT
TZOFFSETFROM:-0500
TZOFFSETTO:-0400
TZNAME:EDT
DTSTART:20260308T070000
END:DAYLIGHT
BEGIN:STANDARD
TZOFFSETFROM:-0400
TZOFFSETTO:-0500
TZNAME:EST
DTSTART:20261101T060000
END:STANDARD
END:VTIMEZONE
BEGIN:VEVENT
DTSTART;VALUE=DATE:20251126
DTEND;VALUE=DATE:20251127
DTSTAMP:20260423T202439
CREATED:20251101T143954Z
LAST-MODIFIED:20251119T160913Z
UID:7836-1764115200-1764201599@www.barrettlibrary.org
SUMMARY:NO Shakespeare Nov 26
DESCRIPTION:Due to the Thanksgiving holiday\, the Shakespeare group will NOT meet on Wed\, Nov. 26.  \nJoin the entertaining & knowledgeable Pat Williams at the Library. All are welcome\, whether you’re a Bard beginner or a long-time devotee. Discuss plays\, watch films\, and more. Attendees will help guide the direction of the group.
URL:https://www.barrettlibrary.org/event/shakespeare-3/
END:VEVENT
BEGIN:VEVENT
DTSTART;TZID=America/New_York:20251126T170000
DTEND;TZID=America/New_York:20251126T200000
DTSTAMP:20260423T202439
CREATED:20251115T192424Z
LAST-MODIFIED:20251115T192424Z
UID:7885-1764176400-1764187200@www.barrettlibrary.org
SUMMARY:Library Closing at 5pm Today
DESCRIPTION:The library will be closing at 5pm for the holiday. \nHave a safe and Happy Thanksgiving!
URL:https://www.barrettlibrary.org/event/library-closing-at-5pm-today/
END:VEVENT
END:VCALENDAR