BEGIN:VCALENDAR
VERSION:2.0
PRODID:-//Barrett Paradise Friendly Library - ECPv6.15.20//NONSGML v1.0//EN
CALSCALE:GREGORIAN
METHOD:PUBLISH
X-WR-CALNAME:Barrett Paradise Friendly Library
X-ORIGINAL-URL:https://www.barrettlibrary.org
X-WR-CALDESC:Events for Barrett Paradise Friendly Library
REFRESH-INTERVAL;VALUE=DURATION:PT1H
X-Robots-Tag:noindex
X-PUBLISHED-TTL:PT1H
BEGIN:VTIMEZONE
TZID:America/New_York
BEGIN:DAYLIGHT
TZOFFSETFROM:-0500
TZOFFSETTO:-0400
TZNAME:EDT
DTSTART:20240310T070000
END:DAYLIGHT
BEGIN:STANDARD
TZOFFSETFROM:-0400
TZOFFSETTO:-0500
TZNAME:EST
DTSTART:20241103T060000
END:STANDARD
BEGIN:DAYLIGHT
TZOFFSETFROM:-0500
TZOFFSETTO:-0400
TZNAME:EDT
DTSTART:20250309T070000
END:DAYLIGHT
BEGIN:STANDARD
TZOFFSETFROM:-0400
TZOFFSETTO:-0500
TZNAME:EST
DTSTART:20251102T060000
END:STANDARD
BEGIN:DAYLIGHT
TZOFFSETFROM:-0500
TZOFFSETTO:-0400
TZNAME:EDT
DTSTART:20260308T070000
END:DAYLIGHT
BEGIN:STANDARD
TZOFFSETFROM:-0400
TZOFFSETTO:-0500
TZNAME:EST
DTSTART:20261101T060000
END:STANDARD
END:VTIMEZONE
BEGIN:VEVENT
DTSTART;VALUE=DATE:20251202
DTEND;VALUE=DATE:20251203
DTSTAMP:20260423T175451
CREATED:20251202T132303Z
LAST-MODIFIED:20251202T132303Z
UID:7974-1764633600-1764719999@www.barrettlibrary.org
SUMMARY:LIBRARY CLOSED TODAY
DESCRIPTION:The Library is CLOSED TODAY due to the weather. \nStay safe and warm! Curl up with a good book and/or explore our digital resources 🙂
URL:https://www.barrettlibrary.org/event/library-closed-today-2/
END:VEVENT
BEGIN:VEVENT
DTSTART;TZID=America/New_York:20251202T103000
DTEND;TZID=America/New_York:20251202T110000
DTSTAMP:20260423T175451
CREATED:20251113T181706Z
LAST-MODIFIED:20251113T182246Z
UID:7857-1764671400-1764673200@www.barrettlibrary.org
SUMMARY:Baby & Me
DESCRIPTION:Baby & Me\nAges 0-2\nTuesdays in December 10:30am\nA special story time for our youngest patrons and their grownups.\nJoin us for stories\, songs\, and games!
URL:https://www.barrettlibrary.org/event/baby-me-109/
END:VEVENT
BEGIN:VEVENT
DTSTART;TZID=America/New_York:20251202T130000
DTEND;TZID=America/New_York:20251202T150000
DTSTAMP:20260423T175451
CREATED:20251101T144311Z
LAST-MODIFIED:20251101T144311Z
UID:7839-1764680400-1764687600@www.barrettlibrary.org
SUMMARY:Movie Day at the Library
DESCRIPTION:Come to the Library the first Tuesday of each month to watch a feature film with friends. Join us for Miracle on 34th Street\, starring Maureen O’Hara and Natalie Wood.
URL:https://www.barrettlibrary.org/event/movie-day-at-the-library-36/
END:VEVENT
END:VCALENDAR