BEGIN:VCALENDAR
VERSION:2.0
PRODID:-//Barrett Paradise Friendly Library - ECPv6.15.20//NONSGML v1.0//EN
CALSCALE:GREGORIAN
METHOD:PUBLISH
X-WR-CALNAME:Barrett Paradise Friendly Library
X-ORIGINAL-URL:https://www.barrettlibrary.org
X-WR-CALDESC:Events for Barrett Paradise Friendly Library
REFRESH-INTERVAL;VALUE=DURATION:PT1H
X-Robots-Tag:noindex
X-PUBLISHED-TTL:PT1H
BEGIN:VTIMEZONE
TZID:America/New_York
BEGIN:DAYLIGHT
TZOFFSETFROM:-0500
TZOFFSETTO:-0400
TZNAME:EDT
DTSTART:20240310T070000
END:DAYLIGHT
BEGIN:STANDARD
TZOFFSETFROM:-0400
TZOFFSETTO:-0500
TZNAME:EST
DTSTART:20241103T060000
END:STANDARD
BEGIN:DAYLIGHT
TZOFFSETFROM:-0500
TZOFFSETTO:-0400
TZNAME:EDT
DTSTART:20250309T070000
END:DAYLIGHT
BEGIN:STANDARD
TZOFFSETFROM:-0400
TZOFFSETTO:-0500
TZNAME:EST
DTSTART:20251102T060000
END:STANDARD
BEGIN:DAYLIGHT
TZOFFSETFROM:-0500
TZOFFSETTO:-0400
TZNAME:EDT
DTSTART:20260308T070000
END:DAYLIGHT
BEGIN:STANDARD
TZOFFSETFROM:-0400
TZOFFSETTO:-0500
TZNAME:EST
DTSTART:20261101T060000
END:STANDARD
END:VTIMEZONE
BEGIN:VEVENT
DTSTART;TZID=America/New_York:20251203T100000
DTEND;TZID=America/New_York:20251203T120000
DTSTAMP:20260423T202346
CREATED:20251129T163713Z
LAST-MODIFIED:20251203T132523Z
UID:7911-1764756000-1764763200@www.barrettlibrary.org
SUMMARY:CANCELLED: Shakespeare Group
DESCRIPTION:WED\, DEC 3: THE SHAKESPEARE GROUP IS CANCELLED TODAY. See you next week 🙂 \nJoin the entertaining & knowledgeable Pat Williams at the Library. All are welcome\, whether you’re a Bard beginner or a long-time devotee. Discuss plays\, watch films\, and more. Attendees will help guide the direction of the group. NOTE: The December 3 session will begin at 10:00 am to watch a film. All other Wednesday Shakespeare programs in December will begin at 10:30 am.
URL:https://www.barrettlibrary.org/event/shakespeare-group-31/
END:VEVENT
END:VCALENDAR