BEGIN:VCALENDAR
VERSION:2.0
PRODID:-//Barrett Paradise Friendly Library - ECPv6.15.20//NONSGML v1.0//EN
CALSCALE:GREGORIAN
METHOD:PUBLISH
X-WR-CALNAME:Barrett Paradise Friendly Library
X-ORIGINAL-URL:https://www.barrettlibrary.org
X-WR-CALDESC:Events for Barrett Paradise Friendly Library
REFRESH-INTERVAL;VALUE=DURATION:PT1H
X-Robots-Tag:noindex
X-PUBLISHED-TTL:PT1H
BEGIN:VTIMEZONE
TZID:America/New_York
BEGIN:DAYLIGHT
TZOFFSETFROM:-0500
TZOFFSETTO:-0400
TZNAME:EDT
DTSTART:20240310T070000
END:DAYLIGHT
BEGIN:STANDARD
TZOFFSETFROM:-0400
TZOFFSETTO:-0500
TZNAME:EST
DTSTART:20241103T060000
END:STANDARD
BEGIN:DAYLIGHT
TZOFFSETFROM:-0500
TZOFFSETTO:-0400
TZNAME:EDT
DTSTART:20250309T070000
END:DAYLIGHT
BEGIN:STANDARD
TZOFFSETFROM:-0400
TZOFFSETTO:-0500
TZNAME:EST
DTSTART:20251102T060000
END:STANDARD
BEGIN:DAYLIGHT
TZOFFSETFROM:-0500
TZOFFSETTO:-0400
TZNAME:EDT
DTSTART:20260308T070000
END:DAYLIGHT
BEGIN:STANDARD
TZOFFSETFROM:-0400
TZOFFSETTO:-0500
TZNAME:EST
DTSTART:20261101T060000
END:STANDARD
END:VTIMEZONE
BEGIN:VEVENT
DTSTART;VALUE=DATE:20251213
DTEND;VALUE=DATE:20251214
DTSTAMP:20260423T202349
CREATED:20251102T203520Z
LAST-MODIFIED:20251102T203520Z
UID:7848-1765584000-1765670399@www.barrettlibrary.org
SUMMARY:Basket Raffle Ends
DESCRIPTION:Check back soon for details.
URL:https://www.barrettlibrary.org/event/basket-raffle-ends-2/
END:VEVENT
BEGIN:VEVENT
DTSTART;TZID=America/New_York:20251213T100000
DTEND;TZID=America/New_York:20251213T110000
DTSTAMP:20260423T202350
CREATED:20251129T165430Z
LAST-MODIFIED:20251129T165430Z
UID:7917-1765620000-1765623600@www.barrettlibrary.org
SUMMARY:Sit & Stitch
DESCRIPTION:Do you enjoy knitting\, crochet\, tatting\, embroidery\, or other fiber arts? Our monthly Sit & Stitch group is for all levels of crafters. Bring projects to work on and enjoy each other’s company. No formal instruction or supplies provided\, just experience and support from others in the group.
URL:https://www.barrettlibrary.org/event/sit-stitch-11/
END:VEVENT
END:VCALENDAR