BEGIN:VCALENDAR
VERSION:2.0
PRODID:-//Barrett Paradise Friendly Library - ECPv6.15.20//NONSGML v1.0//EN
CALSCALE:GREGORIAN
METHOD:PUBLISH
X-WR-CALNAME:Barrett Paradise Friendly Library
X-ORIGINAL-URL:https://www.barrettlibrary.org
X-WR-CALDESC:Events for Barrett Paradise Friendly Library
REFRESH-INTERVAL;VALUE=DURATION:PT1H
X-Robots-Tag:noindex
X-PUBLISHED-TTL:PT1H
BEGIN:VTIMEZONE
TZID:America/New_York
BEGIN:DAYLIGHT
TZOFFSETFROM:-0500
TZOFFSETTO:-0400
TZNAME:EDT
DTSTART:20250309T070000
END:DAYLIGHT
BEGIN:STANDARD
TZOFFSETFROM:-0400
TZOFFSETTO:-0500
TZNAME:EST
DTSTART:20251102T060000
END:STANDARD
BEGIN:DAYLIGHT
TZOFFSETFROM:-0500
TZOFFSETTO:-0400
TZNAME:EDT
DTSTART:20260308T070000
END:DAYLIGHT
BEGIN:STANDARD
TZOFFSETFROM:-0400
TZOFFSETTO:-0500
TZNAME:EST
DTSTART:20261101T060000
END:STANDARD
BEGIN:DAYLIGHT
TZOFFSETFROM:-0500
TZOFFSETTO:-0400
TZNAME:EDT
DTSTART:20270314T070000
END:DAYLIGHT
BEGIN:STANDARD
TZOFFSETFROM:-0400
TZOFFSETTO:-0500
TZNAME:EST
DTSTART:20271107T060000
END:STANDARD
END:VTIMEZONE
BEGIN:VEVENT
DTSTART;TZID=America/New_York:20260105T114500
DTEND;TZID=America/New_York:20260105T124500
DTSTAMP:20260423T165040
CREATED:20251230T193055Z
LAST-MODIFIED:20251230T193055Z
UID:8066-1767613500-1767617100@www.barrettlibrary.org
SUMMARY:Light Yoga & Beginner Pilates (NEW TIME!)
DESCRIPTION:Danielle Lane will guide you through relaxing light yoga or beginner Pilates to start your day. 
URL:https://www.barrettlibrary.org/event/light-yoga-beginner-pilates-new-time/
END:VEVENT
BEGIN:VEVENT
DTSTART;TZID=America/New_York:20260105T180000
DTEND;TZID=America/New_York:20260105T190000
DTSTAMP:20260423T165040
CREATED:20251222T203321Z
LAST-MODIFIED:20251222T203321Z
UID:8018-1767636000-1767639600@www.barrettlibrary.org
SUMMARY:Family Science - Candy House Construction
DESCRIPTION:Family Science – Candy House Construction  \nFamily Program \nMonday\, January 5th 6pm \nJoin us in the library for an evening of sweet construction.  \nEach family will work together to build a candy house.  \nRegistration is required.
URL:https://www.barrettlibrary.org/event/family-science-candy-house-construction-2/
END:VEVENT
END:VCALENDAR