BEGIN:VCALENDAR
VERSION:2.0
PRODID:-//Barrett Paradise Friendly Library - ECPv6.15.20//NONSGML v1.0//EN
CALSCALE:GREGORIAN
METHOD:PUBLISH
X-ORIGINAL-URL:https://www.barrettlibrary.org
X-WR-CALDESC:Events for Barrett Paradise Friendly Library
REFRESH-INTERVAL;VALUE=DURATION:PT1H
X-Robots-Tag:noindex
X-PUBLISHED-TTL:PT1H
BEGIN:VTIMEZONE
TZID:America/New_York
BEGIN:DAYLIGHT
TZOFFSETFROM:-0500
TZOFFSETTO:-0400
TZNAME:EDT
DTSTART:20250309T070000
END:DAYLIGHT
BEGIN:STANDARD
TZOFFSETFROM:-0400
TZOFFSETTO:-0500
TZNAME:EST
DTSTART:20251102T060000
END:STANDARD
BEGIN:DAYLIGHT
TZOFFSETFROM:-0500
TZOFFSETTO:-0400
TZNAME:EDT
DTSTART:20260308T070000
END:DAYLIGHT
BEGIN:STANDARD
TZOFFSETFROM:-0400
TZOFFSETTO:-0500
TZNAME:EST
DTSTART:20261101T060000
END:STANDARD
BEGIN:DAYLIGHT
TZOFFSETFROM:-0500
TZOFFSETTO:-0400
TZNAME:EDT
DTSTART:20270314T070000
END:DAYLIGHT
BEGIN:STANDARD
TZOFFSETFROM:-0400
TZOFFSETTO:-0500
TZNAME:EST
DTSTART:20271107T060000
END:STANDARD
END:VTIMEZONE
BEGIN:VEVENT
DTSTART;TZID=America/New_York:20260108T103000
DTEND;TZID=America/New_York:20260108T113000
DTSTAMP:20260423T154238
CREATED:20251222T201415Z
LAST-MODIFIED:20251222T201415Z
UID:8008-1767868200-1767871800@www.barrettlibrary.org
SUMMARY:Library Story Time
DESCRIPTION:Library Story Time \nAges 0-5 \nThursdays in January 10:30am \nJoin us in the children’s area for stories\, songs\, crafts\, and more!
URL:https://www.barrettlibrary.org/event/library-story-time-81/
END:VEVENT
BEGIN:VEVENT
DTSTART;TZID=America/New_York:20260108T183000
DTEND;TZID=America/New_York:20260108T193000
DTSTAMP:20260423T154238
CREATED:20251230T193935Z
LAST-MODIFIED:20251230T193935Z
UID:8084-1767897000-1767900600@www.barrettlibrary.org
SUMMARY:Virtual Writing Group: Ready to Write a Novel?
DESCRIPTION:We have big plans for 2026! Starting in January we will begin the process of writing a novel! Join us on Zoom\, as everyone in the group works on developing their own novel\, from brainstorming to revising. We will meet twice in January. On January 8\, we will meet to have a quick tutorial on Google Docs\, the software we will all use (it’s free with a gmail account). On January 22\, we will begin the first phase in our novels\, brainstorming! If you’re interested in joining us in 2026\, please contact Lynn for more info.
URL:https://www.barrettlibrary.org/event/virtual-writing-group-ready-to-write-a-novel-2/
END:VEVENT
END:VCALENDAR