BEGIN:VCALENDAR
VERSION:2.0
PRODID:-//Barrett Paradise Friendly Library - ECPv6.15.20//NONSGML v1.0//EN
CALSCALE:GREGORIAN
METHOD:PUBLISH
X-WR-CALNAME:Barrett Paradise Friendly Library
X-ORIGINAL-URL:https://www.barrettlibrary.org
X-WR-CALDESC:Events for Barrett Paradise Friendly Library
REFRESH-INTERVAL;VALUE=DURATION:PT1H
X-Robots-Tag:noindex
X-PUBLISHED-TTL:PT1H
BEGIN:VTIMEZONE
TZID:America/New_York
BEGIN:DAYLIGHT
TZOFFSETFROM:-0500
TZOFFSETTO:-0400
TZNAME:EDT
DTSTART:20250309T070000
END:DAYLIGHT
BEGIN:STANDARD
TZOFFSETFROM:-0400
TZOFFSETTO:-0500
TZNAME:EST
DTSTART:20251102T060000
END:STANDARD
BEGIN:DAYLIGHT
TZOFFSETFROM:-0500
TZOFFSETTO:-0400
TZNAME:EDT
DTSTART:20260308T070000
END:DAYLIGHT
BEGIN:STANDARD
TZOFFSETFROM:-0400
TZOFFSETTO:-0500
TZNAME:EST
DTSTART:20261101T060000
END:STANDARD
BEGIN:DAYLIGHT
TZOFFSETFROM:-0500
TZOFFSETTO:-0400
TZNAME:EDT
DTSTART:20270314T070000
END:DAYLIGHT
BEGIN:STANDARD
TZOFFSETFROM:-0400
TZOFFSETTO:-0500
TZNAME:EST
DTSTART:20271107T060000
END:STANDARD
END:VTIMEZONE
BEGIN:VEVENT
DTSTART;TZID=America/New_York:20260122T103000
DTEND;TZID=America/New_York:20260122T113000
DTSTAMP:20260423T154135
CREATED:20251222T201642Z
LAST-MODIFIED:20251222T201642Z
UID:8012-1769077800-1769081400@www.barrettlibrary.org
SUMMARY:Library Story Time
DESCRIPTION:Library Story Time \nAges 0-5 \nThursdays in January 10:30am \nJoin us in the children’s area for stories\, songs\, crafts\, and more!
URL:https://www.barrettlibrary.org/event/library-story-time-83/
END:VEVENT
BEGIN:VEVENT
DTSTART;TZID=America/New_York:20260122T140000
DTEND;TZID=America/New_York:20260122T150000
DTSTAMP:20260423T154135
CREATED:20251230T194344Z
LAST-MODIFIED:20251230T194344Z
UID:8094-1769090400-1769094000@www.barrettlibrary.org
SUMMARY:Link up with Libby
DESCRIPTION:Come to the library with your smart phone or tablet\, and we will help you download and navigate the Libby app! Borrow digital books\, magazines\, and audiobooks with this easy-to-use resource. No registration required for this program. \n 
URL:https://www.barrettlibrary.org/event/link-up-with-libby-2/
END:VEVENT
BEGIN:VEVENT
DTSTART;TZID=America/New_York:20260122T183000
DTEND;TZID=America/New_York:20260122T193000
DTSTAMP:20260423T154135
CREATED:20251230T194028Z
LAST-MODIFIED:20251230T194028Z
UID:8086-1769106600-1769110200@www.barrettlibrary.org
SUMMARY:Virtual Writing Group: Ready to Write a Novel?
DESCRIPTION:We have big plans for 2026! Starting in January we will begin the process of writing a novel! Join us on Zoom\, as everyone in the group works on developing their own novel\, from brainstorming to revising. We will meet twice in January. On January 8\, we will meet to have a quick tutorial on Google Docs\, the software we will all use (it’s free with a gmail account). On January 22\, we will begin the first phase in our novels\, brainstorming! If you’re interested in joining us in 2026\, please contact Lynn for more info.
URL:https://www.barrettlibrary.org/event/virtual-writing-group-ready-to-write-a-novel-3/
END:VEVENT
END:VCALENDAR