BEGIN:VCALENDAR
VERSION:2.0
PRODID:-//Barrett Paradise Friendly Library - ECPv6.15.20//NONSGML v1.0//EN
CALSCALE:GREGORIAN
METHOD:PUBLISH
X-WR-CALNAME:Barrett Paradise Friendly Library
X-ORIGINAL-URL:https://www.barrettlibrary.org
X-WR-CALDESC:Events for Barrett Paradise Friendly Library
REFRESH-INTERVAL;VALUE=DURATION:PT1H
X-Robots-Tag:noindex
X-PUBLISHED-TTL:PT1H
BEGIN:VTIMEZONE
TZID:America/New_York
BEGIN:DAYLIGHT
TZOFFSETFROM:-0500
TZOFFSETTO:-0400
TZNAME:EDT
DTSTART:20250309T070000
END:DAYLIGHT
BEGIN:STANDARD
TZOFFSETFROM:-0400
TZOFFSETTO:-0500
TZNAME:EST
DTSTART:20251102T060000
END:STANDARD
BEGIN:DAYLIGHT
TZOFFSETFROM:-0500
TZOFFSETTO:-0400
TZNAME:EDT
DTSTART:20260308T070000
END:DAYLIGHT
BEGIN:STANDARD
TZOFFSETFROM:-0400
TZOFFSETTO:-0500
TZNAME:EST
DTSTART:20261101T060000
END:STANDARD
BEGIN:DAYLIGHT
TZOFFSETFROM:-0500
TZOFFSETTO:-0400
TZNAME:EDT
DTSTART:20270314T070000
END:DAYLIGHT
BEGIN:STANDARD
TZOFFSETFROM:-0400
TZOFFSETTO:-0500
TZNAME:EST
DTSTART:20271107T060000
END:STANDARD
END:VTIMEZONE
BEGIN:VEVENT
DTSTART;VALUE=DATE:20260216
DTEND;VALUE=DATE:20260217
DTSTAMP:20260423T144435
CREATED:20260129T165113Z
LAST-MODIFIED:20260129T165113Z
UID:8170-1771200000-1771286399@www.barrettlibrary.org
SUMMARY:Adult Take-Home Kit: Bread in a Jar
DESCRIPTION:For bread-baking beginners and pros! Make your own bread with our bread-in-a-jar ingredients.You will need a few ingredients from home.You must register to receive a kit. Supplies will be available for pickup beginning Monday\, February 16. 
URL:https://www.barrettlibrary.org/event/adult-take-home-kit-bread-in-a-jar/
END:VEVENT
BEGIN:VEVENT
DTSTART;TZID=America/New_York:20260216T114500
DTEND;TZID=America/New_York:20260216T124500
DTSTAMP:20260423T144435
CREATED:20260129T163233Z
LAST-MODIFIED:20260129T163233Z
UID:8156-1771242300-1771245900@www.barrettlibrary.org
SUMMARY:Light Yoga & Beginner Pilates 11:45 am (NEW TIME!)
DESCRIPTION:Danielle Lane will guide you through relaxing light yoga or beginner Pilates to start your day.
URL:https://www.barrettlibrary.org/event/light-yoga-beginner-pilates-1145-am-new-time-3/
END:VEVENT
END:VCALENDAR