BEGIN:VCALENDAR
VERSION:2.0
PRODID:-//Barrett Paradise Friendly Library - ECPv6.15.20//NONSGML v1.0//EN
CALSCALE:GREGORIAN
METHOD:PUBLISH
X-ORIGINAL-URL:https://www.barrettlibrary.org
X-WR-CALDESC:Events for Barrett Paradise Friendly Library
REFRESH-INTERVAL;VALUE=DURATION:PT1H
X-Robots-Tag:noindex
X-PUBLISHED-TTL:PT1H
BEGIN:VTIMEZONE
TZID:America/New_York
BEGIN:DAYLIGHT
TZOFFSETFROM:-0500
TZOFFSETTO:-0400
TZNAME:EDT
DTSTART:20250309T070000
END:DAYLIGHT
BEGIN:STANDARD
TZOFFSETFROM:-0400
TZOFFSETTO:-0500
TZNAME:EST
DTSTART:20251102T060000
END:STANDARD
BEGIN:DAYLIGHT
TZOFFSETFROM:-0500
TZOFFSETTO:-0400
TZNAME:EDT
DTSTART:20260308T070000
END:DAYLIGHT
BEGIN:STANDARD
TZOFFSETFROM:-0400
TZOFFSETTO:-0500
TZNAME:EST
DTSTART:20261101T060000
END:STANDARD
BEGIN:DAYLIGHT
TZOFFSETFROM:-0500
TZOFFSETTO:-0400
TZNAME:EDT
DTSTART:20270314T070000
END:DAYLIGHT
BEGIN:STANDARD
TZOFFSETFROM:-0400
TZOFFSETTO:-0500
TZNAME:EST
DTSTART:20271107T060000
END:STANDARD
END:VTIMEZONE
BEGIN:VEVENT
DTSTART;VALUE=DATE:20260220
DTEND;VALUE=DATE:20260221
DTSTAMP:20260423T143949
CREATED:20260220T141805Z
LAST-MODIFIED:20260220T141805Z
UID:8223-1771545600-1771631999@www.barrettlibrary.org
SUMMARY:DELAYED OPENING 12PM - Family Place Canceled
DESCRIPTION:The library will DELAY OPENING TODAY UNTIL 12PM. \nToday’s Family Place Program is canceled. We hope to reschedule soon.
URL:https://www.barrettlibrary.org/event/delayed-opening-12pm-family-place-canceled/
END:VEVENT
BEGIN:VEVENT
DTSTART;TZID=America/New_York:20260220T103000
DTEND;TZID=America/New_York:20260220T114500
DTSTAMP:20260423T143949
CREATED:20251222T211255Z
LAST-MODIFIED:20251222T211255Z
UID:8044-1771583400-1771587900@www.barrettlibrary.org
SUMMARY:Family Place Play & Grow Workshop
DESCRIPTION:Family Place Play & Grow Workshop \nAges 0-3\, siblings up to age 5 are welcome \nFridays\, February 6th\, 13th\, 20th\, and 27th  10:30am-11:45am \nThis five-week series brings together toddlers and parents in an informal\, interactive setting with professionals from local agencies to support the role of parents as first teachers\, facilitate early intervention\, and teach strategies to promote healthy child development and literacy. Registration required.
URL:https://www.barrettlibrary.org/event/family-place-play-grow-workshop-9/
END:VEVENT
END:VCALENDAR