BEGIN:VCALENDAR
VERSION:2.0
PRODID:-//Barrett Paradise Friendly Library - ECPv6.15.20//NONSGML v1.0//EN
CALSCALE:GREGORIAN
METHOD:PUBLISH
X-WR-CALNAME:Barrett Paradise Friendly Library
X-ORIGINAL-URL:https://www.barrettlibrary.org
X-WR-CALDESC:Events for Barrett Paradise Friendly Library
REFRESH-INTERVAL;VALUE=DURATION:PT1H
X-Robots-Tag:noindex
X-PUBLISHED-TTL:PT1H
BEGIN:VTIMEZONE
TZID:America/New_York
BEGIN:DAYLIGHT
TZOFFSETFROM:-0500
TZOFFSETTO:-0400
TZNAME:EDT
DTSTART:20250309T070000
END:DAYLIGHT
BEGIN:STANDARD
TZOFFSETFROM:-0400
TZOFFSETTO:-0500
TZNAME:EST
DTSTART:20251102T060000
END:STANDARD
BEGIN:DAYLIGHT
TZOFFSETFROM:-0500
TZOFFSETTO:-0400
TZNAME:EDT
DTSTART:20260308T070000
END:DAYLIGHT
BEGIN:STANDARD
TZOFFSETFROM:-0400
TZOFFSETTO:-0500
TZNAME:EST
DTSTART:20261101T060000
END:STANDARD
BEGIN:DAYLIGHT
TZOFFSETFROM:-0500
TZOFFSETTO:-0400
TZNAME:EDT
DTSTART:20270314T070000
END:DAYLIGHT
BEGIN:STANDARD
TZOFFSETFROM:-0400
TZOFFSETTO:-0500
TZNAME:EST
DTSTART:20271107T060000
END:STANDARD
END:VTIMEZONE
BEGIN:VEVENT
DTSTART;TZID=America/New_York:20260321T140000
DTEND;TZID=America/New_York:20260321T160000
DTSTAMP:20260423T120856
CREATED:20260228T162654Z
LAST-MODIFIED:20260228T162654Z
UID:8279-1774101600-1774108800@www.barrettlibrary.org
SUMMARY:Mushroom Cultivation
DESCRIPTION:Back by popular demand! If you missed it last time\, here’s another opportunity. Are you interested in growing your own gourmet mushrooms? Instructor Dan Lane will discuss basic processes\, timelines\, and techniques\, with an emphasis on non-specialty equipment and the use of readily available materials. A starter kit will also be included for you to take with you to help with the initial supply gathering process. Mushroom cultivation can be a fascinating hobby and also a great way to supplement your food supply. Space is limited for this adult program; registration is required: 570-595-7171. *You will need to purchase additional supplies on your own to continue the process at home. Instructions and resource guides will be included.
URL:https://www.barrettlibrary.org/event/mushroom-cultivation-3/
END:VEVENT
END:VCALENDAR