BEGIN:VCALENDAR
VERSION:2.0
PRODID:-//Barrett Paradise Friendly Library - ECPv6.15.20//NONSGML v1.0//EN
CALSCALE:GREGORIAN
METHOD:PUBLISH
X-WR-CALNAME:Barrett Paradise Friendly Library
X-ORIGINAL-URL:https://www.barrettlibrary.org
X-WR-CALDESC:Events for Barrett Paradise Friendly Library
REFRESH-INTERVAL;VALUE=DURATION:PT1H
X-Robots-Tag:noindex
X-PUBLISHED-TTL:PT1H
BEGIN:VTIMEZONE
TZID:America/New_York
BEGIN:DAYLIGHT
TZOFFSETFROM:-0500
TZOFFSETTO:-0400
TZNAME:EDT
DTSTART:20250309T070000
END:DAYLIGHT
BEGIN:STANDARD
TZOFFSETFROM:-0400
TZOFFSETTO:-0500
TZNAME:EST
DTSTART:20251102T060000
END:STANDARD
BEGIN:DAYLIGHT
TZOFFSETFROM:-0500
TZOFFSETTO:-0400
TZNAME:EDT
DTSTART:20260308T070000
END:DAYLIGHT
BEGIN:STANDARD
TZOFFSETFROM:-0400
TZOFFSETTO:-0500
TZNAME:EST
DTSTART:20261101T060000
END:STANDARD
BEGIN:DAYLIGHT
TZOFFSETFROM:-0500
TZOFFSETTO:-0400
TZNAME:EDT
DTSTART:20270314T070000
END:DAYLIGHT
BEGIN:STANDARD
TZOFFSETFROM:-0400
TZOFFSETTO:-0500
TZNAME:EST
DTSTART:20271107T060000
END:STANDARD
END:VTIMEZONE
BEGIN:VEVENT
DTSTART;TZID=America/New_York:20260325T103000
DTEND;TZID=America/New_York:20260325T113000
DTSTAMP:20260423T120739
CREATED:20260228T161249Z
LAST-MODIFIED:20260228T161249Z
UID:8256-1774434600-1774438200@www.barrettlibrary.org
SUMMARY:Shakespeare Group
DESCRIPTION:Join the entertaining & knowledgeable Pat Williams at the Library. All are welcome\, whether you’re a Bard beginner or a long-time devotee. Discuss plays\, watch films\, and more. Attendees will help guide the direction of the group. 
URL:https://www.barrettlibrary.org/event/shakespeare-group-45/
END:VEVENT
BEGIN:VEVENT
DTSTART;TZID=America/New_York:20260325T180000
DTEND;TZID=America/New_York:20260325T193000
DTSTAMP:20260423T120739
CREATED:20260228T161855Z
LAST-MODIFIED:20260228T161855Z
UID:8264-1774461600-1774467000@www.barrettlibrary.org
SUMMARY:Keyboarding Classes
DESCRIPTION:Ages 9 – 12: 6:00 pm – 6:30 pm \nAges 13 – Adult: 6:45 pm – 7:30 pm \nJoin music teacher Michael Capone at the Library for a six-week series on the basics of keyboarding and reading music. Keyboards and headphones provided for use at the Library. Space is limited; registration is required.
URL:https://www.barrettlibrary.org/event/keyboarding-classes-16/
END:VEVENT
END:VCALENDAR