BEGIN:VCALENDAR
VERSION:2.0
PRODID:-//Barrett Paradise Friendly Library - ECPv6.15.20//NONSGML v1.0//EN
CALSCALE:GREGORIAN
METHOD:PUBLISH
X-WR-CALNAME:Barrett Paradise Friendly Library
X-ORIGINAL-URL:https://www.barrettlibrary.org
X-WR-CALDESC:Events for Barrett Paradise Friendly Library
REFRESH-INTERVAL;VALUE=DURATION:PT1H
X-Robots-Tag:noindex
X-PUBLISHED-TTL:PT1H
BEGIN:VTIMEZONE
TZID:America/New_York
BEGIN:DAYLIGHT
TZOFFSETFROM:-0500
TZOFFSETTO:-0400
TZNAME:EDT
DTSTART:20250309T070000
END:DAYLIGHT
BEGIN:STANDARD
TZOFFSETFROM:-0400
TZOFFSETTO:-0500
TZNAME:EST
DTSTART:20251102T060000
END:STANDARD
BEGIN:DAYLIGHT
TZOFFSETFROM:-0500
TZOFFSETTO:-0400
TZNAME:EDT
DTSTART:20260308T070000
END:DAYLIGHT
BEGIN:STANDARD
TZOFFSETFROM:-0400
TZOFFSETTO:-0500
TZNAME:EST
DTSTART:20261101T060000
END:STANDARD
BEGIN:DAYLIGHT
TZOFFSETFROM:-0500
TZOFFSETTO:-0400
TZNAME:EDT
DTSTART:20270314T070000
END:DAYLIGHT
BEGIN:STANDARD
TZOFFSETFROM:-0400
TZOFFSETTO:-0500
TZNAME:EST
DTSTART:20271107T060000
END:STANDARD
END:VTIMEZONE
BEGIN:VEVENT
DTSTART;VALUE=DATE:20260401
DTEND;VALUE=DATE:20260402
DTSTAMP:20260423T104042
CREATED:20260327T152620Z
LAST-MODIFIED:20260327T152620Z
UID:8346-1775001600-1775087999@www.barrettlibrary.org
SUMMARY:Tale on the Trail at Ice Lake
DESCRIPTION:Tale on the Trail at Ice Lake \nThis family-friendly feature is available all month long for a self-guided walk on the trail. \nVisit the Barrett Township Community Park at Ice Lake to embark on this family reading adventure! Follow the trail behind the pavilion and turn right. Enjoy a picture book as you stroll along the path. The path is about 0.12 miles from beginning to end\, and then you can continue around the lake or turn around to return to the pavilion. The trail is mostly flat\, but rough and rocky. Very young children may need help or prefer to ride in a rugged stroller.
URL:https://www.barrettlibrary.org/event/tale-on-the-trail-at-ice-lake-6/
END:VEVENT
BEGIN:VEVENT
DTSTART;TZID=America/New_York:20260401T103000
DTEND;TZID=America/New_York:20260401T113000
DTSTAMP:20260423T104042
CREATED:20260331T162251Z
LAST-MODIFIED:20260331T162251Z
UID:8358-1775039400-1775043000@www.barrettlibrary.org
SUMMARY:Shakespeare Group
DESCRIPTION:Join the entertaining & knowledgeable Pat Williams at the Library. All are welcome\, whether you’re a Bard beginner or a long-time devotee. Discuss plays\, watch films\, and more. Attendees will help guide the direction of the group. 
URL:https://www.barrettlibrary.org/event/shakespeare-group-46/
END:VEVENT
BEGIN:VEVENT
DTSTART;TZID=America/New_York:20260401T103000
DTEND;TZID=America/New_York:20260401T170000
DTSTAMP:20260423T104042
CREATED:20260327T141034Z
LAST-MODIFIED:20260327T141209Z
UID:8320-1775039400-1775062800@www.barrettlibrary.org
SUMMARY:Think Spring! Patron Art Show
DESCRIPTION:Think Spring! Patron Art Show \nFor Artists of All Ages! \nOpen to artists of all ages! Submit your original artwork to the library to be displayed in the children’s area. Please submit your art before April 15th. Drawing\, painting\, photography\, and sculptures will be accepted.  Submissions should be no larger than 12″x8”.
URL:https://www.barrettlibrary.org/event/think-spring-patron-art-show/
END:VEVENT
END:VCALENDAR