BEGIN:VCALENDAR
VERSION:2.0
PRODID:-//Barrett Paradise Friendly Library - ECPv6.15.20//NONSGML v1.0//EN
CALSCALE:GREGORIAN
METHOD:PUBLISH
X-WR-CALNAME:Barrett Paradise Friendly Library
X-ORIGINAL-URL:https://www.barrettlibrary.org
X-WR-CALDESC:Events for Barrett Paradise Friendly Library
REFRESH-INTERVAL;VALUE=DURATION:PT1H
X-Robots-Tag:noindex
X-PUBLISHED-TTL:PT1H
BEGIN:VTIMEZONE
TZID:America/New_York
BEGIN:DAYLIGHT
TZOFFSETFROM:-0500
TZOFFSETTO:-0400
TZNAME:EDT
DTSTART:20240310T070000
END:DAYLIGHT
BEGIN:STANDARD
TZOFFSETFROM:-0400
TZOFFSETTO:-0500
TZNAME:EST
DTSTART:20241103T060000
END:STANDARD
BEGIN:DAYLIGHT
TZOFFSETFROM:-0500
TZOFFSETTO:-0400
TZNAME:EDT
DTSTART:20250309T070000
END:DAYLIGHT
BEGIN:STANDARD
TZOFFSETFROM:-0400
TZOFFSETTO:-0500
TZNAME:EST
DTSTART:20251102T060000
END:STANDARD
BEGIN:DAYLIGHT
TZOFFSETFROM:-0500
TZOFFSETTO:-0400
TZNAME:EDT
DTSTART:20260308T070000
END:DAYLIGHT
BEGIN:STANDARD
TZOFFSETFROM:-0400
TZOFFSETTO:-0500
TZNAME:EST
DTSTART:20261101T060000
END:STANDARD
END:VTIMEZONE
BEGIN:VEVENT
DTSTART;TZID=America/New_York:20251030T103000
DTEND;TZID=America/New_York:20251030T113000
DTSTAMP:20260423T191316
CREATED:20250908T233223Z
LAST-MODIFIED:20250908T233223Z
UID:7698-1761820200-1761823800@www.barrettlibrary.org
SUMMARY:Library Story Time
DESCRIPTION:Library Story Time \nAges 0-5 \nThursdays in October \n10:30am \nJoin us in the children’s area for stories\, songs\, crafts\, and more!
URL:https://www.barrettlibrary.org/event/library-story-time-73/
END:VEVENT
BEGIN:VEVENT
DTSTART;TZID=America/New_York:20251029T180000
DTEND;TZID=America/New_York:20251029T190000
DTSTAMP:20260423T191316
CREATED:20250927T170201Z
LAST-MODIFIED:20250927T170201Z
UID:7763-1761760800-1761764400@www.barrettlibrary.org
SUMMARY:Handmade Christmas Cards
DESCRIPTION:Join Lisa Flanagan at the Library as she guides you through the fun craft of making your own handmade Christmas cards. We supply the materials. Space is limited: please register for this program.
URL:https://www.barrettlibrary.org/event/handmade-christmas-cards/
END:VEVENT
BEGIN:VEVENT
DTSTART;TZID=America/New_York:20251029T103000
DTEND;TZID=America/New_York:20251029T113000
DTSTAMP:20260423T191316
CREATED:20250927T163351Z
LAST-MODIFIED:20251001T164828Z
UID:7737-1761733800-1761737400@www.barrettlibrary.org
SUMMARY:Shakespeare Group
DESCRIPTION:The Bard is back! Join the entertaining & knowledgeable Pat Williams at the Library. All are welcome\, whether you’re a Bard beginner or a long-time devotee. Discuss plays\, watch films\, and more. Attendees will help guide the direction of the group.
URL:https://www.barrettlibrary.org/event/shakespeare-group-29/
END:VEVENT
BEGIN:VEVENT
DTSTART;TZID=America/New_York:20251028T190000
DTEND;TZID=America/New_York:20251028T200000
DTSTAMP:20260423T191316
CREATED:20250927T165938Z
LAST-MODIFIED:20250927T165938Z
UID:7761-1761678000-1761681600@www.barrettlibrary.org
SUMMARY:Virtual Evening Book Club
DESCRIPTION:Join our virtual Evening Book Club on Zoom. This month we will discuss The Women by Kristin Hannah. If you’re interested in joining\, please contact the Library for more details.
URL:https://www.barrettlibrary.org/event/virtual-evening-book-club-39/
END:VEVENT
BEGIN:VEVENT
DTSTART;TZID=America/New_York:20251028T103000
DTEND;TZID=America/New_York:20251028T110000
DTSTAMP:20260423T191316
CREATED:20250908T232902Z
LAST-MODIFIED:20250908T232902Z
UID:7690-1761647400-1761649200@www.barrettlibrary.org
SUMMARY:Baby & Me
DESCRIPTION:Baby & Me \nAges 0-2 \nTuesdays in October 10:30am \nA special story time for our youngest patrons and their grownups.  \nJoin us for stories\, songs\, and games! 
URL:https://www.barrettlibrary.org/event/baby-me-104/
END:VEVENT
BEGIN:VEVENT
DTSTART;TZID=America/New_York:20251027T100000
DTEND;TZID=America/New_York:20251027T110000
DTSTAMP:20260423T191316
CREATED:20250927T164534Z
LAST-MODIFIED:20250927T164534Z
UID:7746-1761559200-1761562800@www.barrettlibrary.org
SUMMARY:Mindful Meditation & Yoga
DESCRIPTION:Danielle Lane will guide you through relaxing meditation with light yoga or basic Pilates to start your day.
URL:https://www.barrettlibrary.org/event/mindful-meditation-yoga-39/
END:VEVENT
BEGIN:VEVENT
DTSTART;TZID=America/New_York:20251023T140000
DTEND;TZID=America/New_York:20251023T150000
DTSTAMP:20260423T191316
CREATED:20250927T165235Z
LAST-MODIFIED:20250927T165235Z
UID:7757-1761228000-1761231600@www.barrettlibrary.org
SUMMARY:Link up with Libby
DESCRIPTION:Come to the library with your smart phone or tablet\, and we will help you download and navigate the Libby app! Borrow digital books\, magazines\, and audiobooks with this easy-to-use resource. No registration required for this program.
URL:https://www.barrettlibrary.org/event/link-up-with-libby/
END:VEVENT
BEGIN:VEVENT
DTSTART;TZID=America/New_York:20251023T103000
DTEND;TZID=America/New_York:20251023T113000
DTSTAMP:20260423T191316
CREATED:20250908T233315Z
LAST-MODIFIED:20250908T233315Z
UID:7700-1761215400-1761219000@www.barrettlibrary.org
SUMMARY:Library Story Time
DESCRIPTION:Library Story Time \nAges 0-5 \nThursdays in October \n10:30am \nJoin us in the children’s area for stories\, songs\, crafts\, and more!
URL:https://www.barrettlibrary.org/event/library-story-time-74/
END:VEVENT
BEGIN:VEVENT
DTSTART;TZID=America/New_York:20251022T103000
DTEND;TZID=America/New_York:20251022T113000
DTSTAMP:20260423T191316
CREATED:20250927T163219Z
LAST-MODIFIED:20251001T164752Z
UID:7735-1761129000-1761132600@www.barrettlibrary.org
SUMMARY:Shakespeare Group
DESCRIPTION:The Bard is back! Join the entertaining & knowledgeable Pat Williams at the Library. All are welcome\, whether you’re a Bard beginner or a long-time devotee. Discuss plays\, watch films\, and more. Attendees will help guide the direction of the group.
URL:https://www.barrettlibrary.org/event/shakespeare-group-28/
END:VEVENT
BEGIN:VEVENT
DTSTART;TZID=America/New_York:20251021T130000
DTEND;TZID=America/New_York:20251021T140000
DTSTAMP:20260423T191316
CREATED:20250927T165838Z
LAST-MODIFIED:20250927T165838Z
UID:7759-1761051600-1761055200@www.barrettlibrary.org
SUMMARY:Afternoon Book Club
DESCRIPTION:Our Afternoon Book Club meets at the Library. An option to join with Zoom is available\, as well. This month we will discuss Rebecca by Daphne du Maurier. If you’re interested in joining\, please contact the Library for more details.
URL:https://www.barrettlibrary.org/event/afternoon-book-club-28/
END:VEVENT
BEGIN:VEVENT
DTSTART;TZID=America/New_York:20251021T103000
DTEND;TZID=America/New_York:20251021T110000
DTSTAMP:20260423T191316
CREATED:20250908T232706Z
LAST-MODIFIED:20250908T232706Z
UID:7688-1761042600-1761044400@www.barrettlibrary.org
SUMMARY:Baby & Me
DESCRIPTION:Baby & Me \nAges 0-2 \nTuesdays in October 10:30am \nA special story time for our youngest patrons and their grownups.  \nJoin us for stories\, songs\, and games! 
URL:https://www.barrettlibrary.org/event/baby-me-103/
END:VEVENT
BEGIN:VEVENT
DTSTART;TZID=America/New_York:20251020T100000
DTEND;TZID=America/New_York:20251020T110000
DTSTAMP:20260423T191316
CREATED:20250927T164444Z
LAST-MODIFIED:20250927T164444Z
UID:7743-1760954400-1760958000@www.barrettlibrary.org
SUMMARY:Mindful Meditation & Yoga
DESCRIPTION:Danielle Lane will guide you through relaxing meditation with light yoga or basic Pilates to start your day.
URL:https://www.barrettlibrary.org/event/mindful-meditation-yoga-38/
END:VEVENT
BEGIN:VEVENT
DTSTART;VALUE=DATE:20251020
DTEND;VALUE=DATE:20251021
DTSTAMP:20260423T191316
CREATED:20250927T165128Z
LAST-MODIFIED:20250927T165128Z
UID:7755-1760918400-1761004799@www.barrettlibrary.org
SUMMARY:Adult Take-Home Kit: Apple Bread in a Jar
DESCRIPTION:It’s apple-picking season\, and we have a tasty recipe for you to try. Apple bread in a jar! We supply the dry ingredients needed. This recipe will require a few ingredients from home. You must register to receive a kit. Supplies will be available for pickup beginning Monday\, October 20. 
URL:https://www.barrettlibrary.org/event/adult-take-home-kit-apple-bread-in-a-jar-2/
END:VEVENT
BEGIN:VEVENT
DTSTART;TZID=America/New_York:20251018T130000
DTEND;TZID=America/New_York:20251018T150000
DTSTAMP:20260423T191316
CREATED:20250819T172251Z
LAST-MODIFIED:20250819T172829Z
UID:7641-1760792400-1760799600@www.barrettlibrary.org
SUMMARY:Treats on the Trail at Ice Lake
DESCRIPTION:Treats on the Trail \nAll Ages \nSaturday\, October 18th 1pm-3pm \nTrick-or-treat down the trail at Ice Lake\n& then pick a pumpkin to\npaint from our pumpkin patch! \nAll Ages Welcome\nRegistration Required 570-595-7171
URL:https://www.barrettlibrary.org/event/treats-on-the-trail-at-ice-lake/
END:VEVENT
BEGIN:VEVENT
DTSTART;TZID=America/New_York:20251016T103000
DTEND;TZID=America/New_York:20251016T110000
DTSTAMP:20260423T191316
CREATED:20250908T233141Z
LAST-MODIFIED:20250908T233141Z
UID:7696-1760610600-1760612400@www.barrettlibrary.org
SUMMARY:Library Story Time
DESCRIPTION:Library Story Time \nAges 0-5 \nThursdays in October \n10:30am \nJoin us in the children’s area for stories\, songs\, crafts\, and more!
URL:https://www.barrettlibrary.org/event/library-story-time-72/
END:VEVENT
BEGIN:VEVENT
DTSTART;TZID=America/New_York:20251015T103000
DTEND;TZID=America/New_York:20251015T113000
DTSTAMP:20260423T191316
CREATED:20250927T163045Z
LAST-MODIFIED:20251001T164714Z
UID:7733-1760524200-1760527800@www.barrettlibrary.org
SUMMARY:Shakespeare Group
DESCRIPTION:The Bard is back! Join the entertaining & knowledgeable Pat Williams at the Library. All are welcome\, whether you’re a Bard beginner or a long-time devotee. Discuss plays\, watch films\, and more. Attendees will help guide the direction of the group.
URL:https://www.barrettlibrary.org/event/shakespeare-group-27/
END:VEVENT
BEGIN:VEVENT
DTSTART;TZID=America/New_York:20251015T103000
DTEND;TZID=America/New_York:20251015T113000
DTSTAMP:20260423T191316
CREATED:20250908T233416Z
LAST-MODIFIED:20250908T233416Z
UID:7702-1760524200-1760527800@www.barrettlibrary.org
SUMMARY:Mod Podge Pumpkins
DESCRIPTION:Mod Podge Pumpkins \nAll Ages – Family Program \nWednesday\, October 15th 10:30am \nCome to the library for a fun and easy fall craft! We will provide all of the supplies for you to create your very own decorative mod podge pumpkins. Registration is required.
URL:https://www.barrettlibrary.org/event/mod-podge-pumpkins/
END:VEVENT
BEGIN:VEVENT
DTSTART;TZID=America/New_York:20251014T103000
DTEND;TZID=America/New_York:20251014T110000
DTSTAMP:20260423T191316
CREATED:20250908T232305Z
LAST-MODIFIED:20250908T232305Z
UID:7686-1760437800-1760439600@www.barrettlibrary.org
SUMMARY:Baby & Me
DESCRIPTION:Baby & Me \nAges 0-2 \nTuesdays in October 10:30am \nA special story time for our youngest patrons and their grownups.  \nJoin us for stories\, songs\, and games! 
URL:https://www.barrettlibrary.org/event/baby-me-102/
END:VEVENT
BEGIN:VEVENT
DTSTART;TZID=America/New_York:20251013T100000
DTEND;TZID=America/New_York:20251013T110000
DTSTAMP:20260423T191316
CREATED:20250927T164046Z
LAST-MODIFIED:20250927T164046Z
UID:7741-1760349600-1760353200@www.barrettlibrary.org
SUMMARY:Mindful Meditation & Yoga
DESCRIPTION:Danielle Lane will guide you through relaxing meditation with light yoga or basic Pilates to start your day.
URL:https://www.barrettlibrary.org/event/mindful-meditation-yoga-37/
END:VEVENT
BEGIN:VEVENT
DTSTART;TZID=America/New_York:20251011T100000
DTEND;TZID=America/New_York:20251011T110000
DTSTAMP:20260423T191316
CREATED:20250927T164926Z
LAST-MODIFIED:20250927T164926Z
UID:7751-1760176800-1760180400@www.barrettlibrary.org
SUMMARY:Sit & Stitch
DESCRIPTION:Do you enjoy knitting\, crochet\, tatting\, embroidery\, or other fiber arts? Our monthly Sit & Stitch group is for all levels of crafters. We meet on the 2nd Saturday of the month at 10am. Bring projects to work on and enjoy each other’s company. No formal instruction or supplies provided\, just experience and support from others in the group.
URL:https://www.barrettlibrary.org/event/sit-stitch-9/
END:VEVENT
BEGIN:VEVENT
DTSTART;TZID=America/New_York:20251009T183000
DTEND;TZID=America/New_York:20251009T193000
DTSTAMP:20260423T191316
CREATED:20250927T165039Z
LAST-MODIFIED:20250927T165039Z
UID:7753-1760034600-1760038200@www.barrettlibrary.org
SUMMARY:Virtual Writing Group
DESCRIPTION:Join us on Zoom to discuss the art of writing while sharing work with the group. This month we will focus on narrative nonfiction. If you’re interested in joining\, please contact Lynn for more details.
URL:https://www.barrettlibrary.org/event/virtual-writing-group-46/
END:VEVENT
BEGIN:VEVENT
DTSTART;TZID=America/New_York:20251009T103000
DTEND;TZID=America/New_York:20251009T110000
DTSTAMP:20260423T191316
CREATED:20250908T233047Z
LAST-MODIFIED:20250908T233047Z
UID:7694-1760005800-1760007600@www.barrettlibrary.org
SUMMARY:Library Story Time
DESCRIPTION:Library Story Time \nAges 0-5 \nThursdays in October \n10:30am \nJoin us in the children’s area for stories\, songs\, crafts\, and more!
URL:https://www.barrettlibrary.org/event/library-story-time-71/
END:VEVENT
BEGIN:VEVENT
DTSTART;TZID=America/New_York:20251008T103000
DTEND;TZID=America/New_York:20251008T113000
DTSTAMP:20260423T191316
CREATED:20250927T162932Z
LAST-MODIFIED:20251001T164619Z
UID:7731-1759919400-1759923000@www.barrettlibrary.org
SUMMARY:Shakespeare Group
DESCRIPTION:The Bard is back! Join the entertaining & knowledgeable Pat Williams at the Library. All are welcome\, whether you’re a Bard beginner or a long-time devotee. Discuss plays\, watch films\, and more. Attendees will help guide the direction of the group.
URL:https://www.barrettlibrary.org/event/shakespeare-group-26/
END:VEVENT
BEGIN:VEVENT
DTSTART;TZID=America/New_York:20251007T130000
DTEND;TZID=America/New_York:20251007T150000
DTSTAMP:20260423T191316
CREATED:20250927T164822Z
LAST-MODIFIED:20250927T164822Z
UID:7748-1759842000-1759849200@www.barrettlibrary.org
SUMMARY:Movie Day at the Library
DESCRIPTION:Come to the Library the first Tuesday of each month to watch a feature film with friends. This month we will watch a classic. Join us for Alfred Hitchcock’s Rebecca\, starring Laurence Olivier and Joan Fontaine. \n  \nStory of a young woman who marries a fascinating widower only to find out that she must live in the shadow of his former wife\, Rebecca\, who died mysteriously several years earlier. The young wife must come to grips with the terrible secret of her handsome\, cold husband\, Max De Winter (Laurence Olivier). She must also deal with the jealous\, obsessed Mrs. Danvers (Judith Anderson)\, the housekeeper\, who will not accept her as the mistress of the house. \n 
URL:https://www.barrettlibrary.org/event/movie-day-at-the-library-34/
END:VEVENT
BEGIN:VEVENT
DTSTART;TZID=America/New_York:20251007T103000
DTEND;TZID=America/New_York:20251007T110000
DTSTAMP:20260423T191316
CREATED:20250908T232156Z
LAST-MODIFIED:20250908T232156Z
UID:7684-1759833000-1759834800@www.barrettlibrary.org
SUMMARY:Baby & Me
DESCRIPTION:Baby & Me \nAges 0-2 \nTuesdays in October 10:30am \nA special story time for our youngest patrons and their grownups.  \nJoin us for stories\, songs\, and games! 
URL:https://www.barrettlibrary.org/event/baby-me-101/
END:VEVENT
BEGIN:VEVENT
DTSTART;TZID=America/New_York:20251006T100000
DTEND;TZID=America/New_York:20251006T110000
DTSTAMP:20260423T191316
CREATED:20250927T163929Z
LAST-MODIFIED:20251006T132415Z
UID:7739-1759744800-1759748400@www.barrettlibrary.org
SUMMARY:CANCELLED: Mindful Meditation & Yoga
DESCRIPTION:10/6/25: Mindful Meditation & Yoga class is cancelled today 🙁 Please join us again next Monday! \nDanielle Lane will guide you through relaxing meditation with light yoga or basic Pilates to start your day.
URL:https://www.barrettlibrary.org/event/mindful-meditation-yoga-36/
END:VEVENT
BEGIN:VEVENT
DTSTART;TZID=America/New_York:20251003T103000
DTEND;TZID=America/New_York:20251003T113000
DTSTAMP:20260423T191316
CREATED:20250908T233759Z
LAST-MODIFIED:20250908T233759Z
UID:7706-1759487400-1759491000@www.barrettlibrary.org
SUMMARY:Fan Club Friday: Bluey
DESCRIPTION:Fan Club Friday: Bluey \nAges 2-8 \nFriday\, October 3rd 10:30am \nJoin us for an informal program all about Bluey! We will have books\, toys\, and activities featuring the Heelers!  \nRegistration encouraged.
URL:https://www.barrettlibrary.org/event/fan-club-friday-bluey/
END:VEVENT
BEGIN:VEVENT
DTSTART;TZID=America/New_York:20251002T103000
DTEND;TZID=America/New_York:20251002T110000
DTSTAMP:20260423T191316
CREATED:20250908T233018Z
LAST-MODIFIED:20250908T233018Z
UID:7692-1759401000-1759402800@www.barrettlibrary.org
SUMMARY:Library Story Time
DESCRIPTION:Library Story Time \nAges 0-5 \nThursdays in October \n10:30am \nJoin us in the children’s area for stories\, songs\, crafts\, and more!
URL:https://www.barrettlibrary.org/event/library-story-time-70/
END:VEVENT
BEGIN:VEVENT
DTSTART;TZID=America/New_York:20251001T100000
DTEND;TZID=America/New_York:20251001T110000
DTSTAMP:20260423T191316
CREATED:20250927T162814Z
LAST-MODIFIED:20250927T162814Z
UID:7729-1759312800-1759316400@www.barrettlibrary.org
SUMMARY:Shakespeare Group
DESCRIPTION:The Bard is back! Join the entertaining & knowledgeable Pat Williams at the Library. All are welcome\, whether you’re a Bard beginner or a long-time devotee. Discuss plays\, watch films\, and more. Attendees will help guide the direction of the group.
URL:https://www.barrettlibrary.org/event/shakespeare-group-25/
END:VEVENT
BEGIN:VEVENT
DTSTART;TZID=America/New_York:20250930T103000
DTEND;TZID=America/New_York:20250930T110000
DTSTAMP:20260423T191316
CREATED:20250811T225030Z
LAST-MODIFIED:20250811T225030Z
UID:7626-1759228200-1759230000@www.barrettlibrary.org
SUMMARY:Baby & Me
DESCRIPTION:Baby & Me \nAges 0-2 \nTuesdays in September 10:30am \nA special story time for our youngest patrons and their grownups.  \nJoin us for stories\, songs\, and games!
URL:https://www.barrettlibrary.org/event/baby-me-100/
END:VEVENT
END:VCALENDAR