BEGIN:VCALENDAR
VERSION:2.0
PRODID:-//Barrett Paradise Friendly Library - ECPv6.15.20//NONSGML v1.0//EN
CALSCALE:GREGORIAN
METHOD:PUBLISH
X-WR-CALNAME:Barrett Paradise Friendly Library
X-ORIGINAL-URL:https://www.barrettlibrary.org
X-WR-CALDESC:Events for Barrett Paradise Friendly Library
REFRESH-INTERVAL;VALUE=DURATION:PT1H
X-Robots-Tag:noindex
X-PUBLISHED-TTL:PT1H
BEGIN:VTIMEZONE
TZID:America/New_York
BEGIN:DAYLIGHT
TZOFFSETFROM:-0500
TZOFFSETTO:-0400
TZNAME:EDT
DTSTART:20240310T070000
END:DAYLIGHT
BEGIN:STANDARD
TZOFFSETFROM:-0400
TZOFFSETTO:-0500
TZNAME:EST
DTSTART:20241103T060000
END:STANDARD
BEGIN:DAYLIGHT
TZOFFSETFROM:-0500
TZOFFSETTO:-0400
TZNAME:EDT
DTSTART:20250309T070000
END:DAYLIGHT
BEGIN:STANDARD
TZOFFSETFROM:-0400
TZOFFSETTO:-0500
TZNAME:EST
DTSTART:20251102T060000
END:STANDARD
BEGIN:DAYLIGHT
TZOFFSETFROM:-0500
TZOFFSETTO:-0400
TZNAME:EDT
DTSTART:20260308T070000
END:DAYLIGHT
BEGIN:STANDARD
TZOFFSETFROM:-0400
TZOFFSETTO:-0500
TZNAME:EST
DTSTART:20261101T060000
END:STANDARD
END:VTIMEZONE
BEGIN:VEVENT
DTSTART;TZID=America/New_York:20251113T103000
DTEND;TZID=America/New_York:20251113T113000
DTSTAMP:20260423T191150
CREATED:20251021T171552Z
LAST-MODIFIED:20251021T171552Z
UID:7791-1763029800-1763033400@www.barrettlibrary.org
SUMMARY:Library Story Time
DESCRIPTION:Library Story Time \nAges 0-5 \nThursdays in November 10:30am \nJoin us in the children’s area for stories\, songs\, crafts\, and more!
URL:https://www.barrettlibrary.org/event/library-story-time-76/
END:VEVENT
BEGIN:VEVENT
DTSTART;TZID=America/New_York:20251113T183000
DTEND;TZID=America/New_York:20251113T193000
DTSTAMP:20260423T191150
CREATED:20251101T140946Z
LAST-MODIFIED:20251101T140946Z
UID:7814-1763058600-1763062200@www.barrettlibrary.org
SUMMARY:Virtual Writing Group: Ready to Write a Novel?
DESCRIPTION:Join us on Zoom to discuss the art of writing while sharing work with the group. This month we will continue to focus on genre\, writing a western\, but we have big plans for 2026! Everyone in the group will work on a novel\, from brainstorming to revising. More details to come. If you’re interested in joining for novel writing in 2026\, please contact Lynn for more details.
URL:https://www.barrettlibrary.org/event/virtual-writing-group-ready-to-write-a-novel/
END:VEVENT
BEGIN:VEVENT
DTSTART;VALUE=DATE:20251117
DTEND;VALUE=DATE:20251118
DTSTAMP:20260423T191150
CREATED:20251101T141514Z
LAST-MODIFIED:20251101T141514Z
UID:7816-1763337600-1763423999@www.barrettlibrary.org
SUMMARY:Adult Take-Home Kit: Thanksgiving Centerpieces
DESCRIPTION:Bring your creative skills to your Thanksgiving table with a centerpiece all your own. We supply the materials. You must register to receive a kit. Supplies will be available for pickup beginning Monday\, November 17.
URL:https://www.barrettlibrary.org/event/adult-take-home-kit-thanksgiving-centerpieces/
END:VEVENT
BEGIN:VEVENT
DTSTART;TZID=America/New_York:20251117T100000
DTEND;TZID=America/New_York:20251117T110000
DTSTAMP:20260423T191150
CREATED:20251101T143351Z
LAST-MODIFIED:20251101T143351Z
UID:7826-1763373600-1763377200@www.barrettlibrary.org
SUMMARY:Mindful Meditation & Yoga
DESCRIPTION:Danielle Lane will guide you through relaxing meditation with light yoga or beginner Pilates to start your day. 
URL:https://www.barrettlibrary.org/event/mindful-meditation-yoga-42/
END:VEVENT
BEGIN:VEVENT
DTSTART;TZID=America/New_York:20251117T180000
DTEND;TZID=America/New_York:20251117T190000
DTSTAMP:20260423T191150
CREATED:20251021T174447Z
LAST-MODIFIED:20251023T155856Z
UID:7798-1763402400-1763406000@www.barrettlibrary.org
SUMMARY:Family Science: Cranberry Sauce
DESCRIPTION:Family Science: Cranberry Sauce \nMonday\, November 17th 6pm \nFamily Program \nOpen to families with children of all ages. \nJoin us in the Weiler Room to make two yummy side dishes for your Thanksgiving Feast!
URL:https://www.barrettlibrary.org/event/family-science-cranberry-sauce/
END:VEVENT
BEGIN:VEVENT
DTSTART;TZID=America/New_York:20251118T103000
DTEND;TZID=America/New_York:20251118T110000
DTSTAMP:20260423T191150
CREATED:20251021T171135Z
LAST-MODIFIED:20251021T171135Z
UID:7785-1763461800-1763463600@www.barrettlibrary.org
SUMMARY:Baby & Me
DESCRIPTION:Baby & Me \nAges 0-2 \nTuesdays in November 10:30am \nA special story time for our youngest patrons and their grownups.  \nJoin us for stories\, songs\, and games!
URL:https://www.barrettlibrary.org/event/baby-me-107/
END:VEVENT
BEGIN:VEVENT
DTSTART;TZID=America/New_York:20251119T103000
DTEND;TZID=America/New_York:20251119T113000
DTSTAMP:20260423T191150
CREATED:20251101T143853Z
LAST-MODIFIED:20251101T143853Z
UID:7834-1763548200-1763551800@www.barrettlibrary.org
SUMMARY:Shakespeare
DESCRIPTION:Join the entertaining & knowledgeable Pat Williams at the Library. All are welcome\, whether you’re a Bard beginner or a long-time devotee. Discuss plays\, watch films\, and more. Attendees will help guide the direction of the group.
URL:https://www.barrettlibrary.org/event/shakespeare-2/
END:VEVENT
BEGIN:VEVENT
DTSTART;TZID=America/New_York:20251120T103000
DTEND;TZID=America/New_York:20251120T113000
DTSTAMP:20260423T191150
CREATED:20251021T174046Z
LAST-MODIFIED:20251021T174053Z
UID:7793-1763634600-1763638200@www.barrettlibrary.org
SUMMARY:Library Story Time
DESCRIPTION:Library Story Time \nAges 0-5 \nThursdays in November 10:30am \nJoin us in the children’s area for stories\, songs\, crafts\, and more!
URL:https://www.barrettlibrary.org/event/library-story-time-77/
END:VEVENT
BEGIN:VEVENT
DTSTART;TZID=America/New_York:20251120T140000
DTEND;TZID=America/New_York:20251120T150000
DTSTAMP:20260423T191150
CREATED:20251101T142627Z
LAST-MODIFIED:20251101T142627Z
UID:7818-1763647200-1763650800@www.barrettlibrary.org
SUMMARY:Build Your Skills with Brainfuse
DESCRIPTION:Come to the library to learn about Brainfuse\, a resource the Library provides for free. Brainfuse is great for students who need tutoring\, help with FAFSA\, help with SATs and ACTs\, and so much more! Adults benefit\, too\, with help building a resume\, job searching\, studying for the GED\, and more. No registration required for this program.
URL:https://www.barrettlibrary.org/event/build-your-skills-with-brainfuse/
END:VEVENT
BEGIN:VEVENT
DTSTART;VALUE=DATE:20251124
DTEND;VALUE=DATE:20251125
DTSTAMP:20260423T191150
CREATED:20251102T203410Z
LAST-MODIFIED:20251102T203410Z
UID:7846-1763942400-1764028799@www.barrettlibrary.org
SUMMARY:Basket Raffle Begins!
DESCRIPTION:Check back soon for details.
URL:https://www.barrettlibrary.org/event/basket-raffle-begins-2/
END:VEVENT
BEGIN:VEVENT
DTSTART;TZID=America/New_York:20251124T100000
DTEND;TZID=America/New_York:20251124T110000
DTSTAMP:20260423T191150
CREATED:20251101T143510Z
LAST-MODIFIED:20251101T143510Z
UID:7828-1763978400-1763982000@www.barrettlibrary.org
SUMMARY:Mindful Meditation & Yoga
DESCRIPTION:Danielle Lane will guide you through relaxing meditation with light yoga or beginner Pilates to start your day. 
URL:https://www.barrettlibrary.org/event/mindful-meditation-yoga-43/
END:VEVENT
BEGIN:VEVENT
DTSTART;TZID=America/New_York:20251125T103000
DTEND;TZID=America/New_York:20251125T110000
DTSTAMP:20260423T191150
CREATED:20251021T171351Z
LAST-MODIFIED:20251021T171351Z
UID:7787-1764066600-1764068400@www.barrettlibrary.org
SUMMARY:Baby & Me
DESCRIPTION:Baby & Me \nAges 0-2 \nTuesdays in November 10:30am \nA special story time for our youngest patrons and their grownups.  \nJoin us for stories\, songs\, and games!
URL:https://www.barrettlibrary.org/event/baby-me-108/
END:VEVENT
BEGIN:VEVENT
DTSTART;TZID=America/New_York:20251125T190000
DTEND;TZID=America/New_York:20251125T200000
DTSTAMP:20260423T191150
CREATED:20251101T142954Z
LAST-MODIFIED:20251101T142954Z
UID:7820-1764097200-1764100800@www.barrettlibrary.org
SUMMARY:Virtual Evening Book Club
DESCRIPTION:Join our virtual Evening Book Club on Zoom. This month we will discuss Orbital by Samantha Harvey. If you’re interested in joining\, please contact the Library for more details.
URL:https://www.barrettlibrary.org/event/virtual-evening-book-club-40/
END:VEVENT
BEGIN:VEVENT
DTSTART;VALUE=DATE:20251126
DTEND;VALUE=DATE:20251127
DTSTAMP:20260423T191150
CREATED:20251101T143954Z
LAST-MODIFIED:20251119T160913Z
UID:7836-1764115200-1764201599@www.barrettlibrary.org
SUMMARY:NO Shakespeare Nov 26
DESCRIPTION:Due to the Thanksgiving holiday\, the Shakespeare group will NOT meet on Wed\, Nov. 26.  \nJoin the entertaining & knowledgeable Pat Williams at the Library. All are welcome\, whether you’re a Bard beginner or a long-time devotee. Discuss plays\, watch films\, and more. Attendees will help guide the direction of the group.
URL:https://www.barrettlibrary.org/event/shakespeare-3/
END:VEVENT
BEGIN:VEVENT
DTSTART;TZID=America/New_York:20251126T170000
DTEND;TZID=America/New_York:20251126T200000
DTSTAMP:20260423T191150
CREATED:20251115T192424Z
LAST-MODIFIED:20251115T192424Z
UID:7885-1764176400-1764187200@www.barrettlibrary.org
SUMMARY:Library Closing at 5pm Today
DESCRIPTION:The library will be closing at 5pm for the holiday. \nHave a safe and Happy Thanksgiving!
URL:https://www.barrettlibrary.org/event/library-closing-at-5pm-today/
END:VEVENT
BEGIN:VEVENT
DTSTART;VALUE=DATE:20251127
DTEND;VALUE=DATE:20251128
DTSTAMP:20260423T191150
CREATED:20251021T174237Z
LAST-MODIFIED:20251021T174237Z
UID:7795-1764201600-1764287999@www.barrettlibrary.org
SUMMARY:Library Closed - Happy Thanksgiving
DESCRIPTION:The Library is closed today.  \nHave a Happy Thanksgiving!
URL:https://www.barrettlibrary.org/event/library-closed-happy-thanksgiving-2/
END:VEVENT
BEGIN:VEVENT
DTSTART;TZID=America/New_York:20251201T114500
DTEND;TZID=America/New_York:20251201T124500
DTSTAMP:20260423T191150
CREATED:20251129T163114Z
LAST-MODIFIED:20251129T200707Z
UID:7901-1764589500-1764593100@www.barrettlibrary.org
SUMMARY:Light Yoga & Beginner Pilates (NEW TIME)
DESCRIPTION:Danielle Lane will guide you through relaxing light yoga or beginner Pilates to start your day.
URL:https://www.barrettlibrary.org/event/light-yoga-beginner-pilates/
END:VEVENT
BEGIN:VEVENT
DTSTART;VALUE=DATE:20251202
DTEND;VALUE=DATE:20251203
DTSTAMP:20260423T191150
CREATED:20251202T132303Z
LAST-MODIFIED:20251202T132303Z
UID:7974-1764633600-1764719999@www.barrettlibrary.org
SUMMARY:LIBRARY CLOSED TODAY
DESCRIPTION:The Library is CLOSED TODAY due to the weather. \nStay safe and warm! Curl up with a good book and/or explore our digital resources 🙂
URL:https://www.barrettlibrary.org/event/library-closed-today-2/
END:VEVENT
BEGIN:VEVENT
DTSTART;TZID=America/New_York:20251202T103000
DTEND;TZID=America/New_York:20251202T110000
DTSTAMP:20260423T191150
CREATED:20251113T181706Z
LAST-MODIFIED:20251113T182246Z
UID:7857-1764671400-1764673200@www.barrettlibrary.org
SUMMARY:Baby & Me
DESCRIPTION:Baby & Me\nAges 0-2\nTuesdays in December 10:30am\nA special story time for our youngest patrons and their grownups.\nJoin us for stories\, songs\, and games!
URL:https://www.barrettlibrary.org/event/baby-me-109/
END:VEVENT
BEGIN:VEVENT
DTSTART;TZID=America/New_York:20251202T130000
DTEND;TZID=America/New_York:20251202T150000
DTSTAMP:20260423T191150
CREATED:20251101T144311Z
LAST-MODIFIED:20251101T144311Z
UID:7839-1764680400-1764687600@www.barrettlibrary.org
SUMMARY:Movie Day at the Library
DESCRIPTION:Come to the Library the first Tuesday of each month to watch a feature film with friends. Join us for Miracle on 34th Street\, starring Maureen O’Hara and Natalie Wood.
URL:https://www.barrettlibrary.org/event/movie-day-at-the-library-36/
END:VEVENT
BEGIN:VEVENT
DTSTART;TZID=America/New_York:20251203T100000
DTEND;TZID=America/New_York:20251203T120000
DTSTAMP:20260423T191150
CREATED:20251129T163713Z
LAST-MODIFIED:20251203T132523Z
UID:7911-1764756000-1764763200@www.barrettlibrary.org
SUMMARY:CANCELLED: Shakespeare Group
DESCRIPTION:WED\, DEC 3: THE SHAKESPEARE GROUP IS CANCELLED TODAY. See you next week 🙂 \nJoin the entertaining & knowledgeable Pat Williams at the Library. All are welcome\, whether you’re a Bard beginner or a long-time devotee. Discuss plays\, watch films\, and more. Attendees will help guide the direction of the group. NOTE: The December 3 session will begin at 10:00 am to watch a film. All other Wednesday Shakespeare programs in December will begin at 10:30 am.
URL:https://www.barrettlibrary.org/event/shakespeare-group-31/
END:VEVENT
BEGIN:VEVENT
DTSTART;TZID=America/New_York:20251204T103000
DTEND;TZID=America/New_York:20251204T113000
DTSTAMP:20260423T191150
CREATED:20251113T183708Z
LAST-MODIFIED:20251113T183708Z
UID:7873-1764844200-1764847800@www.barrettlibrary.org
SUMMARY:Library Story Time
DESCRIPTION:Library Story Time \nAges 0-5 \nThursdays in December 10:30am \nJoin us in the children’s area for stories\, songs\, crafts\, and more!
URL:https://www.barrettlibrary.org/event/library-story-time-78/
END:VEVENT
BEGIN:VEVENT
DTSTART;TZID=America/New_York:20251205T103000
DTEND;TZID=America/New_York:20251205T113000
DTSTAMP:20260423T191150
CREATED:20251115T181551Z
LAST-MODIFIED:20251115T181551Z
UID:7881-1764930600-1764934200@www.barrettlibrary.org
SUMMARY:Fan Club Friday: Royal Prince and Princess Party
DESCRIPTION:Fan Club Friday: Royal Prince and Princess Party \nAges 2-8 \nFriday\, December 5th 10:30am \nJoin us for an informal program all about your favorite princes and princesses! We will have books\, activities\, and games featuring popular royal characters. Registration required.
URL:https://www.barrettlibrary.org/event/fan-club-friday-royal-prince-and-princess-party/
END:VEVENT
BEGIN:VEVENT
DTSTART;TZID=America/New_York:20251208T114500
DTEND;TZID=America/New_York:20251208T124500
DTSTAMP:20260423T191150
CREATED:20251129T163203Z
LAST-MODIFIED:20251208T151934Z
UID:7903-1765194300-1765197900@www.barrettlibrary.org
SUMMARY:CANCELLED TODAY: Light Yoga & Beginner Pilates (NEW TIME)
DESCRIPTION:Danielle Lane will guide you through relaxing light yoga or beginner Pilates to start your day.
URL:https://www.barrettlibrary.org/event/light-yoga-beginner-pilates-2/
END:VEVENT
BEGIN:VEVENT
DTSTART;TZID=America/New_York:20251209T103000
DTEND;TZID=America/New_York:20251209T110000
DTSTAMP:20260423T191150
CREATED:20251113T181839Z
LAST-MODIFIED:20251113T182359Z
UID:7859-1765276200-1765278000@www.barrettlibrary.org
SUMMARY:Baby & Me
DESCRIPTION:Baby & Me \nAges 0-2 \nTuesdays in December 10:30am \nA special story time for our youngest patrons and their grownups.  \nJoin us for stories\, songs\, and games!
URL:https://www.barrettlibrary.org/event/baby-me-110/
END:VEVENT
BEGIN:VEVENT
DTSTART;TZID=America/New_York:20251210T103000
DTEND;TZID=America/New_York:20251210T113000
DTSTAMP:20260423T191150
CREATED:20251129T163919Z
LAST-MODIFIED:20251210T130618Z
UID:7913-1765362600-1765366200@www.barrettlibrary.org
SUMMARY:CANCELLED TODAY: Shakespeare Group
DESCRIPTION:WED\, DEC 10: Due to the weather\, the Shakespeare Group will not meet today. Stay safe and warm! See you in January (no other sessions are planned for December)  🙂 \nJoin the entertaining & knowledgeable Pat Williams at the Library. All are welcome\, whether you’re a Bard beginner or a long-time devotee. Discuss plays\, watch films\, and more. Attendees will help guide the direction of the group.
URL:https://www.barrettlibrary.org/event/shakespeare-group-32/
END:VEVENT
BEGIN:VEVENT
DTSTART;TZID=America/New_York:20251211T103000
DTEND;TZID=America/New_York:20251211T113000
DTSTAMP:20260423T191150
CREATED:20251114T160125Z
LAST-MODIFIED:20251114T160125Z
UID:7877-1765449000-1765452600@www.barrettlibrary.org
SUMMARY:Library Story Time
DESCRIPTION:Library Story Time \nAges 0-5 \nThursdays in December 10:30am \nJoin us in the children’s area for stories\, songs\, crafts\, and more!
URL:https://www.barrettlibrary.org/event/library-story-time-80/
END:VEVENT
BEGIN:VEVENT
DTSTART;VALUE=DATE:20251213
DTEND;VALUE=DATE:20251214
DTSTAMP:20260423T191150
CREATED:20251102T203520Z
LAST-MODIFIED:20251102T203520Z
UID:7848-1765584000-1765670399@www.barrettlibrary.org
SUMMARY:Basket Raffle Ends
DESCRIPTION:Check back soon for details.
URL:https://www.barrettlibrary.org/event/basket-raffle-ends-2/
END:VEVENT
BEGIN:VEVENT
DTSTART;TZID=America/New_York:20251213T100000
DTEND;TZID=America/New_York:20251213T110000
DTSTAMP:20260423T191150
CREATED:20251129T165430Z
LAST-MODIFIED:20251129T165430Z
UID:7917-1765620000-1765623600@www.barrettlibrary.org
SUMMARY:Sit & Stitch
DESCRIPTION:Do you enjoy knitting\, crochet\, tatting\, embroidery\, or other fiber arts? Our monthly Sit & Stitch group is for all levels of crafters. Bring projects to work on and enjoy each other’s company. No formal instruction or supplies provided\, just experience and support from others in the group.
URL:https://www.barrettlibrary.org/event/sit-stitch-11/
END:VEVENT
BEGIN:VEVENT
DTSTART;VALUE=DATE:20251215
DTEND;VALUE=DATE:20251216
DTSTAMP:20260423T191150
CREATED:20251129T165704Z
LAST-MODIFIED:20251129T165704Z
UID:7919-1765756800-1765843199@www.barrettlibrary.org
SUMMARY:Adult Take-Home Kit: Recycled Holiday Card Ornaments
DESCRIPTION:Show off your holiday cards as keepsake ornaments for the tree! We supply the materials. You must register to receive a kit. Supplies will be available for pickup beginning Monday\, December 15.
URL:https://www.barrettlibrary.org/event/adult-take-home-kit-recycled-holiday-card-ornaments/
END:VEVENT
END:VCALENDAR