BEGIN:VCALENDAR
VERSION:2.0
PRODID:-//Barrett Paradise Friendly Library - ECPv6.15.20//NONSGML v1.0//EN
CALSCALE:GREGORIAN
METHOD:PUBLISH
X-WR-CALNAME:Barrett Paradise Friendly Library
X-ORIGINAL-URL:https://www.barrettlibrary.org
X-WR-CALDESC:Events for Barrett Paradise Friendly Library
REFRESH-INTERVAL;VALUE=DURATION:PT1H
X-Robots-Tag:noindex
X-PUBLISHED-TTL:PT1H
BEGIN:VTIMEZONE
TZID:America/New_York
BEGIN:DAYLIGHT
TZOFFSETFROM:-0500
TZOFFSETTO:-0400
TZNAME:EDT
DTSTART:20250309T070000
END:DAYLIGHT
BEGIN:STANDARD
TZOFFSETFROM:-0400
TZOFFSETTO:-0500
TZNAME:EST
DTSTART:20251102T060000
END:STANDARD
BEGIN:DAYLIGHT
TZOFFSETFROM:-0500
TZOFFSETTO:-0400
TZNAME:EDT
DTSTART:20260308T070000
END:DAYLIGHT
BEGIN:STANDARD
TZOFFSETFROM:-0400
TZOFFSETTO:-0500
TZNAME:EST
DTSTART:20261101T060000
END:STANDARD
BEGIN:DAYLIGHT
TZOFFSETFROM:-0500
TZOFFSETTO:-0400
TZNAME:EDT
DTSTART:20270314T070000
END:DAYLIGHT
BEGIN:STANDARD
TZOFFSETFROM:-0400
TZOFFSETTO:-0500
TZNAME:EST
DTSTART:20271107T060000
END:STANDARD
END:VTIMEZONE
BEGIN:VEVENT
DTSTART;TZID=America/New_York:20260110T100000
DTEND;TZID=America/New_York:20260110T110000
DTSTAMP:20260423T165255
CREATED:20251230T194119Z
LAST-MODIFIED:20251230T194119Z
UID:8088-1768039200-1768042800@www.barrettlibrary.org
SUMMARY:Sit & Stitch
DESCRIPTION:Do you enjoy knitting\, crochet\, tatting\, embroidery\, or other fiber arts? Our monthly Sit & Stitch group is for all levels of crafters. Bring projects to work on and enjoy each other’s company. No formal instruction or supplies provided\, just experience and support from others in the group.
URL:https://www.barrettlibrary.org/event/sit-stitch-12/
END:VEVENT
BEGIN:VEVENT
DTSTART;TZID=America/New_York:20260112T114500
DTEND;TZID=America/New_York:20260112T124500
DTSTAMP:20260423T165255
CREATED:20251230T193204Z
LAST-MODIFIED:20251230T193204Z
UID:8068-1768218300-1768221900@www.barrettlibrary.org
SUMMARY:Light Yoga & Beginner Pilates (NEW TIME!)
DESCRIPTION:Danielle Lane will guide you through relaxing light yoga or beginner Pilates to start your day. 
URL:https://www.barrettlibrary.org/event/light-yoga-beginner-pilates-new-time-2/
END:VEVENT
BEGIN:VEVENT
DTSTART;TZID=America/New_York:20260113T103000
DTEND;TZID=America/New_York:20260113T110000
DTSTAMP:20260423T165255
CREATED:20251222T201135Z
LAST-MODIFIED:20251222T201135Z
UID:8002-1768300200-1768302000@www.barrettlibrary.org
SUMMARY:Baby & Me
DESCRIPTION:Baby & Me \nAges 0-2 \nTuesdays in January 10:30am \nA special story time for our youngest patrons and their grownups.  \nJoin us for stories\, songs\, and games!
URL:https://www.barrettlibrary.org/event/baby-me-115/
END:VEVENT
BEGIN:VEVENT
DTSTART;TZID=America/New_York:20260114T103000
DTEND;TZID=America/New_York:20260114T113000
DTSTAMP:20260423T165255
CREATED:20251230T193544Z
LAST-MODIFIED:20251230T193544Z
UID:8076-1768386600-1768390200@www.barrettlibrary.org
SUMMARY:Shakespeare Group
DESCRIPTION:Join the entertaining & knowledgeable Pat Williams at the Library. All are welcome\, whether you’re a Bard beginner or a long-time devotee. Discuss plays\, watch films\, and more. Attendees will help guide the direction of the group.
URL:https://www.barrettlibrary.org/event/shakespeare-group-35/
END:VEVENT
BEGIN:VEVENT
DTSTART;TZID=America/New_York:20260115T103000
DTEND;TZID=America/New_York:20260115T113000
DTSTAMP:20260423T165255
CREATED:20251222T201459Z
LAST-MODIFIED:20251222T201459Z
UID:8010-1768473000-1768476600@www.barrettlibrary.org
SUMMARY:Library Story Time
DESCRIPTION:Library Story Time \nAges 0-5 \nThursdays in January 10:30am \nJoin us in the children’s area for stories\, songs\, crafts\, and more!
URL:https://www.barrettlibrary.org/event/library-story-time-82/
END:VEVENT
BEGIN:VEVENT
DTSTART;VALUE=DATE:20260117
DTEND;VALUE=DATE:20260118
DTSTAMP:20260423T165255
CREATED:20260117T161048Z
LAST-MODIFIED:20260126T002034Z
UID:8132-1768608000-1768694399@www.barrettlibrary.org
SUMMARY:LIBRARY CLOSED TODAY
DESCRIPTION:Sat\, Jan 17: The Library is CLOSED TODAY due to the weather. \n 
URL:https://www.barrettlibrary.org/event/library-closed-today-3/
END:VEVENT
BEGIN:VEVENT
DTSTART;VALUE=DATE:20260119
DTEND;VALUE=DATE:20260120
DTSTAMP:20260423T165255
CREATED:20251230T194156Z
LAST-MODIFIED:20251230T194156Z
UID:8090-1768780800-1768867199@www.barrettlibrary.org
SUMMARY:Adult Take-Home Kit: Pressed Flower Bookmarks
DESCRIPTION:Calling all booklovers! Create a gorgeous bookmark to use in your favorite books! We supply all the materials. You must register to receive a kit. Supplies will be available for pickup beginning Monday\, January 19.
URL:https://www.barrettlibrary.org/event/adult-take-home-kit-pressed-flower-bookmarks-2/
END:VEVENT
BEGIN:VEVENT
DTSTART;TZID=America/New_York:20260119T114500
DTEND;TZID=America/New_York:20260119T124500
DTSTAMP:20260423T165255
CREATED:20251230T193252Z
LAST-MODIFIED:20251230T193252Z
UID:8070-1768823100-1768826700@www.barrettlibrary.org
SUMMARY:Light Yoga & Beginner Pilates (NEW TIME!)
DESCRIPTION:Danielle Lane will guide you through relaxing light yoga or beginner Pilates to start your day. 
URL:https://www.barrettlibrary.org/event/light-yoga-beginner-pilates-new-time-3/
END:VEVENT
BEGIN:VEVENT
DTSTART;TZID=America/New_York:20260120T103000
DTEND;TZID=America/New_York:20260120T110000
DTSTAMP:20260423T165255
CREATED:20251222T201222Z
LAST-MODIFIED:20251222T201222Z
UID:8004-1768905000-1768906800@www.barrettlibrary.org
SUMMARY:Baby & Me
DESCRIPTION:Baby & Me \nAges 0-2 \nTuesdays in January 10:30am \nA special story time for our youngest patrons and their grownups.  \nJoin us for stories\, songs\, and games!
URL:https://www.barrettlibrary.org/event/baby-me-116/
END:VEVENT
BEGIN:VEVENT
DTSTART;TZID=America/New_York:20260120T130000
DTEND;TZID=America/New_York:20260120T140000
DTSTAMP:20260423T165255
CREATED:20251230T194249Z
LAST-MODIFIED:20251230T194249Z
UID:8092-1768914000-1768917600@www.barrettlibrary.org
SUMMARY:Afternoon Book Club
DESCRIPTION:Our Afternoon Book Club meets at the Library. An option to join with Zoom is available\, as well. This month we will discuss We Solve Murders by Richard Osman. If you’re interested in joining\, please contact the Library for more details.
URL:https://www.barrettlibrary.org/event/afternoon-book-club-29/
END:VEVENT
BEGIN:VEVENT
DTSTART;TZID=America/New_York:20260121T103000
DTEND;TZID=America/New_York:20260121T113000
DTSTAMP:20260423T165255
CREATED:20251230T193628Z
LAST-MODIFIED:20251230T193628Z
UID:8078-1768991400-1768995000@www.barrettlibrary.org
SUMMARY:Shakespeare Group
DESCRIPTION:Join the entertaining & knowledgeable Pat Williams at the Library. All are welcome\, whether you’re a Bard beginner or a long-time devotee. Discuss plays\, watch films\, and more. Attendees will help guide the direction of the group.
URL:https://www.barrettlibrary.org/event/shakespeare-group-36/
END:VEVENT
BEGIN:VEVENT
DTSTART;TZID=America/New_York:20260122T103000
DTEND;TZID=America/New_York:20260122T113000
DTSTAMP:20260423T165255
CREATED:20251222T201642Z
LAST-MODIFIED:20251222T201642Z
UID:8012-1769077800-1769081400@www.barrettlibrary.org
SUMMARY:Library Story Time
DESCRIPTION:Library Story Time \nAges 0-5 \nThursdays in January 10:30am \nJoin us in the children’s area for stories\, songs\, crafts\, and more!
URL:https://www.barrettlibrary.org/event/library-story-time-83/
END:VEVENT
BEGIN:VEVENT
DTSTART;TZID=America/New_York:20260122T140000
DTEND;TZID=America/New_York:20260122T150000
DTSTAMP:20260423T165255
CREATED:20251230T194344Z
LAST-MODIFIED:20251230T194344Z
UID:8094-1769090400-1769094000@www.barrettlibrary.org
SUMMARY:Link up with Libby
DESCRIPTION:Come to the library with your smart phone or tablet\, and we will help you download and navigate the Libby app! Borrow digital books\, magazines\, and audiobooks with this easy-to-use resource. No registration required for this program. \n 
URL:https://www.barrettlibrary.org/event/link-up-with-libby-2/
END:VEVENT
BEGIN:VEVENT
DTSTART;TZID=America/New_York:20260122T183000
DTEND;TZID=America/New_York:20260122T193000
DTSTAMP:20260423T165255
CREATED:20251230T194028Z
LAST-MODIFIED:20251230T194028Z
UID:8086-1769106600-1769110200@www.barrettlibrary.org
SUMMARY:Virtual Writing Group: Ready to Write a Novel?
DESCRIPTION:We have big plans for 2026! Starting in January we will begin the process of writing a novel! Join us on Zoom\, as everyone in the group works on developing their own novel\, from brainstorming to revising. We will meet twice in January. On January 8\, we will meet to have a quick tutorial on Google Docs\, the software we will all use (it’s free with a gmail account). On January 22\, we will begin the first phase in our novels\, brainstorming! If you’re interested in joining us in 2026\, please contact Lynn for more info.
URL:https://www.barrettlibrary.org/event/virtual-writing-group-ready-to-write-a-novel-3/
END:VEVENT
BEGIN:VEVENT
DTSTART;VALUE=DATE:20260126
DTEND;VALUE=DATE:20260127
DTSTAMP:20260423T165255
CREATED:20260126T002235Z
LAST-MODIFIED:20260126T002235Z
UID:8138-1769385600-1769471999@www.barrettlibrary.org
SUMMARY:LIBRARY CLOSED TODAY
DESCRIPTION:Mon\, Jan 26: The Library is CLOSED TODAY due to the weather.
URL:https://www.barrettlibrary.org/event/library-closed-today-4/
END:VEVENT
BEGIN:VEVENT
DTSTART;TZID=America/New_York:20260126T114500
DTEND;TZID=America/New_York:20260126T124500
DTSTAMP:20260423T165255
CREATED:20251230T193341Z
LAST-MODIFIED:20260126T002424Z
UID:8072-1769427900-1769431500@www.barrettlibrary.org
SUMMARY:CANCELLED TODAY: Light Yoga & Beginner Pilates
DESCRIPTION:Danielle Lane will guide you through relaxing light yoga or beginner Pilates to start your day. 
URL:https://www.barrettlibrary.org/event/light-yoga-beginner-pilates-new-time-4/
END:VEVENT
BEGIN:VEVENT
DTSTART;TZID=America/New_York:20260127T103000
DTEND;TZID=America/New_York:20260127T110000
DTSTAMP:20260423T165255
CREATED:20251222T201257Z
LAST-MODIFIED:20251222T201257Z
UID:8006-1769509800-1769511600@www.barrettlibrary.org
SUMMARY:Baby & Me
DESCRIPTION:Baby & Me \nAges 0-2 \nTuesdays in January 10:30am \nA special story time for our youngest patrons and their grownups.  \nJoin us for stories\, songs\, and games!
URL:https://www.barrettlibrary.org/event/baby-me-117/
END:VEVENT
BEGIN:VEVENT
DTSTART;TZID=America/New_York:20260127T190000
DTEND;TZID=America/New_York:20260127T200000
DTSTAMP:20260423T165255
CREATED:20251230T194440Z
LAST-MODIFIED:20251230T194440Z
UID:8096-1769540400-1769544000@www.barrettlibrary.org
SUMMARY:Virtual Evening Book Club
DESCRIPTION:Join our virtual Evening Book Club on Zoom. This month we will discuss James by Percival Everett. If you’re interested in joining\, please contact the Library for more details.
URL:https://www.barrettlibrary.org/event/virtual-evening-book-club-41/
END:VEVENT
BEGIN:VEVENT
DTSTART;TZID=America/New_York:20260128T103000
DTEND;TZID=America/New_York:20260128T113000
DTSTAMP:20260423T165255
CREATED:20251230T193714Z
LAST-MODIFIED:20251230T193714Z
UID:8080-1769596200-1769599800@www.barrettlibrary.org
SUMMARY:Shakespeare Group
DESCRIPTION:Join the entertaining & knowledgeable Pat Williams at the Library. All are welcome\, whether you’re a Bard beginner or a long-time devotee. Discuss plays\, watch films\, and more. Attendees will help guide the direction of the group.
URL:https://www.barrettlibrary.org/event/shakespeare-group-37/
END:VEVENT
BEGIN:VEVENT
DTSTART;TZID=America/New_York:20260129T103000
DTEND;TZID=America/New_York:20260129T113000
DTSTAMP:20260423T165255
CREATED:20251222T202807Z
LAST-MODIFIED:20251222T202807Z
UID:8014-1769682600-1769686200@www.barrettlibrary.org
SUMMARY:Library Story Time
DESCRIPTION:Library Story Time \nAges 0-5 \nThursdays in January 10:30am \nJoin us in the children’s area for stories\, songs\, crafts\, and more!
URL:https://www.barrettlibrary.org/event/library-story-time-84/
END:VEVENT
BEGIN:VEVENT
DTSTART;TZID=America/New_York:20260130T103000
DTEND;TZID=America/New_York:20260130T114500
DTSTAMP:20260423T165255
CREATED:20251222T203508Z
LAST-MODIFIED:20251222T203508Z
UID:8020-1769769000-1769773500@www.barrettlibrary.org
SUMMARY:Family Place Play & Grow Workshop
DESCRIPTION:Family Place Play & Grow Workshop \nAges 0-3\, siblings up to age 5 are welcome \nFridays\, January 30th\, February 6th\, 13th\, 20th\, and 27th  10:30am-11:45am \nThis five-week series brings together toddlers and parents in an informal\, interactive setting with professionals from local agencies to support the role of parents as first teachers\, facilitate early intervention\, and teach strategies to promote healthy child development and literacy. Registration required.
URL:https://www.barrettlibrary.org/event/family-place-play-grow-workshop-6/
END:VEVENT
BEGIN:VEVENT
DTSTART;VALUE=DATE:20260202
DTEND;VALUE=DATE:20260203
DTSTAMP:20260423T165255
CREATED:20260129T162204Z
LAST-MODIFIED:20260129T162204Z
UID:8147-1769990400-1770076799@www.barrettlibrary.org
SUMMARY:Blind Date with a Book
DESCRIPTION:It’s time for Blind Date with a Book! All month there will be a display of “mystery books” at the Library. Come in\, check out a book\, unwrap it at home\, read it\, rate it\, and bring the rating slip back for a drawing at the end of the month.
URL:https://www.barrettlibrary.org/event/blind-date-with-a-book-5/
END:VEVENT
BEGIN:VEVENT
DTSTART;TZID=America/New_York:20260202T114500
DTEND;TZID=America/New_York:20260202T124500
DTSTAMP:20260423T165255
CREATED:20260129T162921Z
LAST-MODIFIED:20260129T162921Z
UID:8152-1770032700-1770036300@www.barrettlibrary.org
SUMMARY:Light Yoga & Beginner Pilates 11:45 am (NEW TIME!)
DESCRIPTION:Danielle Lane will guide you through relaxing light yoga or beginner Pilates to start your day. 
URL:https://www.barrettlibrary.org/event/light-yoga-beginner-pilates-1145-am-new-time/
END:VEVENT
BEGIN:VEVENT
DTSTART;TZID=America/New_York:20260203T103000
DTEND;TZID=America/New_York:20260203T110000
DTSTAMP:20260423T165255
CREATED:20251222T205528Z
LAST-MODIFIED:20251222T205528Z
UID:8022-1770114600-1770116400@www.barrettlibrary.org
SUMMARY:Baby & Me
DESCRIPTION:Baby & Me \nAges 0-2 \nTuesdays in February 10:30am \nA special story time for our youngest patrons and their grownups.  \nJoin us for stories\, songs\, and games!
URL:https://www.barrettlibrary.org/event/baby-me-118/
END:VEVENT
BEGIN:VEVENT
DTSTART;TZID=America/New_York:20260203T130000
DTEND;TZID=America/New_York:20260203T150000
DTSTAMP:20260423T165255
CREATED:20260129T162546Z
LAST-MODIFIED:20260129T162546Z
UID:8149-1770123600-1770130800@www.barrettlibrary.org
SUMMARY:Movie Day at the Library
DESCRIPTION:Come to the Library the first Tuesday of each month to watch a feature film with friends. Join us for F1\, Starring Brad Pitt. Rated PG-13. \n \nIn the 1990s\, Sonny Hayes was Formula 1’s most promising driver until an accident on the track nearly ended his career. Thirty years later\, the owner of a struggling Formula 1 team convinces Sonny to return to racing and become the best in the world. Driving alongside the team’s hotshot rookie\, Sonny soon learns that the road to redemption is not something you can travel alone.
URL:https://www.barrettlibrary.org/event/movie-day-at-the-library-38/
END:VEVENT
BEGIN:VEVENT
DTSTART;TZID=America/New_York:20260204T103000
DTEND;TZID=America/New_York:20260204T113000
DTSTAMP:20260423T165255
CREATED:20260129T164544Z
LAST-MODIFIED:20260129T164544Z
UID:8160-1770201000-1770204600@www.barrettlibrary.org
SUMMARY:Shakespeare Group
DESCRIPTION:Join the entertaining & knowledgeable Pat Williams at the Library. All are welcome\, whether you’re a Bard beginner or a long-time devotee. Discuss plays\, watch films\, and more. Attendees will help guide the direction of the group. 
URL:https://www.barrettlibrary.org/event/shakespeare-group-38/
END:VEVENT
BEGIN:VEVENT
DTSTART;TZID=America/New_York:20260205T103000
DTEND;TZID=America/New_York:20260205T113000
DTSTAMP:20260423T165255
CREATED:20251222T210045Z
LAST-MODIFIED:20251222T210045Z
UID:8030-1770287400-1770291000@www.barrettlibrary.org
SUMMARY:Library Story Time
DESCRIPTION:Library Story Time \nAges 0-5 \nThursdays in February 10:30am \nJoin us in the children’s area for stories\, songs\, crafts\, and more!
URL:https://www.barrettlibrary.org/event/library-story-time-85/
END:VEVENT
BEGIN:VEVENT
DTSTART;TZID=America/New_York:20260206T103000
DTEND;TZID=America/New_York:20260206T114500
DTSTAMP:20260423T165255
CREATED:20251222T211026Z
LAST-MODIFIED:20251222T211026Z
UID:8040-1770373800-1770378300@www.barrettlibrary.org
SUMMARY:Family Place Play & Grow Workshop
DESCRIPTION:Family Place Play & Grow Workshop \nAges 0-3\, siblings up to age 5 are welcome \nFridays\, February 6th\, 13th\, 20th\, and 27th  10:30am-11:45am \nThis five-week series brings together toddlers and parents in an informal\, interactive setting with professionals from local agencies to support the role of parents as first teachers\, facilitate early intervention\, and teach strategies to promote healthy child development and literacy. Registration required.
URL:https://www.barrettlibrary.org/event/family-place-play-grow-workshop-7/
END:VEVENT
BEGIN:VEVENT
DTSTART;TZID=America/New_York:20260209T114500
DTEND;TZID=America/New_York:20260209T124500
DTSTAMP:20260423T165255
CREATED:20260129T163029Z
LAST-MODIFIED:20260129T163029Z
UID:8154-1770637500-1770641100@www.barrettlibrary.org
SUMMARY:Light Yoga & Beginner Pilates 11:45 am (NEW TIME!)
DESCRIPTION:Danielle Lane will guide you through relaxing light yoga or beginner Pilates to start your day. 
URL:https://www.barrettlibrary.org/event/light-yoga-beginner-pilates-1145-am-new-time-2/
END:VEVENT
BEGIN:VEVENT
DTSTART;TZID=America/New_York:20260209T180000
DTEND;TZID=America/New_York:20260209T190000
DTSTAMP:20260423T165255
CREATED:20251222T210702Z
LAST-MODIFIED:20251222T210702Z
UID:8038-1770660000-1770663600@www.barrettlibrary.org
SUMMARY:Family Science - Chocolate Playdough
DESCRIPTION:Family Science – Chocolate Playdough \nFamily Program \nMonday\, February 9th 6pm \nCelebrate Valentine’s Day with a fun and fragrant activity!  \nFamilies are invited to the library to make their own batch of chocolate playdough.  \nWe’ll provide all the ingredients and instructions for creating this delightful sensory material.  \nGet ready for some squishy\, chocolatey fun! Registration is required.
URL:https://www.barrettlibrary.org/event/family-science-chocolate-playdough/
END:VEVENT
END:VCALENDAR