BEGIN:VCALENDAR
VERSION:2.0
PRODID:-//Barrett Paradise Friendly Library - ECPv6.15.20//NONSGML v1.0//EN
CALSCALE:GREGORIAN
METHOD:PUBLISH
X-WR-CALNAME:Barrett Paradise Friendly Library
X-ORIGINAL-URL:https://www.barrettlibrary.org
X-WR-CALDESC:Events for Barrett Paradise Friendly Library
REFRESH-INTERVAL;VALUE=DURATION:PT1H
X-Robots-Tag:noindex
X-PUBLISHED-TTL:PT1H
BEGIN:VTIMEZONE
TZID:America/New_York
BEGIN:DAYLIGHT
TZOFFSETFROM:-0500
TZOFFSETTO:-0400
TZNAME:EDT
DTSTART:20250309T070000
END:DAYLIGHT
BEGIN:STANDARD
TZOFFSETFROM:-0400
TZOFFSETTO:-0500
TZNAME:EST
DTSTART:20251102T060000
END:STANDARD
BEGIN:DAYLIGHT
TZOFFSETFROM:-0500
TZOFFSETTO:-0400
TZNAME:EDT
DTSTART:20260308T070000
END:DAYLIGHT
BEGIN:STANDARD
TZOFFSETFROM:-0400
TZOFFSETTO:-0500
TZNAME:EST
DTSTART:20261101T060000
END:STANDARD
BEGIN:DAYLIGHT
TZOFFSETFROM:-0500
TZOFFSETTO:-0400
TZNAME:EDT
DTSTART:20270314T070000
END:DAYLIGHT
BEGIN:STANDARD
TZOFFSETFROM:-0400
TZOFFSETTO:-0500
TZNAME:EST
DTSTART:20271107T060000
END:STANDARD
END:VTIMEZONE
BEGIN:VEVENT
DTSTART;TZID=America/New_York:20260521T140000
DTEND;TZID=America/New_York:20260521T160000
DTSTAMP:20260423T142422
CREATED:20260401T160427Z
LAST-MODIFIED:20260403T202622Z
UID:8400-1779372000-1779379200@www.barrettlibrary.org
SUMMARY:Intro to Watercolors
DESCRIPTION:Instructors John James & Cathy Zateeny will guide beginners as well as those with some experience in this five-week class exploring watercolor painting. All supplies provided. Class size is limited: registration required. Preference given to those who have not taken classes with John before. \nPlease call the Library to register\, 570-595-7171. When registering\, please indicate whether you’ve taken watercolor classes before.
URL:https://www.barrettlibrary.org/event/intro-to-watercolors-9/
END:VEVENT
BEGIN:VEVENT
DTSTART;TZID=America/New_York:20260527T183000
DTEND;TZID=America/New_York:20260527T200000
DTSTAMP:20260423T142422
CREATED:20260331T164836Z
LAST-MODIFIED:20260404T155447Z
UID:8386-1779906600-1779912000@www.barrettlibrary.org
SUMMARY:Estrogen Matters Book Club
DESCRIPTION:Jennifer Malamas\, MD\, and Stacey Raza\, LDN\, CSCS\, both Menopause Society Certified Practitioners (MSCP)\, will guide women through the complexities of perimenopause and menopause using the book Estrogen Matters by Avrum Bluming & Carol Tavris as a guide. Each participant will receive a copy of the book. Space is limited: Registration required. Please contact the library for more details.
URL:https://www.barrettlibrary.org/event/estrogen-matters-book-club/
END:VEVENT
BEGIN:VEVENT
DTSTART;VALUE=DATE:20260619
DTEND;VALUE=DATE:20260620
DTSTAMP:20260423T142422
CREATED:20260407T142245Z
LAST-MODIFIED:20260407T142245Z
UID:8425-1781827200-1781913599@www.barrettlibrary.org
SUMMARY:Books & Bubbly!
DESCRIPTION:Friday evening\, June 19. \nStay tuned for details about our most delicious fundraising event!
URL:https://www.barrettlibrary.org/event/books-bubbly-2/
END:VEVENT
BEGIN:VEVENT
DTSTART;TZID=America/New_York:20260624T183000
DTEND;TZID=America/New_York:20260624T200000
DTSTAMP:20260423T142422
CREATED:20260331T165006Z
LAST-MODIFIED:20260404T155419Z
UID:8388-1782325800-1782331200@www.barrettlibrary.org
SUMMARY:Estrogen Matters Book Club
DESCRIPTION:Jennifer Malamas\, MD\, and Stacey Raza\, LDN\, CSCS\, both Menopause Society Certified Practitioners (MSCP)\, will guide women through the complexities of perimenopause and menopause using the book Estrogen Matters by Avrum Bluming & Carol Tavris as a guide. Each participant will receive a copy of the book. Space is limited: Registration required. Please contact the library for more details.
URL:https://www.barrettlibrary.org/event/estrogen-matters-book-club-2/
END:VEVENT
BEGIN:VEVENT
DTSTART;TZID=America/New_York:20260729T183000
DTEND;TZID=America/New_York:20260729T200000
DTSTAMP:20260423T142422
CREATED:20260331T165114Z
LAST-MODIFIED:20260404T155357Z
UID:8390-1785349800-1785355200@www.barrettlibrary.org
SUMMARY:Estrogen Matters Book Club
DESCRIPTION:Jennifer Malamas\, MD\, and Stacey Raza\, LDN\, CSCS\, both Menopause Society Certified Practitioners (MSCP)\, will guide women through the complexities of perimenopause and menopause using the book Estrogen Matters by Avrum Bluming & Carol Tavris as a guide. Each participant will receive a copy of the book. Space is limited: Registration required. Please contact the library for more details.
URL:https://www.barrettlibrary.org/event/estrogen-matters-book-club-3/
END:VEVENT
BEGIN:VEVENT
DTSTART;VALUE=DATE:20260801
DTEND;VALUE=DATE:20260802
DTSTAMP:20260423T142422
CREATED:20260407T142512Z
LAST-MODIFIED:20260407T142512Z
UID:8427-1785542400-1785628799@www.barrettlibrary.org
SUMMARY:LOL Comedy Night at Buck Hill Tennis Tea
DESCRIPTION:Saturday evening\, Aug 1. \nStay tuned for details about this fundraiser!
URL:https://www.barrettlibrary.org/event/lol-comedy-night-at-buck-hill-tennis-tea/
END:VEVENT
END:VCALENDAR