BEGIN:VCALENDAR
VERSION:2.0
PRODID:-//Barrett Paradise Friendly Library - ECPv6.15.20//NONSGML v1.0//EN
CALSCALE:GREGORIAN
METHOD:PUBLISH
X-WR-CALNAME:Barrett Paradise Friendly Library
X-ORIGINAL-URL:https://www.barrettlibrary.org
X-WR-CALDESC:Events for Barrett Paradise Friendly Library
REFRESH-INTERVAL;VALUE=DURATION:PT1H
X-Robots-Tag:noindex
X-PUBLISHED-TTL:PT1H
BEGIN:VTIMEZONE
TZID:America/New_York
BEGIN:DAYLIGHT
TZOFFSETFROM:-0500
TZOFFSETTO:-0400
TZNAME:EDT
DTSTART:20230312T070000
END:DAYLIGHT
BEGIN:STANDARD
TZOFFSETFROM:-0400
TZOFFSETTO:-0500
TZNAME:EST
DTSTART:20231105T060000
END:STANDARD
BEGIN:DAYLIGHT
TZOFFSETFROM:-0500
TZOFFSETTO:-0400
TZNAME:EDT
DTSTART:20240310T070000
END:DAYLIGHT
BEGIN:STANDARD
TZOFFSETFROM:-0400
TZOFFSETTO:-0500
TZNAME:EST
DTSTART:20241103T060000
END:STANDARD
BEGIN:DAYLIGHT
TZOFFSETFROM:-0500
TZOFFSETTO:-0400
TZNAME:EDT
DTSTART:20250309T070000
END:DAYLIGHT
BEGIN:STANDARD
TZOFFSETFROM:-0400
TZOFFSETTO:-0500
TZNAME:EST
DTSTART:20251102T060000
END:STANDARD
END:VTIMEZONE
BEGIN:VEVENT
DTSTART;TZID=America/New_York:20241104T180000
DTEND;TZID=America/New_York:20241104T190000
DTSTAMP:20260424T104636
CREATED:20241018T154954Z
LAST-MODIFIED:20241018T154954Z
UID:6821-1730743200-1730746800@www.barrettlibrary.org
SUMMARY:Family Science - Cranberry Apple Sauce
DESCRIPTION:Family Science – Cranberry Apple Sauce \nFamily Program  \nMonday\, November 4th 6pm \nJoin us as we explore the Science behind some traditional Thanksgiving favorites\, cranberries and applesauce!
URL:https://www.barrettlibrary.org/event/family-science-cranberry-apple-sauce/
END:VEVENT
BEGIN:VEVENT
DTSTART;TZID=America/New_York:20241101T110000
DTEND;TZID=America/New_York:20241101T120000
DTSTAMP:20260424T104636
CREATED:20241023T145707Z
LAST-MODIFIED:20241023T145707Z
UID:6824-1730458800-1730462400@www.barrettlibrary.org
SUMMARY:Healing Yoga
DESCRIPTION:Danielle Lane will guide you through a soothing\, mindful yoga experience which may include meditation\, sound bowls\, music\, and other elements. Appropriate for all levels. Space is limited: please register for each session. 
URL:https://www.barrettlibrary.org/event/healing-yoga-23/
END:VEVENT
BEGIN:VEVENT
DTSTART;VALUE=DATE:20241031
DTEND;VALUE=DATE:20241101
DTSTAMP:20260424T104636
CREATED:20241018T154731Z
LAST-MODIFIED:20241018T154731Z
UID:6819-1730332800-1730419199@www.barrettlibrary.org
SUMMARY:Trick-or-Treat (Story Time canceled today)
DESCRIPTION:Happy Halloween! \nStory time is canceled today. \nStop by the library in your costume for a Halloween treat!
URL:https://www.barrettlibrary.org/event/trick-or-treat-story-time-canceled-today/
END:VEVENT
BEGIN:VEVENT
DTSTART;TZID=America/New_York:20241029T190000
DTEND;TZID=America/New_York:20241029T200000
DTSTAMP:20260424T104636
CREATED:20240924T195048Z
LAST-MODIFIED:20240924T195048Z
UID:6782-1730228400-1730232000@www.barrettlibrary.org
SUMMARY:Virtual Evening Book Club
DESCRIPTION:Join our virtual Evening Book Club on Zoom. This month we will discuss Remarkably Bright Creatures by Shelby Van Pelt. If you’re interested in joining\, please contact the Library for more details.
URL:https://www.barrettlibrary.org/event/virtual-evening-book-club-29/
END:VEVENT
BEGIN:VEVENT
DTSTART;TZID=America/New_York:20241029T103000
DTEND;TZID=America/New_York:20241029T110000
DTSTAMP:20260424T104636
CREATED:20240921T172019Z
LAST-MODIFIED:20240921T172019Z
UID:6753-1730197800-1730199600@www.barrettlibrary.org
SUMMARY:Baby & Me
DESCRIPTION:Baby & Me \nAges 0-2 \nTuesdays in October 10:30am \nA special story time for our youngest patrons and their grownups. \nJoin us for stories\, songs\, and games!
URL:https://www.barrettlibrary.org/event/baby-me-53/
END:VEVENT
BEGIN:VEVENT
DTSTART;TZID=America/New_York:20241024T103000
DTEND;TZID=America/New_York:20241024T111500
DTSTAMP:20260424T104636
CREATED:20240923T235133Z
LAST-MODIFIED:20240923T235133Z
UID:6764-1729765800-1729768500@www.barrettlibrary.org
SUMMARY:Library Story Time featuring Sights for Hope
DESCRIPTION:Library Story Time featuring Sights for Hope \nAges 0-5 \nThursdays in October 10:30am \nJoin us in the children’s area for stories\, songs\, and free vision screenings! \nAngela Hill will be here from Sights for Hope to teach us about eye safety.
URL:https://www.barrettlibrary.org/event/library-story-time-featuring-sights-for-hope/
END:VEVENT
BEGIN:VEVENT
DTSTART;TZID=America/New_York:20241022T103000
DTEND;TZID=America/New_York:20241022T110000
DTSTAMP:20260424T104636
CREATED:20240921T171910Z
LAST-MODIFIED:20240921T171910Z
UID:6751-1729593000-1729594800@www.barrettlibrary.org
SUMMARY:Baby & Me
DESCRIPTION:Baby & Me \nAges 0-2 \nTuesdays in October 10:30am \nA special story time for our youngest patrons and their grownups. \nJoin us for stories\, songs\, and games!
URL:https://www.barrettlibrary.org/event/baby-me-52/
END:VEVENT
BEGIN:VEVENT
DTSTART;VALUE=DATE:20241021
DTEND;VALUE=DATE:20241022
DTSTAMP:20260424T104636
CREATED:20241002T165231Z
LAST-MODIFIED:20241002T165231Z
UID:6791-1729468800-1729555199@www.barrettlibrary.org
SUMMARY:Adult Take-Home Kit: Apple Bread in a Jar
DESCRIPTION:It’s apple-picking season\, and we have a tasty recipe for you to try. Apple bread in a jar! We supply the dry Ingredients needed. This recipe will require a few ingredients from home. You must register to receive a kit. Supplies will be available for pickup beginning Monday\, October 21.
URL:https://www.barrettlibrary.org/event/adult-take-home-kit-apple-bread-in-a-jar/
END:VEVENT
BEGIN:VEVENT
DTSTART;TZID=America/New_York:20241018T110000
DTEND;TZID=America/New_York:20241018T120000
DTSTAMP:20260424T104636
CREATED:20240924T194739Z
LAST-MODIFIED:20240924T194739Z
UID:6776-1729249200-1729252800@www.barrettlibrary.org
SUMMARY:Healing Yoga
DESCRIPTION:Danielle Lane will guide you through a soothing\, mindful yoga experience which may include meditation\, sound bowls\, music\, and other elements. Appropriate for all levels. Space is limited: please register for each session. 
URL:https://www.barrettlibrary.org/event/healing-yoga-22/
END:VEVENT
BEGIN:VEVENT
DTSTART;TZID=America/New_York:20241018T103000
DTEND;TZID=America/New_York:20241018T110000
DTSTAMP:20260424T104636
CREATED:20241018T153600Z
LAST-MODIFIED:20241018T153600Z
UID:6806-1729247400-1729249200@www.barrettlibrary.org
SUMMARY:Baby & Me
DESCRIPTION:Baby & Me \nAges 0-2 \nTuesdays in November 10:30am \nA special story time for our youngest patrons and their grownups.  \nJoin us for stories\, songs\, and games!
URL:https://www.barrettlibrary.org/event/baby-me-56/
END:VEVENT
BEGIN:VEVENT
DTSTART;TZID=America/New_York:20241017T103000
DTEND;TZID=America/New_York:20241017T111500
DTSTAMP:20260424T104636
CREATED:20240923T233813Z
LAST-MODIFIED:20240923T233813Z
UID:6760-1729161000-1729163700@www.barrettlibrary.org
SUMMARY:Library Story Time
DESCRIPTION:Library Story Time \nAges 0-5 \nThursdays in October 10:30am \nJoin us in the children’s area for stories\, songs\, crafts\, and more!
URL:https://www.barrettlibrary.org/event/library-story-time-25/
END:VEVENT
BEGIN:VEVENT
DTSTART;TZID=America/New_York:20241015T130000
DTEND;TZID=America/New_York:20241015T140000
DTSTAMP:20260424T104636
CREATED:20240924T194957Z
LAST-MODIFIED:20240924T194957Z
UID:6780-1728997200-1729000800@www.barrettlibrary.org
SUMMARY:Afternoon Book Club
DESCRIPTION:Our Afternoon Book Club meets at the Library. An option to join with Zoom is available\, as well. This month we will discuss The Last Flight by Lisa Clark. If you’re interested in joining\, please contact the Library for more details.
URL:https://www.barrettlibrary.org/event/afternoon-book-club-17/
END:VEVENT
BEGIN:VEVENT
DTSTART;TZID=America/New_York:20241015T103000
DTEND;TZID=America/New_York:20241015T110000
DTSTAMP:20260424T104636
CREATED:20240921T171813Z
LAST-MODIFIED:20240921T171813Z
UID:6749-1728988200-1728990000@www.barrettlibrary.org
SUMMARY:Baby & Me
DESCRIPTION:Baby & Me \nAges 0-2 \nTuesdays in October 10:30am \nA special story time for our youngest patrons and their grownups. \nJoin us for stories\, songs\, and games!
URL:https://www.barrettlibrary.org/event/baby-me-51/
END:VEVENT
BEGIN:VEVENT
DTSTART;TZID=America/New_York:20241014T180000
DTEND;TZID=America/New_York:20241014T190000
DTSTAMP:20260424T104636
CREATED:20240924T154520Z
LAST-MODIFIED:20240924T154520Z
UID:6770-1728928800-1728932400@www.barrettlibrary.org
SUMMARY:Teen Action Board
DESCRIPTION:Teen Action Board \nTeens in Grades 10-12 \nMonday\, October 14th 6pm \nJoin our Teen Action Board! Learn how you can serve your community\, \n make friends\, and earn community service hours all at the same time! Please call to register.
URL:https://www.barrettlibrary.org/event/teen-action-board-7/
END:VEVENT
BEGIN:VEVENT
DTSTART;TZID=America/New_York:20241012T130000
DTEND;TZID=America/New_York:20241012T150000
DTSTAMP:20260424T104636
CREATED:20240924T154707Z
LAST-MODIFIED:20240926T173032Z
UID:6772-1728738000-1728745200@www.barrettlibrary.org
SUMMARY:Treats on the Trail
DESCRIPTION:Treats on the Trail \nFamily Program \nSaturday\, October 12th 1PM \nJoIn us for an enchanting interactive storytime adventure through the woods!  \nOn Saturday\, October 12th at 1 PM\, families are invited to experience the Tale on the Trail at Ice Lake like never before! \nThey’ll enjoy a slightly spooky story and collect delightful treats along the way.  \nAfter a walk down the trail\, families are invited to paint pumpkins with us under the pavilion. \nRegistration is required for treats and pumpkins!
URL:https://www.barrettlibrary.org/event/treats-on-the-trail/
END:VEVENT
BEGIN:VEVENT
DTSTART;TZID=America/New_York:20241012T090000
DTEND;TZID=America/New_York:20241012T100000
DTSTAMP:20260424T104636
CREATED:20240924T194903Z
LAST-MODIFIED:20240924T194903Z
UID:6778-1728723600-1728727200@www.barrettlibrary.org
SUMMARY:Birding at Ice Lake
DESCRIPTION:Join Jackie Speicher as she guides you through a birdwatching adventure! Participants will meet at the Barrett Township Community Park in Cresco. Space is limited: Registration is required.
URL:https://www.barrettlibrary.org/event/birding-at-ice-lake/
END:VEVENT
BEGIN:VEVENT
DTSTART;TZID=America/New_York:20241010T103000
DTEND;TZID=America/New_York:20241010T111500
DTSTAMP:20260424T104636
CREATED:20240923T233724Z
LAST-MODIFIED:20240923T233724Z
UID:6758-1728556200-1728558900@www.barrettlibrary.org
SUMMARY:Library Story Time
DESCRIPTION:Library Story Time \nAges 0-5 \nThursdays in October 10:30am \nJoin us in the children’s area for stories\, songs\, crafts\, and more!
URL:https://www.barrettlibrary.org/event/library-story-time-24/
END:VEVENT
BEGIN:VEVENT
DTSTART;TZID=America/New_York:20241008T103000
DTEND;TZID=America/New_York:20241008T110000
DTSTAMP:20260424T104636
CREATED:20240913T175151Z
LAST-MODIFIED:20240913T175151Z
UID:6739-1728383400-1728385200@www.barrettlibrary.org
SUMMARY:Baby & Me
DESCRIPTION:Baby & Me \nAges 0-2 \nTuesdays in October 10:30am \nA special story time for our youngest patrons and their grownups.  \nJoin us for stories\, songs\, and games!
URL:https://www.barrettlibrary.org/event/baby-me-50/
END:VEVENT
BEGIN:VEVENT
DTSTART;TZID=America/New_York:20241007T180000
DTEND;TZID=America/New_York:20241007T190000
DTSTAMP:20260424T104636
CREATED:20240924T154404Z
LAST-MODIFIED:20240924T154404Z
UID:6768-1728324000-1728327600@www.barrettlibrary.org
SUMMARY:Family Science
DESCRIPTION:Family Science \nFamily Program \nMonday\, October 7th 6pm \nCome to the library for a STEM project that will be fun for the whole family. \nRegistration is required.
URL:https://www.barrettlibrary.org/event/family-science/
END:VEVENT
BEGIN:VEVENT
DTSTART;TZID=America/New_York:20241003T103000
DTEND;TZID=America/New_York:20241003T111500
DTSTAMP:20260424T104636
CREATED:20240921T172629Z
LAST-MODIFIED:20240921T172629Z
UID:6755-1727951400-1727954100@www.barrettlibrary.org
SUMMARY:Library Story Time
DESCRIPTION:Library Story Time \nAges 0-5 \nThursdays in October 10:30am \nJoin us in the children’s area for stories\, songs\, crafts\, and more!
URL:https://www.barrettlibrary.org/event/library-story-time-23/
END:VEVENT
BEGIN:VEVENT
DTSTART;TZID=America/New_York:20241001T130000
DTEND;TZID=America/New_York:20241001T150000
DTSTAMP:20260424T104636
CREATED:20240910T191358Z
LAST-MODIFIED:20240910T191358Z
UID:6733-1727787600-1727794800@www.barrettlibrary.org
SUMMARY:Movie Day at the Library
DESCRIPTION:Come to the Library the first Tuesday of each month to watch a newly released movie with friends. This month we will watch The Ministry of Ungentlemanly Warfare\, starring Henry Cavill.  \n  \nBritish Prime Minister Winston Churchill and a group of military officials hatch a daring plan to neutralize Hitler’s fleet of German U-boats during World War II. Made up of a motley crew of rogues and mavericks\, the top-secret combat unit uses unconventional techniques to battle the Nazis and change the course of the war. Rated R. \n  \n 
URL:https://www.barrettlibrary.org/event/movie-day-at-the-library-22/
END:VEVENT
BEGIN:VEVENT
DTSTART;TZID=America/New_York:20241001T103000
DTEND;TZID=America/New_York:20241001T110000
DTSTAMP:20260424T104636
CREATED:20240913T175040Z
LAST-MODIFIED:20240913T175040Z
UID:6737-1727778600-1727780400@www.barrettlibrary.org
SUMMARY:Baby & Me
DESCRIPTION:Baby & Me \nAges 0-2 \nTuesdays in October 10:30am \nA special story time for our youngest patrons and their grownups.  \nJoin us for stories\, songs\, and games! 
URL:https://www.barrettlibrary.org/event/baby-me-49/
END:VEVENT
BEGIN:VEVENT
DTSTART;VALUE=DATE:20240928
DTEND;VALUE=DATE:20240929
DTSTAMP:20260424T104636
CREATED:20240807T184336Z
LAST-MODIFIED:20240807T184336Z
UID:6701-1727481600-1727567999@www.barrettlibrary.org
SUMMARY:National Good Neighbor Day
DESCRIPTION:National Good Neighbor Day \nAll Ages \nSaturday\, September 28th \nStop by the library to celebrate the beauty of community!  \nMake a card or bracelet for a neighbor.  \nSupplies will be available all day so you may stop by at any time to make your craft!
URL:https://www.barrettlibrary.org/event/national-good-neighbor-day/
END:VEVENT
BEGIN:VEVENT
DTSTART;TZID=America/New_York:20240926T103000
DTEND;TZID=America/New_York:20240926T111500
DTSTAMP:20260424T104636
CREATED:20240806T153132Z
LAST-MODIFIED:20240806T153132Z
UID:6686-1727346600-1727349300@www.barrettlibrary.org
SUMMARY:Story Time
DESCRIPTION:Ages 1-5 \nThursdays in September 10:30am \nJoin us in the children’s area for stories\, songs\, crafts\, and more
URL:https://www.barrettlibrary.org/event/story-time-20/
END:VEVENT
BEGIN:VEVENT
DTSTART;TZID=America/New_York:20240924T190000
DTEND;TZID=America/New_York:20240924T200000
DTSTAMP:20260424T104636
CREATED:20240828T182523Z
LAST-MODIFIED:20240828T182523Z
UID:6717-1727204400-1727208000@www.barrettlibrary.org
SUMMARY:Virtual Evening Book Club
DESCRIPTION:Join our virtual Evening Book Club on Zoom. This month we will discuss Rebecca by Daphne du Maurier. If you’re interested in joining\, please contact the Library for more details.
URL:https://www.barrettlibrary.org/event/virtual-evening-book-club-28/
END:VEVENT
BEGIN:VEVENT
DTSTART;TZID=America/New_York:20240924T103000
DTEND;TZID=America/New_York:20240924T110000
DTSTAMP:20260424T104636
CREATED:20240806T164442Z
LAST-MODIFIED:20240806T164442Z
UID:6694-1727173800-1727175600@www.barrettlibrary.org
SUMMARY:Baby & Me
DESCRIPTION:Baby & Me \nAges 0-2 \nTuesdays in September 10:30am \nA special story time for our youngest patrons and their grownups. \nJoin us for stories\, songs\, and games!
URL:https://www.barrettlibrary.org/event/baby-me-48/
END:VEVENT
BEGIN:VEVENT
DTSTART;TZID=America/New_York:20240921T140000
DTEND;TZID=America/New_York:20240921T153000
DTSTAMP:20260424T104636
CREATED:20240914T175112Z
LAST-MODIFIED:20240921T171556Z
UID:6746-1726927200-1726932600@www.barrettlibrary.org
SUMMARY:Family Hike at Ice Lake
DESCRIPTION:Hike at Ice Lake \nFamily Program \nSaturday\, September 21st 2pm \nJoin us at Ice Lake for some family fun! We will walk the Tale on the Trail together\, and then continue on around the lake to look for signs of animals and insects. After our walk\, we will share stories and crafts under the pavilion. Registration is required.
URL:https://www.barrettlibrary.org/event/family-hike-at-ice-lake-2/
END:VEVENT
BEGIN:VEVENT
DTSTART;TZID=America/New_York:20240920T110000
DTEND;TZID=America/New_York:20240920T120000
DTSTAMP:20260424T104636
CREATED:20240831T175212Z
LAST-MODIFIED:20240911T174759Z
UID:6724-1726830000-1726833600@www.barrettlibrary.org
SUMMARY:CANCELED Healing Yoga
DESCRIPTION:EDIT: \nHEALING YOGA IS CANCELED. \nDanielle Lane will guide you through a soothing\, mindful yoga experience which may include meditation\, sound bowls\, music\, and other elements. Appropriate for all levels. Space is limited: please register for each session. 
URL:https://www.barrettlibrary.org/event/healing-yoga-21/
END:VEVENT
BEGIN:VEVENT
DTSTART;TZID=America/New_York:20240919T103000
DTEND;TZID=America/New_York:20240919T111500
DTSTAMP:20260424T104636
CREATED:20240806T152810Z
LAST-MODIFIED:20240806T152810Z
UID:6684-1726741800-1726744500@www.barrettlibrary.org
SUMMARY:Story Time
DESCRIPTION:Ages 1-5 \nThursdays in September 10:30am \nJoin us in the children’s area for stories\, songs\, crafts\, and more
URL:https://www.barrettlibrary.org/event/story-time-19/
END:VEVENT
BEGIN:VEVENT
DTSTART;TZID=America/New_York:20240917T130000
DTEND;TZID=America/New_York:20240917T140000
DTSTAMP:20260424T104636
CREATED:20240828T182406Z
LAST-MODIFIED:20240828T182406Z
UID:6715-1726578000-1726581600@www.barrettlibrary.org
SUMMARY:Afternoon Book Club
DESCRIPTION:Our Afternoon Book Club meets at the Library. An option to join with Zoom is available\, as well. This month we will discuss The Great Alone by Kristin Hannah. If you’re interested in joining\, please contact the Library for more details.
URL:https://www.barrettlibrary.org/event/afternoon-book-club-16/
END:VEVENT
END:VCALENDAR