BEGIN:VCALENDAR
VERSION:2.0
PRODID:-//Barrett Paradise Friendly Library - ECPv6.15.20//NONSGML v1.0//EN
CALSCALE:GREGORIAN
METHOD:PUBLISH
X-WR-CALNAME:Barrett Paradise Friendly Library
X-ORIGINAL-URL:https://www.barrettlibrary.org
X-WR-CALDESC:Events for Barrett Paradise Friendly Library
REFRESH-INTERVAL;VALUE=DURATION:PT1H
X-Robots-Tag:noindex
X-PUBLISHED-TTL:PT1H
BEGIN:VTIMEZONE
TZID:America/New_York
BEGIN:DAYLIGHT
TZOFFSETFROM:-0500
TZOFFSETTO:-0400
TZNAME:EDT
DTSTART:20240310T070000
END:DAYLIGHT
BEGIN:STANDARD
TZOFFSETFROM:-0400
TZOFFSETTO:-0500
TZNAME:EST
DTSTART:20241103T060000
END:STANDARD
BEGIN:DAYLIGHT
TZOFFSETFROM:-0500
TZOFFSETTO:-0400
TZNAME:EDT
DTSTART:20250309T070000
END:DAYLIGHT
BEGIN:STANDARD
TZOFFSETFROM:-0400
TZOFFSETTO:-0500
TZNAME:EST
DTSTART:20251102T060000
END:STANDARD
BEGIN:DAYLIGHT
TZOFFSETFROM:-0500
TZOFFSETTO:-0400
TZNAME:EDT
DTSTART:20260308T070000
END:DAYLIGHT
BEGIN:STANDARD
TZOFFSETFROM:-0400
TZOFFSETTO:-0500
TZNAME:EST
DTSTART:20261101T060000
END:STANDARD
END:VTIMEZONE
BEGIN:VEVENT
DTSTART;TZID=America/New_York:20250213T183000
DTEND;TZID=America/New_York:20250213T193000
DTSTAMP:20260424T084112
CREATED:20250125T164406Z
LAST-MODIFIED:20250125T164406Z
UID:7093-1739471400-1739475000@www.barrettlibrary.org
SUMMARY:Virtual Writing Group
DESCRIPTION:Join us on Zoom to discuss the art of writing while sharing work with the group.This month we will be focusing on the fundamentals of writing in the mystery genre. If you’re interested in joining\, please contact the Library for more details.
URL:https://www.barrettlibrary.org/event/virtual-writing-group-38/
END:VEVENT
BEGIN:VEVENT
DTSTART;TZID=America/New_York:20250212T180000
DTEND;TZID=America/New_York:20250212T193000
DTSTAMP:20260424T084112
CREATED:20241214T210910Z
LAST-MODIFIED:20241214T210910Z
UID:6932-1739383200-1739388600@www.barrettlibrary.org
SUMMARY:Keyboarding Classes
DESCRIPTION:Join music teacher Michael Capone at the Library for a six-week series on the basics of keyboarding and music reading. Keyboards and headphones provided for use at the Library. Space is limited; registration is required by calling the Library\, 570-595-7171. \nWednesdays\, January 8 – February 12 \nAges 8 – 12: 6:00 pm – 6:45 pm \nAges 13 – Adult: 6:45 pm – 7:30 pm
URL:https://www.barrettlibrary.org/event/keyboarding-classes-6/
END:VEVENT
BEGIN:VEVENT
DTSTART;TZID=America/New_York:20250211T103000
DTEND;TZID=America/New_York:20250211T110000
DTSTAMP:20260424T084112
CREATED:20250121T170308Z
LAST-MODIFIED:20250121T170308Z
UID:7042-1739269800-1739271600@www.barrettlibrary.org
SUMMARY:Baby & Me
DESCRIPTION:Baby & Me \nAges 0-2 \nTuesdays in February 10:30am \nA special story time for our youngest patrons and their grownups.  \nJoin us for stories\, songs\, and games!
URL:https://www.barrettlibrary.org/event/baby-me-66/
END:VEVENT
BEGIN:VEVENT
DTSTART;TZID=America/New_York:20250210T100000
DTEND;TZID=America/New_York:20250210T110000
DTSTAMP:20260424T084112
CREATED:20250125T163751Z
LAST-MODIFIED:20250125T163751Z
UID:7083-1739181600-1739185200@www.barrettlibrary.org
SUMMARY:Mindful Meditation & Yoga
DESCRIPTION:Danielle Lane will guide you through relaxing meditation and light yoga to start your day. This weekly class will replace the Friday yoga classes. Space is limited: please register each week.
URL:https://www.barrettlibrary.org/event/mindful-meditation-yoga-5/
END:VEVENT
BEGIN:VEVENT
DTSTART;TZID=America/New_York:20250208T100000
DTEND;TZID=America/New_York:20250208T120000
DTSTAMP:20260424T084112
CREATED:20250206T132803Z
LAST-MODIFIED:20250206T133743Z
UID:7111-1739008800-1739016000@www.barrettlibrary.org
SUMMARY:Sit & Stitch
DESCRIPTION:Calling all stitchers! Do you enjoy knitting\, crochet\, tatting\, embroidery\, or other fiber arts? Our new\, monthly Sit & Stitch group is for all levels of crafters. We’ll meet on the 2nd Saturday of the month at 10am. Bring projects to work on and enjoy each other’s company. No formal instruction or supplies provided\, just experience and support from others in the group. Our first session is Saturday\, Feb. 8\, 10am. Hope to see you there!
URL:https://www.barrettlibrary.org/event/sit-stitch/
END:VEVENT
BEGIN:VEVENT
DTSTART;TZID=America/New_York:20250206T103000
DTEND;TZID=America/New_York:20250206T111500
DTSTAMP:20260424T084112
CREATED:20250121T171231Z
LAST-MODIFIED:20250206T131622Z
UID:7050-1738837800-1738840500@www.barrettlibrary.org
SUMMARY:CANCELLED: Library Story Time
DESCRIPTION:Library Story Time \nAges 0-5 \nThursdays in February 10:30am \nJoin us in the children’s area for stories\, songs\, crafts\, and more!
URL:https://www.barrettlibrary.org/event/library-story-time-38/
END:VEVENT
BEGIN:VEVENT
DTSTART;VALUE=DATE:20250206
DTEND;VALUE=DATE:20250207
DTSTAMP:20260424T084112
CREATED:20250206T131913Z
LAST-MODIFIED:20250206T132504Z
UID:7109-1738800000-1738886399@www.barrettlibrary.org
SUMMARY:CLOSED TODAY due to the weather
DESCRIPTION:The Library is CLOSED TODAY due to the weather. Stay safe & warm! Curl up with a good book 🙂
URL:https://www.barrettlibrary.org/event/closed-today-due-to-the-weather-3/
END:VEVENT
BEGIN:VEVENT
DTSTART;TZID=America/New_York:20250205T180000
DTEND;TZID=America/New_York:20250205T193000
DTSTAMP:20260424T084112
CREATED:20241214T210823Z
LAST-MODIFIED:20241214T210823Z
UID:6930-1738778400-1738783800@www.barrettlibrary.org
SUMMARY:Keyboarding Classes
DESCRIPTION:Join music teacher Michael Capone at the Library for a six-week series on the basics of keyboarding and music reading. Keyboards and headphones provided for use at the Library. Space is limited; registration is required by calling the Library\, 570-595-7171. \nWednesdays\, January 8 – February 12 \nAges 8 – 12: 6:00 pm – 6:45 pm \nAges 13 – Adult: 6:45 pm – 7:30 pm
URL:https://www.barrettlibrary.org/event/keyboarding-classes-5/
END:VEVENT
BEGIN:VEVENT
DTSTART;TZID=America/New_York:20250204T130000
DTEND;TZID=America/New_York:20250204T150000
DTSTAMP:20260424T084112
CREATED:20241226T163412Z
LAST-MODIFIED:20241226T163412Z
UID:6995-1738674000-1738681200@www.barrettlibrary.org
SUMMARY:Movie Day at the Library
DESCRIPTION:Come to the Library the first Tuesday of each month to watch a newly released movie with friends. This month we will watch White Bird\, starring Helen Mirren. Rated PG-13. \nJulian has struggled to belong ever since he was expelled from his former school for his treatment of Auggie Pullman. To transform his life\, Julian’s grandmother finally reveals her own story of courage. During her youth in Nazi-occupied France\, a boy shelters her from mortal danger. Together\, they find first love in a stunning\, magical world of their own creation\, while the boy’s mother risks everything to keep her safe.
URL:https://www.barrettlibrary.org/event/movie-day-at-the-library-26/
END:VEVENT
BEGIN:VEVENT
DTSTART;TZID=America/New_York:20250204T103000
DTEND;TZID=America/New_York:20250204T110000
DTSTAMP:20260424T084112
CREATED:20250121T170207Z
LAST-MODIFIED:20250121T170207Z
UID:7040-1738665000-1738666800@www.barrettlibrary.org
SUMMARY:Baby & Me
DESCRIPTION:Baby & Me \nAges 0-2 \nTuesdays in February 10:30am \nA special story time for our youngest patrons and their grownups.  \nJoin us for stories\, songs\, and games!  \n 
URL:https://www.barrettlibrary.org/event/baby-me-65/
END:VEVENT
BEGIN:VEVENT
DTSTART;TZID=America/New_York:20250203T180000
DTEND;TZID=America/New_York:20250203T190000
DTSTAMP:20260424T084112
CREATED:20250121T171037Z
LAST-MODIFIED:20250121T171037Z
UID:7048-1738605600-1738609200@www.barrettlibrary.org
SUMMARY:Family Science - Chocolate Scented Playdough
DESCRIPTION:Family Science – Chocolate Scented Playdough \nFamily Program \nMonday\, February 3rd 6pm \nCelebrate Valentine’s Day with a fun and fragrant activity! Families are invited to the library to make their own batch of chocolate playdough. We’ll provide all the ingredients and instructions for creating this delightful sensory material. Get ready for some squishy\, chocolatey fun! Registration is required.
URL:https://www.barrettlibrary.org/event/family-science-chocolate-scented-playdough/
END:VEVENT
BEGIN:VEVENT
DTSTART;TZID=America/New_York:20250203T100000
DTEND;TZID=America/New_York:20250203T110000
DTSTAMP:20260424T084112
CREATED:20250125T163624Z
LAST-MODIFIED:20250125T163637Z
UID:7080-1738576800-1738580400@www.barrettlibrary.org
SUMMARY:Mindful Meditation & Yoga
DESCRIPTION:Danielle Lane will guide you through relaxing meditation and light yoga to start your day. This weekly class will replace the Friday yoga classes. Space is limited: please register each week.
URL:https://www.barrettlibrary.org/event/mindful-meditation/
END:VEVENT
BEGIN:VEVENT
DTSTART;VALUE=DATE:20250203
DTEND;VALUE=DATE:20250204
DTSTAMP:20260424T084112
CREATED:20250125T163504Z
LAST-MODIFIED:20250125T163504Z
UID:7078-1738540800-1738627199@www.barrettlibrary.org
SUMMARY:Blind Date with a Book
DESCRIPTION:It’s time for Blind Date with a book! All month there will be a display of “mystery books” at the Library. Come in\, grab a book\, unwrap it at home\, read it\, rate it using the rating slip on the package\, and bring the rating slip back for a drawing at the end of the month.
URL:https://www.barrettlibrary.org/event/blind-date-with-a-book-4/
END:VEVENT
BEGIN:VEVENT
DTSTART;TZID=America/New_York:20250130T103000
DTEND;TZID=America/New_York:20250130T110000
DTSTAMP:20260424T084112
CREATED:20241217T000610Z
LAST-MODIFIED:20241217T000610Z
UID:6953-1738233000-1738234800@www.barrettlibrary.org
SUMMARY:Library Story Time
DESCRIPTION:Library Story Time \nAges 0-5 \nThursdays in January 10:30am \nJoin us in the children’s area for stories\, songs\, crafts\, and more!
URL:https://www.barrettlibrary.org/event/library-story-time-36/
END:VEVENT
BEGIN:VEVENT
DTSTART;TZID=America/New_York:20250129T180000
DTEND;TZID=America/New_York:20250129T193000
DTSTAMP:20260424T084112
CREATED:20241214T210738Z
LAST-MODIFIED:20241214T210738Z
UID:6928-1738173600-1738179000@www.barrettlibrary.org
SUMMARY:Keyboarding Classes
DESCRIPTION:Join music teacher Michael Capone at the Library for a six-week series on the basics of keyboarding and music reading. Keyboards and headphones provided for use at the Library. Space is limited; registration is required by calling the Library\, 570-595-7171. \nWednesdays\, January 8 – February 12 \nAges 8 – 12: 6:00 pm – 6:45 pm \nAges 13 – Adult: 6:45 pm – 7:30 pm
URL:https://www.barrettlibrary.org/event/keyboarding-classes-4/
END:VEVENT
BEGIN:VEVENT
DTSTART;TZID=America/New_York:20250128T190000
DTEND;TZID=America/New_York:20250128T200000
DTSTAMP:20260424T084112
CREATED:20241226T162207Z
LAST-MODIFIED:20241226T162207Z
UID:6993-1738090800-1738094400@www.barrettlibrary.org
SUMMARY:Virtual Evening Book Club
DESCRIPTION:Join our virtual Evening Book Club on Zoom. This month we will discuss Heaven and Earth Grocery Store by James McBride. If you’re interested in joining\, please contact the Library for more details. \n 
URL:https://www.barrettlibrary.org/event/virtual-evening-book-club-31/
END:VEVENT
BEGIN:VEVENT
DTSTART;TZID=America/New_York:20250128T103000
DTEND;TZID=America/New_York:20250128T110000
DTSTAMP:20260424T084112
CREATED:20241217T000118Z
LAST-MODIFIED:20241217T000118Z
UID:6945-1738060200-1738062000@www.barrettlibrary.org
SUMMARY:Baby & Me
DESCRIPTION:Baby & Me \nAges 0-2 \nTuesdays in January 10:30am \nA special story time for our youngest patrons and their grownups.  \nJoin us for stories\, songs\, and games! 
URL:https://www.barrettlibrary.org/event/baby-me-64/
END:VEVENT
BEGIN:VEVENT
DTSTART;TZID=America/New_York:20250127T100000
DTEND;TZID=America/New_York:20250127T110000
DTSTAMP:20260424T084112
CREATED:20250102T173749Z
LAST-MODIFIED:20250102T173749Z
UID:7007-1737972000-1737975600@www.barrettlibrary.org
SUMMARY:Mindful Meditation & Yoga
DESCRIPTION:Danielle Lane will guide you through relaxing meditation and light yoga to start your day. This weekly class will replace the Friday yoga classes. Space is limited: please register each week by calling the Library\, 570-595-7171.
URL:https://www.barrettlibrary.org/event/mindful-meditation-yoga-4/
END:VEVENT
BEGIN:VEVENT
DTSTART;TZID=America/New_York:20250123T183000
DTEND;TZID=America/New_York:20250123T193000
DTSTAMP:20260424T084112
CREATED:20241226T162052Z
LAST-MODIFIED:20241226T162052Z
UID:6991-1737657000-1737660600@www.barrettlibrary.org
SUMMARY:Virtual Writing Group
DESCRIPTION:Join us on Zoom to discuss the art of writing while sharing work with the group. This month we will talk about the art of writing science fiction. If you’re interested in joining\, please contact the Library for more details.
URL:https://www.barrettlibrary.org/event/virtual-writing-group-37/
END:VEVENT
BEGIN:VEVENT
DTSTART;TZID=America/New_York:20250123T103000
DTEND;TZID=America/New_York:20250123T113000
DTSTAMP:20260424T084112
CREATED:20241217T000305Z
LAST-MODIFIED:20241217T000458Z
UID:6949-1737628200-1737631800@www.barrettlibrary.org
SUMMARY:Library Story Time
DESCRIPTION:Library Story Time \nAges 0-5 \nThursdays in January 10:30am \nJoin us in the children’s area for stories\, songs\, crafts\, and more!
URL:https://www.barrettlibrary.org/event/library-story-time-34/
END:VEVENT
BEGIN:VEVENT
DTSTART;TZID=America/New_York:20250122T180000
DTEND;TZID=America/New_York:20250122T193000
DTSTAMP:20260424T084112
CREATED:20241214T210635Z
LAST-MODIFIED:20241214T210635Z
UID:6926-1737568800-1737574200@www.barrettlibrary.org
SUMMARY:Keyboarding Classes
DESCRIPTION:Join music teacher Michael Capone at the Library for a six-week series on the basics of keyboarding and music reading. Keyboards and headphones provided for use at the Library. Space is limited; registration is required by calling the Library\, 570-595-7171. \nWednesdays\, January 8 – February 12 \nAges 8 – 12: 6:00 pm – 6:45 pm \nAges 13 – Adult: 6:45 pm – 7:30 pm
URL:https://www.barrettlibrary.org/event/keyboarding-classes-3/
END:VEVENT
BEGIN:VEVENT
DTSTART;TZID=America/New_York:20250121T130000
DTEND;TZID=America/New_York:20250121T140000
DTSTAMP:20260424T084112
CREATED:20241226T161853Z
LAST-MODIFIED:20241226T161853Z
UID:6988-1737464400-1737468000@www.barrettlibrary.org
SUMMARY:Afternoon Book Club
DESCRIPTION:Our Afternoon Book Club meets at the Library. An option to join with Zoom is available\, as well. This month we will discuss Tom Lake by Ann Patchett. If you’re interested in joining\, please contact the Library for more details.
URL:https://www.barrettlibrary.org/event/afternoon-book-club-19/
END:VEVENT
BEGIN:VEVENT
DTSTART;TZID=America/New_York:20250121T103000
DTEND;TZID=America/New_York:20250121T110000
DTSTAMP:20260424T084112
CREATED:20241217T000014Z
LAST-MODIFIED:20241217T000014Z
UID:6943-1737455400-1737457200@www.barrettlibrary.org
SUMMARY:Baby & Me
DESCRIPTION:Baby & Me \nAges 0-2 \nTuesdays in January 10:30am \nA special story time for our youngest patrons and their grownups.  \nJoin us for stories\, songs\, and games! 
URL:https://www.barrettlibrary.org/event/baby-me-63/
END:VEVENT
BEGIN:VEVENT
DTSTART;TZID=America/New_York:20250121T080000
DTEND;TZID=America/New_York:20250121T170000
DTSTAMP:20260424T084112
CREATED:20250121T175035Z
LAST-MODIFIED:20250121T175035Z
UID:7054-1737446400-1737478800@www.barrettlibrary.org
SUMMARY:Teen Activity Club - Needle Felt Hearts
DESCRIPTION:Teen Activity Club – Needle Felt Hearts \nTeens Ages 12-17 \nMonday\, February 10th 6pm \nNeedle felt a heart for someone you love (or yourself!) this Valentine’s Day.  \nTeens will learn basic needle felting techniques and create a cute heart that can be made into a necklace or keychain.  \nAll materials provided\, no experience necessary!  \nRegistration is required. \n\n  \n  \n  \n  \n 
URL:https://www.barrettlibrary.org/event/teen-activity-club-needle-felt-hearts/
END:VEVENT
BEGIN:VEVENT
DTSTART;TZID=America/New_York:20250120T100000
DTEND;TZID=America/New_York:20250120T110000
DTSTAMP:20260424T084112
CREATED:20250102T173655Z
LAST-MODIFIED:20250120T124902Z
UID:7005-1737367200-1737370800@www.barrettlibrary.org
SUMMARY:CANCELLED: Mindful Meditation & Yoga
DESCRIPTION:Danielle Lane will guide you through relaxing meditation and light yoga to start your day. This weekly class will replace the Friday yoga classes. Space is limited: please register each week by calling the Library\, 570-595-7171.
URL:https://www.barrettlibrary.org/event/mindful-meditation-yoga-3/
END:VEVENT
BEGIN:VEVENT
DTSTART;VALUE=DATE:20250120
DTEND;VALUE=DATE:20250121
DTSTAMP:20260424T084112
CREATED:20250120T125104Z
LAST-MODIFIED:20250120T125308Z
UID:7037-1737331200-1737417599@www.barrettlibrary.org
SUMMARY:DELAYED OPENING: 11am
DESCRIPTION:Due to the weather\, the Library will delay opening until 11am. We’re open until 8pm tonight. Stay safe out there!
URL:https://www.barrettlibrary.org/event/delayed-opening-11am-2/
END:VEVENT
BEGIN:VEVENT
DTSTART;VALUE=DATE:20250120
DTEND;VALUE=DATE:20250121
DTSTAMP:20260424T084112
CREATED:20241226T161750Z
LAST-MODIFIED:20241226T161750Z
UID:6986-1737331200-1737417599@www.barrettlibrary.org
SUMMARY:Adult Take-Home Kit: Citrus Lip Balm
DESCRIPTION:Make your own refreshing lip balm! We supply all the materials. You must register to receive a kit by calling the Library\, 570-595-7171\, or emailing Lynn\, l.vromanbpfl (at) gmail (dot) com. Supplies will be available for pickup beginning Monday\, January 20. 
URL:https://www.barrettlibrary.org/event/adult-take-home-kit-citrus-lip-balm/
END:VEVENT
BEGIN:VEVENT
DTSTART;TZID=America/New_York:20250116T103000
DTEND;TZID=America/New_York:20250116T113000
DTSTAMP:20260424T084112
CREATED:20241217T000401Z
LAST-MODIFIED:20250116T131010Z
UID:6951-1737023400-1737027000@www.barrettlibrary.org
SUMMARY:Library Story Time -canceled today
DESCRIPTION:Library Story Time (canceled today 🤒) \nAges 0-5 \nThursdays in January 10:30am \nJoin us in the children’s area for stories\, songs\, crafts\, and more! \n 
URL:https://www.barrettlibrary.org/event/library-story-time-35/
END:VEVENT
BEGIN:VEVENT
DTSTART;TZID=America/New_York:20250115T180000
DTEND;TZID=America/New_York:20250115T193000
DTSTAMP:20260424T084112
CREATED:20241214T210549Z
LAST-MODIFIED:20241214T210549Z
UID:6924-1736964000-1736969400@www.barrettlibrary.org
SUMMARY:Keyboarding Classes
DESCRIPTION:Join music teacher Michael Capone at the Library for a six-week series on the basics of keyboarding and music reading. Keyboards and headphones provided for use at the Library. Space is limited; registration is required by calling the Library\, 570-595-7171. \nWednesdays\, January 8 – February 12 \nAges 8 – 12: 6:00 pm – 6:45 pm \nAges 13 – Adult: 6:45 pm – 7:30 pm
URL:https://www.barrettlibrary.org/event/keyboarding-classes-2/
END:VEVENT
BEGIN:VEVENT
DTSTART;TZID=America/New_York:20250114T103000
DTEND;TZID=America/New_York:20250114T110000
DTSTAMP:20260424T084112
CREATED:20241216T235934Z
LAST-MODIFIED:20241216T235934Z
UID:6941-1736850600-1736852400@www.barrettlibrary.org
SUMMARY:Baby & Me
DESCRIPTION:Baby & Me \nAges 0-2 \nTuesdays in January 10:30am \nA special story time for our youngest patrons and their grownups.  \nJoin us for stories\, songs\, and games! 
URL:https://www.barrettlibrary.org/event/baby-me-62/
END:VEVENT
END:VCALENDAR