BEGIN:VCALENDAR
VERSION:2.0
PRODID:-//Barrett Paradise Friendly Library - ECPv6.15.20//NONSGML v1.0//EN
CALSCALE:GREGORIAN
METHOD:PUBLISH
X-WR-CALNAME:Barrett Paradise Friendly Library
X-ORIGINAL-URL:https://www.barrettlibrary.org
X-WR-CALDESC:Events for Barrett Paradise Friendly Library
REFRESH-INTERVAL;VALUE=DURATION:PT1H
X-Robots-Tag:noindex
X-PUBLISHED-TTL:PT1H
BEGIN:VTIMEZONE
TZID:America/New_York
BEGIN:DAYLIGHT
TZOFFSETFROM:-0500
TZOFFSETTO:-0400
TZNAME:EDT
DTSTART:20240310T070000
END:DAYLIGHT
BEGIN:STANDARD
TZOFFSETFROM:-0400
TZOFFSETTO:-0500
TZNAME:EST
DTSTART:20241103T060000
END:STANDARD
BEGIN:DAYLIGHT
TZOFFSETFROM:-0500
TZOFFSETTO:-0400
TZNAME:EDT
DTSTART:20250309T070000
END:DAYLIGHT
BEGIN:STANDARD
TZOFFSETFROM:-0400
TZOFFSETTO:-0500
TZNAME:EST
DTSTART:20251102T060000
END:STANDARD
BEGIN:DAYLIGHT
TZOFFSETFROM:-0500
TZOFFSETTO:-0400
TZNAME:EDT
DTSTART:20260308T070000
END:DAYLIGHT
BEGIN:STANDARD
TZOFFSETFROM:-0400
TZOFFSETTO:-0500
TZNAME:EST
DTSTART:20261101T060000
END:STANDARD
END:VTIMEZONE
BEGIN:VEVENT
DTSTART;TZID=America/New_York:20250617T103000
DTEND;TZID=America/New_York:20250617T110000
DTSTAMP:20260424T014413
CREATED:20250519T233602Z
LAST-MODIFIED:20250519T233602Z
UID:7384-1750156200-1750158000@www.barrettlibrary.org
SUMMARY:Baby & Me
DESCRIPTION:Baby & Me \nAges 0-2 \nTuesdays in June 10:30am \nA special story time for our youngest patrons and their grownups.  \nJoin us for stories\, songs\, and games!
URL:https://www.barrettlibrary.org/event/baby-me-86/
END:VEVENT
BEGIN:VEVENT
DTSTART;TZID=America/New_York:20250617T130000
DTEND;TZID=America/New_York:20250617T140000
DTSTAMP:20260424T014413
CREATED:20250528T150114Z
LAST-MODIFIED:20250528T150114Z
UID:7425-1750165200-1750168800@www.barrettlibrary.org
SUMMARY:Afternoon Book Club
DESCRIPTION:Our Afternoon Book Club meets at the Library. An option to join with Zoom is available\, as well. This month we will discuss Life with Charley by John Steinbeck. If you’re interested in joining\, please contact the Library for more details.
URL:https://www.barrettlibrary.org/event/afternoon-book-club-24/
END:VEVENT
BEGIN:VEVENT
DTSTART;TZID=America/New_York:20250619T103000
DTEND;TZID=America/New_York:20250619T111500
DTSTAMP:20260424T014413
CREATED:20250519T233904Z
LAST-MODIFIED:20250519T233904Z
UID:7390-1750329000-1750331700@www.barrettlibrary.org
SUMMARY:Library Story Time
DESCRIPTION:Library Story Time \nAges 0-5 \nThursdays in June 10:30am \nNo story time on June 26th \nJoin us in the children’s area for stories\, songs\, crafts\, and more!
URL:https://www.barrettlibrary.org/event/library-story-time-57/
END:VEVENT
BEGIN:VEVENT
DTSTART;TZID=America/New_York:20250623T100000
DTEND;TZID=America/New_York:20250623T110000
DTSTAMP:20260424T014413
CREATED:20250528T145119Z
LAST-MODIFIED:20250528T145119Z
UID:7415-1750672800-1750676400@www.barrettlibrary.org
SUMMARY:Mindful Meditation & Yoga
DESCRIPTION:Danielle Lane will guide you through relaxing meditation with light yoga or basic Pilates to start your day. Please register each week.
URL:https://www.barrettlibrary.org/event/mindful-meditation-yoga-23/
END:VEVENT
BEGIN:VEVENT
DTSTART;TZID=America/New_York:20250624T103000
DTEND;TZID=America/New_York:20250624T110000
DTSTAMP:20260424T014413
CREATED:20250519T233517Z
LAST-MODIFIED:20250519T233517Z
UID:7382-1750761000-1750762800@www.barrettlibrary.org
SUMMARY:Baby & Me
DESCRIPTION:Baby & Me \nAges 0-2 \nTuesdays in June 10:30am \nA special story time for our youngest patrons and their grownups.  \nJoin us for stories\, songs\, and games!
URL:https://www.barrettlibrary.org/event/baby-me-85/
END:VEVENT
BEGIN:VEVENT
DTSTART;TZID=America/New_York:20250624T190000
DTEND;TZID=America/New_York:20250624T200000
DTSTAMP:20260424T014413
CREATED:20250528T150218Z
LAST-MODIFIED:20250528T150218Z
UID:7427-1750791600-1750795200@www.barrettlibrary.org
SUMMARY:Virtual Evening Book Club
DESCRIPTION:Join our virtual Evening Book Club on Zoom. This month we will discuss The Seven Husbands of Evelyn Hugo by Taylor Jenkins Reid. If you’re interested in joining\, please contact the Library for more details.
URL:https://www.barrettlibrary.org/event/virtual-evening-book-club-35/
END:VEVENT
BEGIN:VEVENT
DTSTART;TZID=America/New_York:20250626T103000
DTEND;TZID=America/New_York:20250626T114500
DTSTAMP:20260424T014413
CREATED:20250519T234103Z
LAST-MODIFIED:20250624T172910Z
UID:7392-1750933800-1750938300@www.barrettlibrary.org
SUMMARY:Color Our World: Summer Reading Kickoff Party
DESCRIPTION:Color Your World: Summer Reading Kickoff Party \nChildren of all ages! \nThursday\, June 26 \n10:30am \nKick off a summer of colorful fun at Ice Lake! Registration is required. \nWe will meet under the pavilion at the Barrett Township Community Park at Ice Lake. \nAny weather-related updates will be posted to our Facebook page. \n 
URL:https://www.barrettlibrary.org/event/color-your-world-summer-reading-kickoff-party/
END:VEVENT
BEGIN:VEVENT
DTSTART;TZID=America/New_York:20250630T100000
DTEND;TZID=America/New_York:20250630T110000
DTSTAMP:20260424T014413
CREATED:20250528T145157Z
LAST-MODIFIED:20250528T145157Z
UID:7417-1751277600-1751281200@www.barrettlibrary.org
SUMMARY:Mindful Meditation & Yoga
DESCRIPTION:Danielle Lane will guide you through relaxing meditation with light yoga or basic Pilates to start your day.
URL:https://www.barrettlibrary.org/event/mindful-meditation-yoga-24/
END:VEVENT
BEGIN:VEVENT
DTSTART;TZID=America/New_York:20250701T103000
DTEND;TZID=America/New_York:20250701T113000
DTSTAMP:20260424T014413
CREATED:20250619T173225Z
LAST-MODIFIED:20250619T173225Z
UID:7459-1751365800-1751369400@www.barrettlibrary.org
SUMMARY:Baby & Me
DESCRIPTION:Baby & Me \nAges 0-2 \nTuesdays in July 10:30am \nA special story time for our youngest patrons and their grownups.  \nJoin us for stories\, songs\, and games!
URL:https://www.barrettlibrary.org/event/baby-me-87/
END:VEVENT
BEGIN:VEVENT
DTSTART;TZID=America/New_York:20250701T130000
DTEND;TZID=America/New_York:20250701T153000
DTSTAMP:20260424T014413
CREATED:20250528T150425Z
LAST-MODIFIED:20250528T150425Z
UID:7429-1751374800-1751383800@www.barrettlibrary.org
SUMMARY:Movie Day at the Library
DESCRIPTION:Come to the Library the first Tuesday of each month to watch a newly released movie with friends. This month we will watch Gladiator II\, starring Pedro Pascal\, Denzel Washington\, and Paul Mescal. Rated R. \n  \nYears after witnessing the death of Maximus at the hands of his uncle\, Lucius must enter the Colosseum after the powerful emperors of Rome conquer his home. With rage in his heart and the future of the empire at stake\, he looks to the past to find the strength and honor needed to return the glory of Rome to its people.
URL:https://www.barrettlibrary.org/event/movie-day-at-the-library-31/
END:VEVENT
BEGIN:VEVENT
DTSTART;TZID=America/New_York:20250703T103000
DTEND;TZID=America/New_York:20250703T113000
DTSTAMP:20260424T014413
CREATED:20250618T191014Z
LAST-MODIFIED:20250618T191014Z
UID:7442-1751538600-1751542200@www.barrettlibrary.org
SUMMARY:Color Our World - Lego Challenges
DESCRIPTION:Color Our World – Lego Challenges \nAges 6-11 \nThursday\, July 3rd 10:30am \nTry your best to complete all 9 Lego challenges!
URL:https://www.barrettlibrary.org/event/color-our-world-lego-challenges/
END:VEVENT
BEGIN:VEVENT
DTSTART;VALUE=DATE:20250704
DTEND;VALUE=DATE:20250705
DTSTAMP:20260424T014413
CREATED:20250702T151412Z
LAST-MODIFIED:20250702T151412Z
UID:7509-1751587200-1751673599@www.barrettlibrary.org
SUMMARY:LIBRARY CLOSED in observance of Independence Day
DESCRIPTION:The Library is CLOSED on July 4th. Have a safe and happy holiday!
URL:https://www.barrettlibrary.org/event/library-closed-in-observance-of-independence-day-2/
END:VEVENT
BEGIN:VEVENT
DTSTART;TZID=America/New_York:20250707T100000
DTEND;TZID=America/New_York:20250707T110000
DTSTAMP:20260424T014413
CREATED:20250621T173544Z
LAST-MODIFIED:20250621T173544Z
UID:7470-1751882400-1751886000@www.barrettlibrary.org
SUMMARY:Mindful Meditation & Yoga
DESCRIPTION:Danielle Lane will guide you through relaxing meditation with light yoga or basic Pilates to start your day. Please register each week.
URL:https://www.barrettlibrary.org/event/mindful-meditation-yoga-25/
END:VEVENT
BEGIN:VEVENT
DTSTART;TZID=America/New_York:20250707T103000
DTEND;TZID=America/New_York:20250707T113000
DTSTAMP:20260424T014413
CREATED:20250619T154418Z
LAST-MODIFIED:20250619T154418Z
UID:7452-1751884200-1751887800@www.barrettlibrary.org
SUMMARY:Library Story Time
DESCRIPTION:Library Story Time \nAges 0-5 \nMondays in July 10:30am \nJoin us in the children’s area for stories\, songs\, crafts\, and more!
URL:https://www.barrettlibrary.org/event/library-story-time-58/
END:VEVENT
BEGIN:VEVENT
DTSTART;TZID=America/New_York:20250708T103000
DTEND;TZID=America/New_York:20250708T110000
DTSTAMP:20260424T014413
CREATED:20250619T173407Z
LAST-MODIFIED:20250619T173407Z
UID:7461-1751970600-1751972400@www.barrettlibrary.org
SUMMARY:Baby & Me
DESCRIPTION:Baby & Me \nAges 0-2 \nTuesdays in July 10:30am \nA special story time for our youngest patrons and their grownups.  \nJoin us for stories\, songs\, and games!
URL:https://www.barrettlibrary.org/event/baby-me-88/
END:VEVENT
BEGIN:VEVENT
DTSTART;TZID=America/New_York:20250710T103000
DTEND;TZID=America/New_York:20250710T113000
DTSTAMP:20260424T014413
CREATED:20250618T191203Z
LAST-MODIFIED:20250618T191203Z
UID:7444-1752143400-1752147000@www.barrettlibrary.org
SUMMARY:Color My World - Rainbow Paint Party
DESCRIPTION:Color My World – Rainbow Paint Party \nAges 6-11 \nThursday\, July 10th 10:30am \nJoin us in the Weiler Room for a beautiful rainbow-themed painting project.
URL:https://www.barrettlibrary.org/event/color-my-world-rainbow-paint-party/
END:VEVENT
BEGIN:VEVENT
DTSTART;TZID=America/New_York:20250710T183000
DTEND;TZID=America/New_York:20250710T193000
DTSTAMP:20260424T014413
CREATED:20250621T183243Z
LAST-MODIFIED:20250621T183243Z
UID:7478-1752172200-1752175800@www.barrettlibrary.org
SUMMARY:Virtual Writing Group
DESCRIPTION:Join us on Zoom to discuss the art of writing while sharing work with the group. This month we will focus on writing fanfiction. If you’re interested in joining\, please contact Lynn for more details.
URL:https://www.barrettlibrary.org/event/virtual-writing-group-43/
END:VEVENT
BEGIN:VEVENT
DTSTART;TZID=America/New_York:20250712T100000
DTEND;TZID=America/New_York:20250712T110000
DTSTAMP:20260424T014413
CREATED:20250621T183352Z
LAST-MODIFIED:20250621T183352Z
UID:7480-1752314400-1752318000@www.barrettlibrary.org
SUMMARY:Sit & Stitch
DESCRIPTION:Do you enjoy knitting\, crochet\, tatting\, embroidery\, or other fiber arts? Our new\, monthly Sit & Stitch group is for all levels of crafters. We’ll meet on the 2nd Saturday of the month at 10am. Bring projects to work on and enjoy each other’s company. No formal instruction or supplies provided\, just experience and support from others in the group.
URL:https://www.barrettlibrary.org/event/sit-stitch-6/
END:VEVENT
BEGIN:VEVENT
DTSTART;TZID=America/New_York:20250714T100000
DTEND;TZID=America/New_York:20250714T110000
DTSTAMP:20260424T014413
CREATED:20250621T173747Z
LAST-MODIFIED:20250621T173747Z
UID:7472-1752487200-1752490800@www.barrettlibrary.org
SUMMARY:Mindful Meditation & Yoga
DESCRIPTION:Danielle Lane will guide you through relaxing meditation with light yoga or basic Pilates to start your day. Please register each week.
URL:https://www.barrettlibrary.org/event/mindful-meditation-yoga-26/
END:VEVENT
BEGIN:VEVENT
DTSTART;TZID=America/New_York:20250714T103000
DTEND;TZID=America/New_York:20250714T113000
DTSTAMP:20260424T014413
CREATED:20250619T154510Z
LAST-MODIFIED:20250619T171043Z
UID:7454-1752489000-1752492600@www.barrettlibrary.org
SUMMARY:Library Story Time
DESCRIPTION:Library Story Time \nAges 0-5 \nMondays in July 10:30am \nJoin us in the children’s area for stories\, songs\, crafts\, and more!
URL:https://www.barrettlibrary.org/event/library-story-time-59/
END:VEVENT
BEGIN:VEVENT
DTSTART;TZID=America/New_York:20250715T103000
DTEND;TZID=America/New_York:20250715T110000
DTSTAMP:20260424T014413
CREATED:20250619T173505Z
LAST-MODIFIED:20250619T173505Z
UID:7463-1752575400-1752577200@www.barrettlibrary.org
SUMMARY:Baby & Me
DESCRIPTION:Baby & Me \nAges 0-2 \nTuesdays in July 10:30am \nA special story time for our youngest patrons and their grownups.  \nJoin us for stories\, songs\, and games!
URL:https://www.barrettlibrary.org/event/baby-me-89/
END:VEVENT
BEGIN:VEVENT
DTSTART;TZID=America/New_York:20250715T130000
DTEND;TZID=America/New_York:20250715T140000
DTSTAMP:20260424T014413
CREATED:20250621T183840Z
LAST-MODIFIED:20250621T183840Z
UID:7484-1752584400-1752588000@www.barrettlibrary.org
SUMMARY:Afternoon Book Club
DESCRIPTION:Our Afternoon Book Club meets at the Library. An option to join with Zoom is available\, as well. This month we will discuss Magpie Murders by Anthony Horowitz. If you’re interested in joining\, please contact the Library for more details.
URL:https://www.barrettlibrary.org/event/afternoon-book-club-25/
END:VEVENT
BEGIN:VEVENT
DTSTART;TZID=America/New_York:20250716T180000
DTEND;TZID=America/New_York:20250716T190000
DTSTAMP:20260424T014413
CREATED:20250621T183558Z
LAST-MODIFIED:20250712T183527Z
UID:7482-1752688800-1752692400@www.barrettlibrary.org
SUMMARY:POSTPONED. LATER DATE WILL BE ANNOUNCED. DIY Garden Gnomes
DESCRIPTION:Come to the Library to make adorable garden gnomes with Judie Tim! We supply all the materials. Space is limited; you must register for this program. \n 
URL:https://www.barrettlibrary.org/event/diy-garden-gnomes/
END:VEVENT
BEGIN:VEVENT
DTSTART;TZID=America/New_York:20250717T103000
DTEND;TZID=America/New_York:20250717T113000
DTSTAMP:20260424T014413
CREATED:20250618T192831Z
LAST-MODIFIED:20250618T193018Z
UID:7446-1752748200-1752751800@www.barrettlibrary.org
SUMMARY:Color Our World - Rainbow Yoga
DESCRIPTION:  \nColor Our World – Rainbow Yoga \nAges 6-11 \nThursday\, July 17th 10:30am \nJoin us for a yoga journey including games\, music\, and poses. \nRegistration is required.
URL:https://www.barrettlibrary.org/event/color-our-world-rainbow-yoga/
END:VEVENT
BEGIN:VEVENT
DTSTART;VALUE=DATE:20250721
DTEND;VALUE=DATE:20250722
DTSTAMP:20260424T014413
CREATED:20250624T170439Z
LAST-MODIFIED:20250624T170439Z
UID:7493-1753056000-1753142399@www.barrettlibrary.org
SUMMARY:Adult Take-Home Kit: Suncatchers
DESCRIPTION:Trap some of that summer sun with a DIY suncatcher! We supply all the materials. You must register to receive a kit. Supplies will be available for pickup beginning Monday\, July 21.
URL:https://www.barrettlibrary.org/event/adult-take-home-kit-suncatchers/
END:VEVENT
BEGIN:VEVENT
DTSTART;TZID=America/New_York:20250721T100000
DTEND;TZID=America/New_York:20250721T110000
DTSTAMP:20260424T014413
CREATED:20250621T182752Z
LAST-MODIFIED:20250621T182752Z
UID:7474-1753092000-1753095600@www.barrettlibrary.org
SUMMARY:Mindful Meditation & Yoga
DESCRIPTION:Danielle Lane will guide you through relaxing meditation with light yoga or basic Pilates to start your day. Please register each week.
URL:https://www.barrettlibrary.org/event/mindful-meditation-yoga-27/
END:VEVENT
BEGIN:VEVENT
DTSTART;TZID=America/New_York:20250721T103000
DTEND;TZID=America/New_York:20250721T113000
DTSTAMP:20260424T014413
CREATED:20250721T132157Z
LAST-MODIFIED:20250721T133727Z
UID:7566-1753093800-1753097400@www.barrettlibrary.org
SUMMARY:Library Story Time
DESCRIPTION:Join us for stories\,  songs\, and games. \nAges 0-5
URL:https://www.barrettlibrary.org/event/library-story-time-65/
END:VEVENT
BEGIN:VEVENT
DTSTART;TZID=America/New_York:20250722T103000
DTEND;TZID=America/New_York:20250722T110000
DTSTAMP:20260424T014413
CREATED:20250619T174657Z
LAST-MODIFIED:20250619T174657Z
UID:7465-1753180200-1753182000@www.barrettlibrary.org
SUMMARY:Baby & Me
DESCRIPTION:Baby & Me \nAges 0-2 \nTuesdays in July 10:30am \nA special story time for our youngest patrons and their grownups.  \nJoin us for stories\, songs\, and games!
URL:https://www.barrettlibrary.org/event/baby-me-90/
END:VEVENT
BEGIN:VEVENT
DTSTART;TZID=America/New_York:20250724T103000
DTEND;TZID=America/New_York:20250724T113000
DTSTAMP:20260424T014413
CREATED:20250618T192903Z
LAST-MODIFIED:20250618T192924Z
UID:7448-1753353000-1753356600@www.barrettlibrary.org
SUMMARY:Color Our World - Color Science
DESCRIPTION:Color Our World – Color Science \nAges 6-11 \nThursday\, July 24th 10:30am \nTry out these simple science experiments involving color!  \nWe will explore chromatography\, color mixing\, acidity\, and more! \nRegistration is required.
URL:https://www.barrettlibrary.org/event/color-our-world-color-science/
END:VEVENT
BEGIN:VEVENT
DTSTART;TZID=America/New_York:20250728T100000
DTEND;TZID=America/New_York:20250728T110000
DTSTAMP:20260424T014413
CREATED:20250621T182914Z
LAST-MODIFIED:20250621T182914Z
UID:7476-1753696800-1753700400@www.barrettlibrary.org
SUMMARY:Mindful Meditation & Yoga
DESCRIPTION:Danielle Lane will guide you through relaxing meditation with light yoga or basic Pilates to start your day. Please register each week.
URL:https://www.barrettlibrary.org/event/mindful-meditation-yoga-28/
END:VEVENT
END:VCALENDAR