BEGIN:VCALENDAR
VERSION:2.0
PRODID:-//Barrett Paradise Friendly Library - ECPv6.15.20//NONSGML v1.0//EN
CALSCALE:GREGORIAN
METHOD:PUBLISH
X-WR-CALNAME:Barrett Paradise Friendly Library
X-ORIGINAL-URL:https://www.barrettlibrary.org
X-WR-CALDESC:Events for Barrett Paradise Friendly Library
REFRESH-INTERVAL;VALUE=DURATION:PT1H
X-Robots-Tag:noindex
X-PUBLISHED-TTL:PT1H
BEGIN:VTIMEZONE
TZID:America/New_York
BEGIN:DAYLIGHT
TZOFFSETFROM:-0500
TZOFFSETTO:-0400
TZNAME:EDT
DTSTART:20250309T070000
END:DAYLIGHT
BEGIN:STANDARD
TZOFFSETFROM:-0400
TZOFFSETTO:-0500
TZNAME:EST
DTSTART:20251102T060000
END:STANDARD
BEGIN:DAYLIGHT
TZOFFSETFROM:-0500
TZOFFSETTO:-0400
TZNAME:EDT
DTSTART:20260308T070000
END:DAYLIGHT
BEGIN:STANDARD
TZOFFSETFROM:-0400
TZOFFSETTO:-0500
TZNAME:EST
DTSTART:20261101T060000
END:STANDARD
BEGIN:DAYLIGHT
TZOFFSETFROM:-0500
TZOFFSETTO:-0400
TZNAME:EDT
DTSTART:20270314T070000
END:DAYLIGHT
BEGIN:STANDARD
TZOFFSETFROM:-0400
TZOFFSETTO:-0500
TZNAME:EST
DTSTART:20271107T060000
END:STANDARD
END:VTIMEZONE
BEGIN:VEVENT
DTSTART;TZID=America/New_York:20260223T114500
DTEND;TZID=America/New_York:20260223T124500
DTSTAMP:20260423T202851
CREATED:20260129T163938Z
LAST-MODIFIED:20260223T133102Z
UID:8158-1771847100-1771850700@www.barrettlibrary.org
SUMMARY:CANCELLED: Light Yoga & Beginner Pilates 11:45 am (NEW TIME!)
DESCRIPTION:FEB 23: CLASS IS CANCELLED TODAY DUE TO THE WEATHER. \nDanielle Lane will guide you through relaxing light yoga or beginner Pilates to start your day.
URL:https://www.barrettlibrary.org/event/light-yoga-beginner-pilates-1145-am-new-time-4/
END:VEVENT
BEGIN:VEVENT
DTSTART;TZID=America/New_York:20260224T103000
DTEND;TZID=America/New_York:20260224T110000
DTSTAMP:20260423T202851
CREATED:20251222T205951Z
LAST-MODIFIED:20251222T205951Z
UID:8028-1771929000-1771930800@www.barrettlibrary.org
SUMMARY:Baby & Me
DESCRIPTION:Baby & Me \nAges 0-2 \nTuesdays in February 10:30am \nA special story time for our youngest patrons and their grownups.  \nJoin us for stories\, songs\, and games!
URL:https://www.barrettlibrary.org/event/baby-me-121/
END:VEVENT
BEGIN:VEVENT
DTSTART;TZID=America/New_York:20260224T190000
DTEND;TZID=America/New_York:20260224T200000
DTSTAMP:20260423T202851
CREATED:20260129T165522Z
LAST-MODIFIED:20260129T165522Z
UID:8176-1771959600-1771963200@www.barrettlibrary.org
SUMMARY:Virtual Evening Book Club
DESCRIPTION:Join our virtual Evening Book Club on Zoom. This month we will discuss Before We Were Yours by Lisa Wingate. If you’re interested in joining\, please contact the Library for more details.
URL:https://www.barrettlibrary.org/event/virtual-evening-book-club-42/
END:VEVENT
BEGIN:VEVENT
DTSTART;TZID=America/New_York:20260225T103000
DTEND;TZID=America/New_York:20260225T113000
DTSTAMP:20260423T202851
CREATED:20260129T164858Z
LAST-MODIFIED:20260129T164858Z
UID:8166-1772015400-1772019000@www.barrettlibrary.org
SUMMARY:Shakespeare Group
DESCRIPTION:Join the entertaining & knowledgeable Pat Williams at the Library. All are welcome\, whether you’re a Bard beginner or a long-time devotee. Discuss plays\, watch films\, and more. Attendees will help guide the direction of the group. 
URL:https://www.barrettlibrary.org/event/shakespeare-group-41/
END:VEVENT
BEGIN:VEVENT
DTSTART;TZID=America/New_York:20260226T103000
DTEND;TZID=America/New_York:20260226T113000
DTSTAMP:20260423T202851
CREATED:20251222T210522Z
LAST-MODIFIED:20251222T210522Z
UID:8036-1772101800-1772105400@www.barrettlibrary.org
SUMMARY:Library Story Time
DESCRIPTION:Library Story Time \nAges 0-5 \nThursdays in February 10:30am \nJoin us in the children’s area for stories\, songs\, crafts\, and more!
URL:https://www.barrettlibrary.org/event/library-story-time-88/
END:VEVENT
BEGIN:VEVENT
DTSTART;TZID=America/New_York:20260226T183000
DTEND;TZID=America/New_York:20260226T193000
DTSTAMP:20260423T202851
CREATED:20260129T165722Z
LAST-MODIFIED:20260129T165722Z
UID:8178-1772130600-1772134200@www.barrettlibrary.org
SUMMARY:Virtual Writing Group: Ready to Write a Novel?
DESCRIPTION:This month we will discuss brainstorming ideas for our novel and get feedback from the group. We will also discuss the art of outlining and if it’s right for you. If you’re interested in joining us\, please contact Lynn for more info.
URL:https://www.barrettlibrary.org/event/virtual-writing-group-ready-to-write-a-novel-4/
END:VEVENT
BEGIN:VEVENT
DTSTART;TZID=America/New_York:20260227T103000
DTEND;TZID=America/New_York:20260227T114500
DTSTAMP:20260423T202851
CREATED:20251222T211607Z
LAST-MODIFIED:20251222T211719Z
UID:8048-1772188200-1772192700@www.barrettlibrary.org
SUMMARY:Family Place Play & Grow Workshop
DESCRIPTION:Family Place Play & Grow Workshop \nAges 0-3\, siblings up to age 5 are welcome \nFridays\, February 6th\, 13th\, 20th\, and 27th  10:30am-11:45am \nThis five-week series brings together toddlers and parents for play time!! \nProfessionals from local agencies will be on hand to support the role of parents as first teachers\, facilitate early intervention\,  \nand teach strategies to promote healthy child development and literacy.  \nRegistration required.
URL:https://www.barrettlibrary.org/event/family-place-play-grow-workshop-10/
END:VEVENT
BEGIN:VEVENT
DTSTART;TZID=America/New_York:20260302T114500
DTEND;TZID=America/New_York:20260302T124500
DTSTAMP:20260423T202851
CREATED:20260228T160535Z
LAST-MODIFIED:20260228T160535Z
UID:8238-1772451900-1772455500@www.barrettlibrary.org
SUMMARY:Light Yoga & Beginner Pilates
DESCRIPTION:Danielle Lane will guide you through relaxing light yoga or beginner Pilates. The level of difficulty will be tailored to the participants.
URL:https://www.barrettlibrary.org/event/light-yoga-beginner-pilates-6/
END:VEVENT
BEGIN:VEVENT
DTSTART;TZID=America/New_York:20260302T170000
DTEND;TZID=America/New_York:20260302T193000
DTSTAMP:20260423T202851
CREATED:20260205T155742Z
LAST-MODIFIED:20260205T160130Z
UID:8202-1772470800-1772479800@www.barrettlibrary.org
SUMMARY:BPFL Book Bash!
DESCRIPTION:BPFL Book Bash! \nAll Ages \nMonday\, March 2nd 5pm-7:30pm \nJoin us as we kick off National Read Across America Week at the library and celebrate the joy of reading!  \nBring your favorite book (or borrow one of ours) and join us in the library for snacks and prizes while you cozy up and read.  \nRegistration is required.
URL:https://www.barrettlibrary.org/event/8202/
END:VEVENT
BEGIN:VEVENT
DTSTART;VALUE=DATE:20260303
DTEND;VALUE=DATE:20260304
DTSTAMP:20260423T202851
CREATED:20260303T142421Z
LAST-MODIFIED:20260303T142421Z
UID:8286-1772496000-1772582399@www.barrettlibrary.org
SUMMARY:LIBRARY CLOSED TODAY DUE TO WEATHER
DESCRIPTION:TUE\, MAR 3: The Library is CLOSED today due to the weather. Stay safe and warm! Curl up with a good book  Digital resources are available 24/7 on our website: www.barrettlibrary.org
URL:https://www.barrettlibrary.org/event/library-closed-today-due-to-weather/
END:VEVENT
BEGIN:VEVENT
DTSTART;TZID=America/New_York:20260303T103000
DTEND;TZID=America/New_York:20260303T110000
DTSTAMP:20260423T202851
CREATED:20260205T154057Z
LAST-MODIFIED:20260303T142242Z
UID:8184-1772533800-1772535600@www.barrettlibrary.org
SUMMARY:Baby & Me (CANCELED TODAY)
DESCRIPTION:Baby & Me \nAges 0-2 \nTuesdays in March 10:30am \nA special story time for our youngest patrons and their grownups.  \nJoin us for stories\, songs\, and games! 
URL:https://www.barrettlibrary.org/event/baby-me-122/
END:VEVENT
BEGIN:VEVENT
DTSTART;TZID=America/New_York:20260303T130000
DTEND;TZID=America/New_York:20260303T150000
DTSTAMP:20260423T202851
CREATED:20260228T160934Z
LAST-MODIFIED:20260303T142336Z
UID:8248-1772542800-1772550000@www.barrettlibrary.org
SUMMARY:Movie Day at the Library (CANCELED)
DESCRIPTION:Come to the Library the first Tuesday of each month to watch a feature film with friends. Join us for Wicked: For Good\, Starring Ariana Grande and Cynthia Erivo. Rated PG-13.
URL:https://www.barrettlibrary.org/event/movie-day-at-the-library-39/
END:VEVENT
BEGIN:VEVENT
DTSTART;TZID=America/New_York:20260304T103000
DTEND;TZID=America/New_York:20260304T113000
DTSTAMP:20260423T202851
CREATED:20260228T161036Z
LAST-MODIFIED:20260228T161036Z
UID:8250-1772620200-1772623800@www.barrettlibrary.org
SUMMARY:Shakespeare Group
DESCRIPTION:Join the entertaining & knowledgeable Pat Williams at the Library. All are welcome\, whether you’re a Bard beginner or a long-time devotee. Discuss plays\, watch films\, and more. Attendees will help guide the direction of the group. 
URL:https://www.barrettlibrary.org/event/shakespeare-group-42/
END:VEVENT
BEGIN:VEVENT
DTSTART;TZID=America/New_York:20260304T180000
DTEND;TZID=America/New_York:20260304T193000
DTSTAMP:20260423T202851
CREATED:20260228T161628Z
LAST-MODIFIED:20260228T161628Z
UID:8258-1772647200-1772652600@www.barrettlibrary.org
SUMMARY:Keyboarding Classes
DESCRIPTION:Ages 9 – 12: 6:00 pm – 6:30 pm \nAges 13 – Adult: 6:45 pm – 7:30 pm \nJoin music teacher Michael Capone at the Library for a six-week series on the basics of keyboarding and reading music. Keyboards and headphones provided for use at the Library. Space is limited; registration is required.
URL:https://www.barrettlibrary.org/event/keyboarding-classes-13/
END:VEVENT
BEGIN:VEVENT
DTSTART;TZID=America/New_York:20260305T103000
DTEND;TZID=America/New_York:20260305T113000
DTSTAMP:20260423T202851
CREATED:20260205T155208Z
LAST-MODIFIED:20260205T155208Z
UID:8194-1772706600-1772710200@www.barrettlibrary.org
SUMMARY:Library Story Time
DESCRIPTION:Library Story Time \nAges 0-5 \nThursdays in March 10:30am \nJoin us in the children’s area for stories\, songs\, crafts\, and more!
URL:https://www.barrettlibrary.org/event/library-story-time-89/
END:VEVENT
BEGIN:VEVENT
DTSTART;TZID=America/New_York:20260306T103000
DTEND;TZID=America/New_York:20260306T113000
DTSTAMP:20260423T202851
CREATED:20260205T161806Z
LAST-MODIFIED:20260205T162509Z
UID:8209-1772793000-1772796600@www.barrettlibrary.org
SUMMARY:Fan Club Friday: Things that go!
DESCRIPTION:Fan Club Friday: Things that go! \nAges 0-5 \nFriday\, March 6th 10:30am \nJoin us for an informal program all about cars\, trucks\, boats\, trains\, and planes!  \nWe will have books\, activities\, and games featuring all of your favorite things that GO!! \nRegistration is encouraged.
URL:https://www.barrettlibrary.org/event/fan-club-friday-things-that-go/
END:VEVENT
BEGIN:VEVENT
DTSTART;TZID=America/New_York:20260307T140000
DTEND;TZID=America/New_York:20260307T160000
DTSTAMP:20260423T202851
CREATED:20260228T162000Z
LAST-MODIFIED:20260228T162000Z
UID:8266-1772892000-1772899200@www.barrettlibrary.org
SUMMARY:Photography Exhibit
DESCRIPTION:Stop by to meet Sarina & Bob Cook and admire their photography exhibit\, “Shared Horizons.” Their work is on display in the Weiler Family Community Room until the end of March.
URL:https://www.barrettlibrary.org/event/photography-exhibit/
END:VEVENT
BEGIN:VEVENT
DTSTART;TZID=America/New_York:20260309T114500
DTEND;TZID=America/New_York:20260309T124500
DTSTAMP:20260423T202851
CREATED:20260228T160625Z
LAST-MODIFIED:20260228T160625Z
UID:8240-1773056700-1773060300@www.barrettlibrary.org
SUMMARY:Light Yoga & Beginner Pilates
DESCRIPTION:Danielle Lane will guide you through relaxing light yoga or beginner Pilates. The level of difficulty will be tailored to the participants.
URL:https://www.barrettlibrary.org/event/light-yoga-beginner-pilates-7/
END:VEVENT
BEGIN:VEVENT
DTSTART;TZID=America/New_York:20260310T103000
DTEND;TZID=America/New_York:20260310T110000
DTSTAMP:20260423T202851
CREATED:20260205T154133Z
LAST-MODIFIED:20260205T154133Z
UID:8186-1773138600-1773140400@www.barrettlibrary.org
SUMMARY:Baby & Me
DESCRIPTION:Baby & Me \nAges 0-2 \nTuesdays in March 10:30am \nA special story time for our youngest patrons and their grownups.  \nJoin us for stories\, songs\, and games! 
URL:https://www.barrettlibrary.org/event/baby-me-123/
END:VEVENT
BEGIN:VEVENT
DTSTART;TZID=America/New_York:20260311T103000
DTEND;TZID=America/New_York:20260311T113000
DTSTAMP:20260423T202851
CREATED:20260228T161112Z
LAST-MODIFIED:20260228T161112Z
UID:8252-1773225000-1773228600@www.barrettlibrary.org
SUMMARY:Shakespeare Group
DESCRIPTION:Join the entertaining & knowledgeable Pat Williams at the Library. All are welcome\, whether you’re a Bard beginner or a long-time devotee. Discuss plays\, watch films\, and more. Attendees will help guide the direction of the group. 
URL:https://www.barrettlibrary.org/event/shakespeare-group-43/
END:VEVENT
BEGIN:VEVENT
DTSTART;TZID=America/New_York:20260311T180000
DTEND;TZID=America/New_York:20260311T193000
DTSTAMP:20260423T202851
CREATED:20260228T161718Z
LAST-MODIFIED:20260228T161718Z
UID:8260-1773252000-1773257400@www.barrettlibrary.org
SUMMARY:Keyboarding Classes
DESCRIPTION:Ages 9 – 12: 6:00 pm – 6:30 pm \nAges 13 – Adult: 6:45 pm – 7:30 pm \nJoin music teacher Michael Capone at the Library for a six-week series on the basics of keyboarding and reading music. Keyboards and headphones provided for use at the Library. Space is limited; registration is required.
URL:https://www.barrettlibrary.org/event/keyboarding-classes-14/
END:VEVENT
BEGIN:VEVENT
DTSTART;TZID=America/New_York:20260312T103000
DTEND;TZID=America/New_York:20260312T113000
DTSTAMP:20260423T202851
CREATED:20260205T155344Z
LAST-MODIFIED:20260205T155344Z
UID:8196-1773311400-1773315000@www.barrettlibrary.org
SUMMARY:Library Story Time
DESCRIPTION:Library Story Time \nAges 0-5 \nThursdays in March 10:30am \nJoin us in the children’s area for stories\, songs\, crafts\, and more!
URL:https://www.barrettlibrary.org/event/library-story-time-90/
END:VEVENT
BEGIN:VEVENT
DTSTART;TZID=America/New_York:20260314T100000
DTEND;TZID=America/New_York:20260314T110000
DTSTAMP:20260423T202851
CREATED:20260228T162101Z
LAST-MODIFIED:20260228T162101Z
UID:8268-1773482400-1773486000@www.barrettlibrary.org
SUMMARY:Sit & Stitch
DESCRIPTION:Do you enjoy knitting\, crochet\, tatting\, embroidery\, or other fiber arts? Our monthly Sit & Stitch group is for all levels of crafters. Bring projects to work on and enjoy each other’s company. No formal instruction or supplies provided\, just experience and support from others in the group.
URL:https://www.barrettlibrary.org/event/sit-stitch-14/
END:VEVENT
BEGIN:VEVENT
DTSTART;VALUE=DATE:20260315
DTEND;VALUE=DATE:20260316
DTSTAMP:20260423T202851
CREATED:20260205T160902Z
LAST-MODIFIED:20260227T173846Z
UID:8207-1773532800-1773619199@www.barrettlibrary.org
SUMMARY:Tale on the Trail at Ice Lake - "Inside Mouse\, Outside Mouse" by Lindsay Barrett George
DESCRIPTION:Tale on the Trail at Ice Lake \nVisit the Barrett Township Community Park at Ice Lake to embark on this family reading adventure!  \nFollow the trail behind the pavilion and turn right. Enjoy a picture book as you stroll along the path. \n The path is about 0.12 miles from beginning to end\, and then you can continue around the lake or turn around to return to the pavilion.  \nThe trail is mostly flat\, but rough and rocky. Very young children may need help or prefer to ride in a rugged stroller. \n  \nThe book “Inside Mouse\, Outside Mouse” by Lindsay Barrett George will be featured on the trail for the month of March. \n 
URL:https://www.barrettlibrary.org/event/tale-on-the-trail-at-ice-lake-inside-mouse-outside-mouse-by-lindsay-barrett-george/
END:VEVENT
BEGIN:VEVENT
DTSTART;VALUE=DATE:20260316
DTEND;VALUE=DATE:20260317
DTSTAMP:20260423T202851
CREATED:20260228T162147Z
LAST-MODIFIED:20260228T162147Z
UID:8270-1773619200-1773705599@www.barrettlibrary.org
SUMMARY:Adult Take-Home Kit: Four Leaf Clover Soap
DESCRIPTION:Celebrate St. Patrick’s Day with some lucky four leaf clover soap! We supply all the materials. You must register to receive a kit. Supplies will be available for pickup beginning Monday\, March 16.
URL:https://www.barrettlibrary.org/event/adult-take-home-kit-four-leaf-clover-soap/
END:VEVENT
BEGIN:VEVENT
DTSTART;TZID=America/New_York:20260316T114500
DTEND;TZID=America/New_York:20260316T124500
DTSTAMP:20260423T202851
CREATED:20260228T160705Z
LAST-MODIFIED:20260228T160705Z
UID:8242-1773661500-1773665100@www.barrettlibrary.org
SUMMARY:Light Yoga & Beginner Pilates
DESCRIPTION:Danielle Lane will guide you through relaxing light yoga or beginner Pilates. The level of difficulty will be tailored to the participants.
URL:https://www.barrettlibrary.org/event/light-yoga-beginner-pilates-8/
END:VEVENT
BEGIN:VEVENT
DTSTART;TZID=America/New_York:20260316T180000
DTEND;TZID=America/New_York:20260316T190000
DTSTAMP:20260423T202851
CREATED:20260205T160224Z
LAST-MODIFIED:20260205T160224Z
UID:8205-1773684000-1773687600@www.barrettlibrary.org
SUMMARY:Family Science - All About Eggs
DESCRIPTION:Family Science – All About Eggs \nFamily Program \nMonday\, March 16th 6pm \nEGGS. What are they? Where do they come from? What can we do with them? \nFind out in this fun family program. This program will combine art\, science\, and cooking. Registration is required.
URL:https://www.barrettlibrary.org/event/family-science-all-about-eggs/
END:VEVENT
BEGIN:VEVENT
DTSTART;TZID=America/New_York:20260317T103000
DTEND;TZID=America/New_York:20260317T110000
DTSTAMP:20260423T202851
CREATED:20260205T154624Z
LAST-MODIFIED:20260205T154624Z
UID:8188-1773743400-1773745200@www.barrettlibrary.org
SUMMARY:Baby & Me
DESCRIPTION:Baby & Me \nAges 0-2 \nTuesdays in March 10:30am \nA special story time for our youngest patrons and their grownups.  \nJoin us for stories\, songs\, and games! 
URL:https://www.barrettlibrary.org/event/baby-me-124/
END:VEVENT
BEGIN:VEVENT
DTSTART;TZID=America/New_York:20260317T130000
DTEND;TZID=America/New_York:20260317T140000
DTSTAMP:20260423T202851
CREATED:20260228T162242Z
LAST-MODIFIED:20260228T162242Z
UID:8272-1773752400-1773756000@www.barrettlibrary.org
SUMMARY:Afternoon Book Club
DESCRIPTION:Our Afternoon Book Club meets at the Library. An option to join with Zoom is available\, as well. This month we will discuss James by Percival Everett. If you’re interested in joining\, please contact the Library for more details.
URL:https://www.barrettlibrary.org/event/afternoon-book-club-31/
END:VEVENT
BEGIN:VEVENT
DTSTART;TZID=America/New_York:20260318T103000
DTEND;TZID=America/New_York:20260318T113000
DTSTAMP:20260423T202851
CREATED:20260228T161207Z
LAST-MODIFIED:20260228T161207Z
UID:8254-1773829800-1773833400@www.barrettlibrary.org
SUMMARY:Shakespeare Group
DESCRIPTION:Join the entertaining & knowledgeable Pat Williams at the Library. All are welcome\, whether you’re a Bard beginner or a long-time devotee. Discuss plays\, watch films\, and more. Attendees will help guide the direction of the group. 
URL:https://www.barrettlibrary.org/event/shakespeare-group-44/
END:VEVENT
END:VCALENDAR