BEGIN:VCALENDAR
VERSION:2.0
PRODID:-//Barrett Paradise Friendly Library - ECPv6.15.20//NONSGML v1.0//EN
CALSCALE:GREGORIAN
METHOD:PUBLISH
X-WR-CALNAME:Barrett Paradise Friendly Library
X-ORIGINAL-URL:https://www.barrettlibrary.org
X-WR-CALDESC:Events for Barrett Paradise Friendly Library
REFRESH-INTERVAL;VALUE=DURATION:PT1H
X-Robots-Tag:noindex
X-PUBLISHED-TTL:PT1H
BEGIN:VTIMEZONE
TZID:America/New_York
BEGIN:DAYLIGHT
TZOFFSETFROM:-0500
TZOFFSETTO:-0400
TZNAME:EDT
DTSTART:20240310T070000
END:DAYLIGHT
BEGIN:STANDARD
TZOFFSETFROM:-0400
TZOFFSETTO:-0500
TZNAME:EST
DTSTART:20241103T060000
END:STANDARD
BEGIN:DAYLIGHT
TZOFFSETFROM:-0500
TZOFFSETTO:-0400
TZNAME:EDT
DTSTART:20250309T070000
END:DAYLIGHT
BEGIN:STANDARD
TZOFFSETFROM:-0400
TZOFFSETTO:-0500
TZNAME:EST
DTSTART:20251102T060000
END:STANDARD
BEGIN:DAYLIGHT
TZOFFSETFROM:-0500
TZOFFSETTO:-0400
TZNAME:EDT
DTSTART:20260308T070000
END:DAYLIGHT
BEGIN:STANDARD
TZOFFSETFROM:-0400
TZOFFSETTO:-0500
TZNAME:EST
DTSTART:20261101T060000
END:STANDARD
END:VTIMEZONE
BEGIN:VEVENT
DTSTART;TZID=America/New_York:20250401T103000
DTEND;TZID=America/New_York:20250401T110000
DTSTAMP:20260424T091945
CREATED:20250318T163512Z
LAST-MODIFIED:20250318T163512Z
UID:7204-1743503400-1743505200@www.barrettlibrary.org
SUMMARY:Baby & Me
DESCRIPTION:Baby & Me \nAges 0-2 \nTuesdays in April 10:30am \nA special story time for our youngest patrons and their grownups.  \nJoin us for stories\, songs\, and games! 
URL:https://www.barrettlibrary.org/event/baby-me-73/
END:VEVENT
BEGIN:VEVENT
DTSTART;TZID=America/New_York:20250331T100000
DTEND;TZID=America/New_York:20250331T110000
DTSTAMP:20260424T091945
CREATED:20250301T155809Z
LAST-MODIFIED:20250301T155809Z
UID:7143-1743415200-1743418800@www.barrettlibrary.org
SUMMARY:Mindful Meditation & Yoga
DESCRIPTION:Danielle Lane will guide you through relaxing meditation and light yoga to start your day. This weekly class replaces the Friday yoga classes. Space is limited: please register each week.
URL:https://www.barrettlibrary.org/event/mindful-meditation-yoga-12/
END:VEVENT
BEGIN:VEVENT
DTSTART;TZID=America/New_York:20250327T103000
DTEND;TZID=America/New_York:20250327T111500
DTSTAMP:20260424T091945
CREATED:20250303T223759Z
LAST-MODIFIED:20250303T223759Z
UID:7201-1743071400-1743074100@www.barrettlibrary.org
SUMMARY:Library Story Time
DESCRIPTION:Library Story Time \nAges 0-5 \nThursdays in March 10:30am \nJoin us in the children’s area for stories\, songs\, crafts\, and more!
URL:https://www.barrettlibrary.org/event/library-story-time-45/
END:VEVENT
BEGIN:VEVENT
DTSTART;TZID=America/New_York:20250326T180000
DTEND;TZID=America/New_York:20250326T193000
DTSTAMP:20260424T091945
CREATED:20250301T160711Z
LAST-MODIFIED:20250301T160711Z
UID:7158-1743012000-1743017400@www.barrettlibrary.org
SUMMARY:Keyboarding Classes
DESCRIPTION:Ages 9 – 12: 6:00 pm – 6:30 pm \nAges 13 – Adult: 6:45 pm – 7:30 pm \nJoin music teacher Michael Capone at the Library for a six-week series on the basics of keyboarding and reading music. Keyboards and headphones provided for use at the Library. Space is limited; registration is required. *No class on April 16. \n 
URL:https://www.barrettlibrary.org/event/keyboarding-classes-7/
END:VEVENT
BEGIN:VEVENT
DTSTART;TZID=America/New_York:20250325T190000
DTEND;TZID=America/New_York:20250325T200000
DTSTAMP:20260424T091945
CREATED:20250301T160543Z
LAST-MODIFIED:20250301T160543Z
UID:7156-1742929200-1742932800@www.barrettlibrary.org
SUMMARY:Virtual Evening Book Club
DESCRIPTION:Join our virtual Evening Book Club on Zoom. This month we will discuss The Color of Water by James McBride. If you’re interested in joining\, please contact the Library for more details.
URL:https://www.barrettlibrary.org/event/virtual-evening-book-club-33/
END:VEVENT
BEGIN:VEVENT
DTSTART;TZID=America/New_York:20250325T103000
DTEND;TZID=America/New_York:20250325T110000
DTSTAMP:20260424T091945
CREATED:20250303T222327Z
LAST-MODIFIED:20250303T222327Z
UID:7188-1742898600-1742900400@www.barrettlibrary.org
SUMMARY:Baby & Me
DESCRIPTION:Baby & Me \nAges 0-2 \nTuesdays in March 10:30am \nA special story time for our youngest patrons and their grownups.  \nJoin us for stories\, songs\, and games! 
URL:https://www.barrettlibrary.org/event/baby-me-72/
END:VEVENT
BEGIN:VEVENT
DTSTART;TZID=America/New_York:20250324T100000
DTEND;TZID=America/New_York:20250324T110000
DTSTAMP:20260424T091945
CREATED:20250301T155716Z
LAST-MODIFIED:20250301T155716Z
UID:7141-1742810400-1742814000@www.barrettlibrary.org
SUMMARY:Mindful Meditation & Yoga
DESCRIPTION:Danielle Lane will guide you through relaxing meditation and light yoga to start your day. This weekly class replaces the Friday yoga classes. Space is limited: please register each week.
URL:https://www.barrettlibrary.org/event/mindful-meditation-yoga-11/
END:VEVENT
BEGIN:VEVENT
DTSTART;TZID=America/New_York:20250320T103000
DTEND;TZID=America/New_York:20250320T111500
DTSTAMP:20260424T091945
CREATED:20250303T223720Z
LAST-MODIFIED:20250303T223720Z
UID:7199-1742466600-1742469300@www.barrettlibrary.org
SUMMARY:Library Story Time
DESCRIPTION:Library Story Time \nAges 0-5 \nThursdays in March 10:30am \nJoin us in the children’s area for stories\, songs\, crafts\, and more!
URL:https://www.barrettlibrary.org/event/library-story-time-44/
END:VEVENT
BEGIN:VEVENT
DTSTART;TZID=America/New_York:20250318T130000
DTEND;TZID=America/New_York:20250318T140000
DTSTAMP:20260424T091945
CREATED:20250301T160455Z
LAST-MODIFIED:20250301T160455Z
UID:7154-1742302800-1742306400@www.barrettlibrary.org
SUMMARY:Afternoon Book Club
DESCRIPTION:Our Afternoon Book Club meets at the Library. An option to join with Zoom is available\, as well. This month we will discuss Salvage the Bones by Jesmyn Ward. If you’re interested in joining\, please contact the Library for more details. \n 
URL:https://www.barrettlibrary.org/event/afternoon-book-club-21/
END:VEVENT
BEGIN:VEVENT
DTSTART;TZID=America/New_York:20250318T103000
DTEND;TZID=America/New_York:20250318T110000
DTSTAMP:20260424T091945
CREATED:20250303T222254Z
LAST-MODIFIED:20250303T222254Z
UID:7186-1742293800-1742295600@www.barrettlibrary.org
SUMMARY:Baby & Me
DESCRIPTION:Baby & Me \nAges 0-2 \nTuesdays in March 10:30am \nA special story time for our youngest patrons and their grownups.  \nJoin us for stories\, songs\, and games! 
URL:https://www.barrettlibrary.org/event/baby-me-71/
END:VEVENT
BEGIN:VEVENT
DTSTART;TZID=America/New_York:20250317T100000
DTEND;TZID=America/New_York:20250317T110000
DTSTAMP:20260424T091945
CREATED:20250301T155542Z
LAST-MODIFIED:20250301T155542Z
UID:7139-1742205600-1742209200@www.barrettlibrary.org
SUMMARY:Mindful Meditation & Yoga
DESCRIPTION:Danielle Lane will guide you through relaxing meditation and light yoga to start your day. This weekly class replaces the Friday yoga classes. Space is limited: please register each week.
URL:https://www.barrettlibrary.org/event/mindful-meditation-yoga-10/
END:VEVENT
BEGIN:VEVENT
DTSTART;VALUE=DATE:20250317
DTEND;VALUE=DATE:20250318
DTSTAMP:20260424T091945
CREATED:20250301T160358Z
LAST-MODIFIED:20250301T160358Z
UID:7152-1742169600-1742255999@www.barrettlibrary.org
SUMMARY:Adult Take-Home Kit: DIY Four Leaf Clover Soap
DESCRIPTION:Celebrate St. Patrick’s Day with some lucky four leaf clover soap! We supply all the materials. You must register to receive a kit. Supplies will be available for pickup beginning Monday\, March 17.  \n 
URL:https://www.barrettlibrary.org/event/adult-take-home-kit-diy-four-leaf-clover-soap/
END:VEVENT
BEGIN:VEVENT
DTSTART;TZID=America/New_York:20250313T183000
DTEND;TZID=America/New_York:20250313T193000
DTSTAMP:20260424T091945
CREATED:20250301T160310Z
LAST-MODIFIED:20250301T160310Z
UID:7150-1741890600-1741894200@www.barrettlibrary.org
SUMMARY:Virtual Writing Group
DESCRIPTION:Join us on Zoom to discuss the art of writing while sharing work with the group.This month we will focus on the fundamentals of writing historical fiction. If you’re interested in joining\, please contact Lynn for more details.
URL:https://www.barrettlibrary.org/event/virtual-writing-group-39/
END:VEVENT
BEGIN:VEVENT
DTSTART;TZID=America/New_York:20250313T103000
DTEND;TZID=America/New_York:20250313T111500
DTSTAMP:20260424T091945
CREATED:20250303T222826Z
LAST-MODIFIED:20250303T222826Z
UID:7197-1741861800-1741864500@www.barrettlibrary.org
SUMMARY:Library Story Time
DESCRIPTION:Library Story Time \nAges 0-5 \nThursdays in March 10:30am \nJoin us in the children’s area for stories\, songs\, crafts\, and more!
URL:https://www.barrettlibrary.org/event/library-story-time-43/
END:VEVENT
BEGIN:VEVENT
DTSTART;TZID=America/New_York:20250311T103000
DTEND;TZID=America/New_York:20250311T110000
DTSTAMP:20260424T091945
CREATED:20250303T222217Z
LAST-MODIFIED:20250303T222217Z
UID:7184-1741689000-1741690800@www.barrettlibrary.org
SUMMARY:Baby & Me
DESCRIPTION:Baby & Me \nAges 0-2 \nTuesdays in March 10:30am \nA special story time for our youngest patrons and their grownups.  \nJoin us for stories\, songs\, and games! 
URL:https://www.barrettlibrary.org/event/baby-me-70/
END:VEVENT
BEGIN:VEVENT
DTSTART;TZID=America/New_York:20250310T180000
DTEND;TZID=America/New_York:20250310T190000
DTSTAMP:20260424T091945
CREATED:20250303T222608Z
LAST-MODIFIED:20250303T222608Z
UID:7193-1741629600-1741633200@www.barrettlibrary.org
SUMMARY:Teen Activity Club - Game Night
DESCRIPTION:Teen Activity Club – Game Night \nTeens Ages 12-17 \nMonday\, March 10th 6pm \nJoin us in the Weiler Room for games and snacks. Play our games or bring a game to share!
URL:https://www.barrettlibrary.org/event/teen-activity-club-game-night/
END:VEVENT
BEGIN:VEVENT
DTSTART;TZID=America/New_York:20250310T100000
DTEND;TZID=America/New_York:20250310T110000
DTSTAMP:20260424T091945
CREATED:20250301T155457Z
LAST-MODIFIED:20250301T155457Z
UID:7137-1741600800-1741604400@www.barrettlibrary.org
SUMMARY:Mindful Meditation & Yoga
DESCRIPTION:Danielle Lane will guide you through relaxing meditation and light yoga to start your day. This weekly class replaces the Friday yoga classes. Space is limited: please register each week.
URL:https://www.barrettlibrary.org/event/mindful-meditation-yoga-9/
END:VEVENT
BEGIN:VEVENT
DTSTART;TZID=America/New_York:20250308T100000
DTEND;TZID=America/New_York:20250308T110000
DTSTAMP:20260424T091945
CREATED:20250301T160206Z
LAST-MODIFIED:20250301T160206Z
UID:7148-1741428000-1741431600@www.barrettlibrary.org
SUMMARY:Sit & Stitch
DESCRIPTION:Do you enjoy knitting\, crochet\, tatting\, embroidery\, or other fiber arts? Our new\, monthly Sit & Stitch group is for all levels of crafters. We’ll meet on the 2nd Saturday of the month at 10am. Bring projects to work on and enjoy each other’s company. No formal instruction or supplies provided\, just experience and support from others in the group.
URL:https://www.barrettlibrary.org/event/sit-stitch-2/
END:VEVENT
BEGIN:VEVENT
DTSTART;TZID=America/New_York:20250306T103000
DTEND;TZID=America/New_York:20250306T111500
DTSTAMP:20260424T091945
CREATED:20250303T222733Z
LAST-MODIFIED:20250303T222733Z
UID:7195-1741257000-1741259700@www.barrettlibrary.org
SUMMARY:Library Story Time
DESCRIPTION:Library Story Time \nAges 0-5 \nThursdays in March 10:30am \nJoin us in the children’s area for stories\, songs\, crafts\, and more!
URL:https://www.barrettlibrary.org/event/library-story-time-42/
END:VEVENT
BEGIN:VEVENT
DTSTART;TZID=America/New_York:20250304T130000
DTEND;TZID=America/New_York:20250304T150000
DTSTAMP:20260424T091945
CREATED:20250301T160100Z
LAST-MODIFIED:20250301T160100Z
UID:7145-1741093200-1741100400@www.barrettlibrary.org
SUMMARY:Movie Day at the Library
DESCRIPTION:Come to the Library the first Tuesday of each month to watch a newly released movie with friends. This month we will watch Here\, starring Robin Wright and Tom Hanks. Rated PG-13. \nMultiple generations of couples and families inhabit the same home over the course of a century. \n \n 
URL:https://www.barrettlibrary.org/event/movie-day-at-the-library-27/
END:VEVENT
BEGIN:VEVENT
DTSTART;TZID=America/New_York:20250304T103000
DTEND;TZID=America/New_York:20250304T110000
DTSTAMP:20260424T091945
CREATED:20250303T222118Z
LAST-MODIFIED:20250303T222118Z
UID:7182-1741084200-1741086000@www.barrettlibrary.org
SUMMARY:Baby & Me
DESCRIPTION:Baby & Me \nAges 0-2 \nTuesdays in March 10:30am \nA special story time for our youngest patrons and their grownups.  \nJoin us for stories\, songs\, and games! 
URL:https://www.barrettlibrary.org/event/baby-me-69/
END:VEVENT
BEGIN:VEVENT
DTSTART;TZID=America/New_York:20250304T073000
DTEND;TZID=America/New_York:20250304T183000
DTSTAMP:20260424T091945
CREATED:20250121T222253Z
LAST-MODIFIED:20250121T222253Z
UID:7073-1741073400-1741113000@www.barrettlibrary.org
SUMMARY:Philadelphia Flower Show Bus Trip
DESCRIPTION:Philadelphia Flower Show Bus Trip 2025
URL:https://www.barrettlibrary.org/event/philadelphia-flower-show-bus-trip-2/
END:VEVENT
BEGIN:VEVENT
DTSTART;TZID=America/New_York:20250303T180000
DTEND;TZID=America/New_York:20250303T190000
DTSTAMP:20260424T091945
CREATED:20250303T222439Z
LAST-MODIFIED:20250303T222524Z
UID:7190-1741024800-1741028400@www.barrettlibrary.org
SUMMARY:Family Board Game Night
DESCRIPTION:Family Board Game Night \nFamily Program \nMonday\, March 3rd 6pm \nCome to the library for some family fun! Challenge your family or play against others! We have a big collection of family-friendly board games\, or bring your own! Snacks will be provided by the library. 
URL:https://www.barrettlibrary.org/event/family-board-game-night/
END:VEVENT
BEGIN:VEVENT
DTSTART;TZID=America/New_York:20250303T100000
DTEND;TZID=America/New_York:20250303T110000
DTSTAMP:20260424T091945
CREATED:20250301T155411Z
LAST-MODIFIED:20250301T155411Z
UID:7135-1740996000-1740999600@www.barrettlibrary.org
SUMMARY:Mindful Meditation & Yoga
DESCRIPTION:Danielle Lane will guide you through relaxing meditation and light yoga to start your day. This weekly class replaces the Friday yoga classes. Space is limited: please register each week.
URL:https://www.barrettlibrary.org/event/mindful-meditation-yoga-8/
END:VEVENT
BEGIN:VEVENT
DTSTART;TZID=America/New_York:20250302T140000
DTEND;TZID=America/New_York:20250302T150000
DTSTAMP:20260424T091945
CREATED:20250303T222005Z
LAST-MODIFIED:20250303T222005Z
UID:7180-1740924000-1740927600@www.barrettlibrary.org
SUMMARY:Oodles of Foodles
DESCRIPTION:Oodles of Foodles \nFamily Program \nSaturday\, March 1st 2pm \nThis family-friendly program will encourage young and old alike to try fun new foods and have some fun! Registration is required.  \n 
URL:https://www.barrettlibrary.org/event/oodles-of-foodles/
END:VEVENT
BEGIN:VEVENT
DTSTART;TZID=America/New_York:20250227T103000
DTEND;TZID=America/New_York:20250227T111500
DTSTAMP:20260424T091945
CREATED:20250121T184925Z
LAST-MODIFIED:20250121T185022Z
UID:7058-1740652200-1740654900@www.barrettlibrary.org
SUMMARY:Library Story Time
DESCRIPTION:Library Story Time \nAges 0-5 \nThursdays in February 10:30am \nJoin us in the children’s area for stories\, songs\, crafts\, and more!
URL:https://www.barrettlibrary.org/event/library-story-time-41/
END:VEVENT
BEGIN:VEVENT
DTSTART;TZID=America/New_York:20250225T190000
DTEND;TZID=America/New_York:20250225T200000
DTSTAMP:20260424T091945
CREATED:20250125T164506Z
LAST-MODIFIED:20250125T164506Z
UID:7095-1740510000-1740513600@www.barrettlibrary.org
SUMMARY:Virtual Evening Book Club
DESCRIPTION:Join our virtual Evening Book Club on Zoom. This month we will discuss Magpie Murders by Anthony Horowitz. If you’re interested in joining\, please contact the Library for more details.
URL:https://www.barrettlibrary.org/event/virtual-evening-book-club-32/
END:VEVENT
BEGIN:VEVENT
DTSTART;TZID=America/New_York:20250225T103000
DTEND;TZID=America/New_York:20250225T110000
DTSTAMP:20260424T091945
CREATED:20250121T170923Z
LAST-MODIFIED:20250121T170923Z
UID:7046-1740479400-1740481200@www.barrettlibrary.org
SUMMARY:Baby & Me
DESCRIPTION:Baby & Me \nAges 0-2 \nTuesdays in February 10:30am \nA special story time for our youngest patrons and their grownups.  \nJoin us for stories\, songs\, and games!
URL:https://www.barrettlibrary.org/event/baby-me-68/
END:VEVENT
BEGIN:VEVENT
DTSTART;TZID=America/New_York:20250224T100000
DTEND;TZID=America/New_York:20250224T110000
DTSTAMP:20260424T091945
CREATED:20250125T163945Z
LAST-MODIFIED:20250125T163945Z
UID:7087-1740391200-1740394800@www.barrettlibrary.org
SUMMARY:Mindful Meditation & Yoga
DESCRIPTION:Danielle Lane will guide you through relaxing meditation and light yoga to start your day. This weekly class will replace the Friday yoga classes. Space is limited: please register each week.
URL:https://www.barrettlibrary.org/event/mindful-meditation-yoga-7/
END:VEVENT
BEGIN:VEVENT
DTSTART;TZID=America/New_York:20250220T103000
DTEND;TZID=America/New_York:20250220T111500
DTSTAMP:20260424T091945
CREATED:20250121T184830Z
LAST-MODIFIED:20250121T184830Z
UID:7056-1740047400-1740050100@www.barrettlibrary.org
SUMMARY:Library Story Time
DESCRIPTION:Library Story Time \nAges 0-5 \nThursdays in February 10:30am \nJoin us in the children’s area for stories\, songs\, crafts\, and more!
URL:https://www.barrettlibrary.org/event/library-story-time-40/
END:VEVENT
END:VCALENDAR