BEGIN:VCALENDAR
VERSION:2.0
PRODID:-//Barrett Paradise Friendly Library - ECPv6.15.20//NONSGML v1.0//EN
CALSCALE:GREGORIAN
METHOD:PUBLISH
X-WR-CALNAME:Barrett Paradise Friendly Library
X-ORIGINAL-URL:https://www.barrettlibrary.org
X-WR-CALDESC:Events for Barrett Paradise Friendly Library
REFRESH-INTERVAL;VALUE=DURATION:PT1H
X-Robots-Tag:noindex
X-PUBLISHED-TTL:PT1H
BEGIN:VTIMEZONE
TZID:America/New_York
BEGIN:DAYLIGHT
TZOFFSETFROM:-0500
TZOFFSETTO:-0400
TZNAME:EDT
DTSTART:20230312T070000
END:DAYLIGHT
BEGIN:STANDARD
TZOFFSETFROM:-0400
TZOFFSETTO:-0500
TZNAME:EST
DTSTART:20231105T060000
END:STANDARD
BEGIN:DAYLIGHT
TZOFFSETFROM:-0500
TZOFFSETTO:-0400
TZNAME:EDT
DTSTART:20240310T070000
END:DAYLIGHT
BEGIN:STANDARD
TZOFFSETFROM:-0400
TZOFFSETTO:-0500
TZNAME:EST
DTSTART:20241103T060000
END:STANDARD
BEGIN:DAYLIGHT
TZOFFSETFROM:-0500
TZOFFSETTO:-0400
TZNAME:EDT
DTSTART:20250309T070000
END:DAYLIGHT
BEGIN:STANDARD
TZOFFSETFROM:-0400
TZOFFSETTO:-0500
TZNAME:EST
DTSTART:20251102T060000
END:STANDARD
END:VTIMEZONE
BEGIN:VEVENT
DTSTART;TZID=America/New_York:20241205T103000
DTEND;TZID=America/New_York:20241205T111500
DTSTAMP:20260424T094454
CREATED:20241121T171817Z
LAST-MODIFIED:20241121T171817Z
UID:6864-1733394600-1733397300@www.barrettlibrary.org
SUMMARY:Library Story Time
DESCRIPTION:Library Story Time \nAges 0-5 \nThursdays in December 10:30am \nJoin us in the children’s area for stories\, songs\, crafts\, and more!
URL:https://www.barrettlibrary.org/event/library-story-time-29/
END:VEVENT
BEGIN:VEVENT
DTSTART;TZID=America/New_York:20241203T130000
DTEND;TZID=America/New_York:20241203T150000
DTSTAMP:20260424T094454
CREATED:20241003T155226Z
LAST-MODIFIED:20241003T155226Z
UID:6798-1733230800-1733238000@www.barrettlibrary.org
SUMMARY:Movie Day at the Library
DESCRIPTION:Come to the Library the first Tuesday of each month to watch a newly released movie with friends. This month we will watch Ordinary Angels\, starring Hilary Swank. \nA struggling hairdresser finds a renewed sense of purpose when she meets a widowed father working hard to care for his two daughters. With his youngest critically ill and waiting for a liver transplant\, the fierce woman single-handedly rallies an entire community to help. Rated PG. \n 
URL:https://www.barrettlibrary.org/event/movie-day-at-the-library-24/
END:VEVENT
BEGIN:VEVENT
DTSTART;TZID=America/New_York:20241203T103000
DTEND;TZID=America/New_York:20241203T110000
DTSTAMP:20260424T094454
CREATED:20241121T164136Z
LAST-MODIFIED:20241121T164136Z
UID:6858-1733221800-1733223600@www.barrettlibrary.org
SUMMARY:Baby & Me
DESCRIPTION:  \nBaby & Me \nAges 0-2 \nTuesdays in December 10:30am \nA special story time for our youngest patrons and their grownups.  \nJoin us for stories\, songs\, and games!
URL:https://www.barrettlibrary.org/event/baby-me-58/
END:VEVENT
BEGIN:VEVENT
DTSTART;TZID=America/New_York:20241202T180000
DTEND;TZID=America/New_York:20241202T190000
DTSTAMP:20260424T094454
CREATED:20241121T161952Z
LAST-MODIFIED:20241121T162425Z
UID:6853-1733162400-1733166000@www.barrettlibrary.org
SUMMARY:Family Science - Do You Wanna Build a Snowman?
DESCRIPTION:Family Science – Do You Wanna Build a Snowman? \nFamily Program \nMonday\, December 2nd 6pm \nJoin us in the library for a fun science program.  \nWe will make fake snow and try to build our own snowmen.  \nRegistration is required.
URL:https://www.barrettlibrary.org/event/family-science-do-you-wanna-build-a-snowman/
END:VEVENT
BEGIN:VEVENT
DTSTART;VALUE=DATE:20241128
DTEND;VALUE=DATE:20241129
DTSTAMP:20260424T094454
CREATED:20241018T154548Z
LAST-MODIFIED:20241018T154548Z
UID:6816-1732752000-1732838399@www.barrettlibrary.org
SUMMARY:Library Closed -  Happy Thanksgiving
DESCRIPTION:The library will be closed all day on Thursday\, November 28th in observance of the Thanksgiving Holiday. \nHappy Thanksgiving!
URL:https://www.barrettlibrary.org/event/library-closed-happy-thanksgiving/
END:VEVENT
BEGIN:VEVENT
DTSTART;VALUE=DATE:20241127
DTEND;VALUE=DATE:20241128
DTSTAMP:20260424T094454
CREATED:20241104T214840Z
LAST-MODIFIED:20241104T215152Z
UID:6842-1732665600-1732751999@www.barrettlibrary.org
SUMMARY:5PM Early Closing Today
DESCRIPTION:The Library closes at 5pm today.
URL:https://www.barrettlibrary.org/event/library-closes-at-5pm/
END:VEVENT
BEGIN:VEVENT
DTSTART;TZID=America/New_York:20241126T190000
DTEND;TZID=America/New_York:20241126T200000
DTSTAMP:20260424T094454
CREATED:20241023T151612Z
LAST-MODIFIED:20241023T151612Z
UID:6836-1732647600-1732651200@www.barrettlibrary.org
SUMMARY:Virtual Evening Book Club
DESCRIPTION:Join our virtual Evening Book Club on Zoom. This month we will discuss Apples Never Fall Liane Moriarty . If you’re interested in joining\, please contact the Library for more details.
URL:https://www.barrettlibrary.org/event/virtual-evening-book-club-30/
END:VEVENT
BEGIN:VEVENT
DTSTART;TZID=America/New_York:20241126T103000
DTEND;TZID=America/New_York:20241126T110000
DTSTAMP:20260424T094454
CREATED:20241018T153818Z
LAST-MODIFIED:20241121T164029Z
UID:6808-1732617000-1732618800@www.barrettlibrary.org
SUMMARY:Baby & Me (canceled today)
DESCRIPTION:Baby & Me \nAges 0-2 \nTuesdays in November 10:30am \nA special story time for our youngest patrons and their grownups.  \nJoin us for stories\, songs\, and games!
URL:https://www.barrettlibrary.org/event/baby-me-57/
END:VEVENT
BEGIN:VEVENT
DTSTART;VALUE=DATE:20241122
DTEND;VALUE=DATE:20241123
DTSTAMP:20260424T094454
CREATED:20241122T130330Z
LAST-MODIFIED:20241122T130330Z
UID:6875-1732233600-1732319999@www.barrettlibrary.org
SUMMARY:CLOSED TODAY due to the weather
DESCRIPTION:FRI\, NOV 22: The Library is closed today due to the weather. Stay safe and warm! Curl up with a good book 🙂
URL:https://www.barrettlibrary.org/event/closed-today-due-to-the-weather-2/
END:VEVENT
BEGIN:VEVENT
DTSTART;TZID=America/New_York:20241121T103000
DTEND;TZID=America/New_York:20241121T113000
DTSTAMP:20260424T094454
CREATED:20241018T154427Z
LAST-MODIFIED:20241018T154427Z
UID:6814-1732185000-1732188600@www.barrettlibrary.org
SUMMARY:Library Story Time
DESCRIPTION:Library Story Time \nAges 0-5 \nThursdays in November 10:30am \nJoin us in the children’s area for stories\, songs\, crafts\, and more!
URL:https://www.barrettlibrary.org/event/library-story-time-28/
END:VEVENT
BEGIN:VEVENT
DTSTART;TZID=America/New_York:20241119T080000
DTEND;TZID=America/New_York:20241119T170000
DTSTAMP:20260424T094454
CREATED:20241023T151130Z
LAST-MODIFIED:20241023T151130Z
UID:6834-1732003200-1732035600@www.barrettlibrary.org
SUMMARY:Afternoon Book Club
DESCRIPTION:Our Afternoon Book Club meets at the Library. An option to join with Zoom is available\, as well. This month we will discuss Inside the O’Briens by Lisa Genova. If you’re interested in joining\, please contact the Library for more details.
URL:https://www.barrettlibrary.org/event/afternoon-book-club-18/
END:VEVENT
BEGIN:VEVENT
DTSTART;TZID=America/New_York:20241118T173000
DTEND;TZID=America/New_York:20241118T190000
DTSTAMP:20260424T094454
CREATED:20241023T150204Z
LAST-MODIFIED:20241023T161043Z
UID:6830-1731951000-1731956400@www.barrettlibrary.org
SUMMARY:Poke-A-Nose Pottery Party
DESCRIPTION:Join us for an exciting night with Poke-A-Nose Pottery as we paint ceramic mugs. They will guide your process and then finish off your new creation in their kiln\, returning it to the library at a later date. Space is limited: please register for this program.
URL:https://www.barrettlibrary.org/event/poke-a-nose-pottery-party/
END:VEVENT
BEGIN:VEVENT
DTSTART;VALUE=DATE:20241118
DTEND;VALUE=DATE:20241119
DTSTAMP:20260424T094454
CREATED:20241104T215257Z
LAST-MODIFIED:20241104T215257Z
UID:6847-1731888000-1731974399@www.barrettlibrary.org
SUMMARY:Basket Raffle Begins!
DESCRIPTION:Check back soon for details!
URL:https://www.barrettlibrary.org/event/basket-raffle-begins/
END:VEVENT
BEGIN:VEVENT
DTSTART;VALUE=DATE:20241118
DTEND;VALUE=DATE:20241119
DTSTAMP:20260424T094454
CREATED:20241023T150553Z
LAST-MODIFIED:20241023T150553Z
UID:6832-1731888000-1731974399@www.barrettlibrary.org
SUMMARY:Adult Take-Home Kit: Thanksgiving Centerpiece
DESCRIPTION:Decorate your holiday table with a festive centerpiece. You must register to receive a kit. Supplies will be available for pickup beginning Monday\, November 18. 
URL:https://www.barrettlibrary.org/event/adult-take-home-kit-thanksgiving-centerpiece/
END:VEVENT
BEGIN:VEVENT
DTSTART;TZID=America/New_York:20241115T110000
DTEND;TZID=America/New_York:20241115T120000
DTSTAMP:20260424T094454
CREATED:20241023T145740Z
LAST-MODIFIED:20241023T145740Z
UID:6826-1731668400-1731672000@www.barrettlibrary.org
SUMMARY:Healing Yoga
DESCRIPTION:Danielle Lane will guide you through a soothing\, mindful yoga experience which may include meditation\, sound bowls\, music\, and other elements. Appropriate for all levels. Space is limited: please register for each session. 
URL:https://www.barrettlibrary.org/event/healing-yoga-24/
END:VEVENT
BEGIN:VEVENT
DTSTART;TZID=America/New_York:20241114T183000
DTEND;TZID=America/New_York:20241114T193000
DTSTAMP:20260424T094454
CREATED:20241023T145931Z
LAST-MODIFIED:20241023T145931Z
UID:6828-1731609000-1731612600@www.barrettlibrary.org
SUMMARY:Virtual Writing Group
DESCRIPTION:Join us on Zoom to discuss the art of writing while sharing work with the group. This month we will focus on the “rules” for writing romance.
URL:https://www.barrettlibrary.org/event/virtual-writing-group-36/
END:VEVENT
BEGIN:VEVENT
DTSTART;TZID=America/New_York:20241114T103000
DTEND;TZID=America/New_York:20241114T113000
DTSTAMP:20260424T094454
CREATED:20241018T154147Z
LAST-MODIFIED:20241018T154147Z
UID:6812-1731580200-1731583800@www.barrettlibrary.org
SUMMARY:Library Story Time
DESCRIPTION:Library Story Time \nAges 0-5 \nThursdays in November 10:30am \nJoin us in the children’s area for stories\, songs\, crafts\, and more!
URL:https://www.barrettlibrary.org/event/library-story-time-27/
END:VEVENT
BEGIN:VEVENT
DTSTART;TZID=America/New_York:20241112T103000
DTEND;TZID=America/New_York:20241112T110000
DTSTAMP:20260424T094454
CREATED:20241018T150959Z
LAST-MODIFIED:20241018T150959Z
UID:6804-1731407400-1731409200@www.barrettlibrary.org
SUMMARY:Baby & Me
DESCRIPTION:Baby & Me \nAges 0-2 \nTuesdays in November 10:30am \nA special story time for our youngest patrons and their grownups.  \nJoin us for stories\, songs\, and games!
URL:https://www.barrettlibrary.org/event/baby-me-55/
END:VEVENT
BEGIN:VEVENT
DTSTART;TZID=America/New_York:20241107T103000
DTEND;TZID=America/New_York:20241107T113000
DTSTAMP:20260424T094454
CREATED:20241018T153950Z
LAST-MODIFIED:20241018T153950Z
UID:6810-1730975400-1730979000@www.barrettlibrary.org
SUMMARY:Library Story Time
DESCRIPTION:Library Story Time \nAges 0-5 \nThursdays in November 10:30am \nJoin us in the children’s area for stories\, songs\, crafts\, and more!
URL:https://www.barrettlibrary.org/event/library-story-time-26/
END:VEVENT
BEGIN:VEVENT
DTSTART;TZID=America/New_York:20241105T130000
DTEND;TZID=America/New_York:20241105T150000
DTSTAMP:20260424T094454
CREATED:20240926T182107Z
LAST-MODIFIED:20240926T182107Z
UID:6787-1730811600-1730818800@www.barrettlibrary.org
SUMMARY:Movie Day at the Library
DESCRIPTION:Come to the Library the first Tuesday of each month to watch a newly released movie with friends. This month we will watch The Bikeriders\, starring Tom Hardy. Rated R. \n  \nOver the course of a decade\, a Midwestern motorcycle club evolves from a gathering place for local outsiders to a sinister gang\, threatening the original group’s way of life.
URL:https://www.barrettlibrary.org/event/movie-day-at-the-library-23/
END:VEVENT
BEGIN:VEVENT
DTSTART;TZID=America/New_York:20241105T103000
DTEND;TZID=America/New_York:20241105T110000
DTSTAMP:20260424T094454
CREATED:20241018T145835Z
LAST-MODIFIED:20241018T145835Z
UID:6802-1730802600-1730804400@www.barrettlibrary.org
SUMMARY:Baby & Me
DESCRIPTION:Baby & Me \nAges 0-2 \nTuesdays in November 10:30am \nA special story time for our youngest patrons and their grownups.  \nJoin us for stories\, songs\, and games!
URL:https://www.barrettlibrary.org/event/baby-me-54/
END:VEVENT
BEGIN:VEVENT
DTSTART;TZID=America/New_York:20241104T180000
DTEND;TZID=America/New_York:20241104T190000
DTSTAMP:20260424T094454
CREATED:20241018T154954Z
LAST-MODIFIED:20241018T154954Z
UID:6821-1730743200-1730746800@www.barrettlibrary.org
SUMMARY:Family Science - Cranberry Apple Sauce
DESCRIPTION:Family Science – Cranberry Apple Sauce \nFamily Program  \nMonday\, November 4th 6pm \nJoin us as we explore the Science behind some traditional Thanksgiving favorites\, cranberries and applesauce!
URL:https://www.barrettlibrary.org/event/family-science-cranberry-apple-sauce/
END:VEVENT
BEGIN:VEVENT
DTSTART;TZID=America/New_York:20241101T110000
DTEND;TZID=America/New_York:20241101T120000
DTSTAMP:20260424T094454
CREATED:20241023T145707Z
LAST-MODIFIED:20241023T145707Z
UID:6824-1730458800-1730462400@www.barrettlibrary.org
SUMMARY:Healing Yoga
DESCRIPTION:Danielle Lane will guide you through a soothing\, mindful yoga experience which may include meditation\, sound bowls\, music\, and other elements. Appropriate for all levels. Space is limited: please register for each session. 
URL:https://www.barrettlibrary.org/event/healing-yoga-23/
END:VEVENT
BEGIN:VEVENT
DTSTART;VALUE=DATE:20241031
DTEND;VALUE=DATE:20241101
DTSTAMP:20260424T094454
CREATED:20241018T154731Z
LAST-MODIFIED:20241018T154731Z
UID:6819-1730332800-1730419199@www.barrettlibrary.org
SUMMARY:Trick-or-Treat (Story Time canceled today)
DESCRIPTION:Happy Halloween! \nStory time is canceled today. \nStop by the library in your costume for a Halloween treat!
URL:https://www.barrettlibrary.org/event/trick-or-treat-story-time-canceled-today/
END:VEVENT
BEGIN:VEVENT
DTSTART;TZID=America/New_York:20241029T190000
DTEND;TZID=America/New_York:20241029T200000
DTSTAMP:20260424T094454
CREATED:20240924T195048Z
LAST-MODIFIED:20240924T195048Z
UID:6782-1730228400-1730232000@www.barrettlibrary.org
SUMMARY:Virtual Evening Book Club
DESCRIPTION:Join our virtual Evening Book Club on Zoom. This month we will discuss Remarkably Bright Creatures by Shelby Van Pelt. If you’re interested in joining\, please contact the Library for more details.
URL:https://www.barrettlibrary.org/event/virtual-evening-book-club-29/
END:VEVENT
BEGIN:VEVENT
DTSTART;TZID=America/New_York:20241029T103000
DTEND;TZID=America/New_York:20241029T110000
DTSTAMP:20260424T094454
CREATED:20240921T172019Z
LAST-MODIFIED:20240921T172019Z
UID:6753-1730197800-1730199600@www.barrettlibrary.org
SUMMARY:Baby & Me
DESCRIPTION:Baby & Me \nAges 0-2 \nTuesdays in October 10:30am \nA special story time for our youngest patrons and their grownups. \nJoin us for stories\, songs\, and games!
URL:https://www.barrettlibrary.org/event/baby-me-53/
END:VEVENT
BEGIN:VEVENT
DTSTART;TZID=America/New_York:20241024T103000
DTEND;TZID=America/New_York:20241024T111500
DTSTAMP:20260424T094454
CREATED:20240923T235133Z
LAST-MODIFIED:20240923T235133Z
UID:6764-1729765800-1729768500@www.barrettlibrary.org
SUMMARY:Library Story Time featuring Sights for Hope
DESCRIPTION:Library Story Time featuring Sights for Hope \nAges 0-5 \nThursdays in October 10:30am \nJoin us in the children’s area for stories\, songs\, and free vision screenings! \nAngela Hill will be here from Sights for Hope to teach us about eye safety.
URL:https://www.barrettlibrary.org/event/library-story-time-featuring-sights-for-hope/
END:VEVENT
BEGIN:VEVENT
DTSTART;TZID=America/New_York:20241022T103000
DTEND;TZID=America/New_York:20241022T110000
DTSTAMP:20260424T094454
CREATED:20240921T171910Z
LAST-MODIFIED:20240921T171910Z
UID:6751-1729593000-1729594800@www.barrettlibrary.org
SUMMARY:Baby & Me
DESCRIPTION:Baby & Me \nAges 0-2 \nTuesdays in October 10:30am \nA special story time for our youngest patrons and their grownups. \nJoin us for stories\, songs\, and games!
URL:https://www.barrettlibrary.org/event/baby-me-52/
END:VEVENT
BEGIN:VEVENT
DTSTART;VALUE=DATE:20241021
DTEND;VALUE=DATE:20241022
DTSTAMP:20260424T094454
CREATED:20241002T165231Z
LAST-MODIFIED:20241002T165231Z
UID:6791-1729468800-1729555199@www.barrettlibrary.org
SUMMARY:Adult Take-Home Kit: Apple Bread in a Jar
DESCRIPTION:It’s apple-picking season\, and we have a tasty recipe for you to try. Apple bread in a jar! We supply the dry Ingredients needed. This recipe will require a few ingredients from home. You must register to receive a kit. Supplies will be available for pickup beginning Monday\, October 21.
URL:https://www.barrettlibrary.org/event/adult-take-home-kit-apple-bread-in-a-jar/
END:VEVENT
BEGIN:VEVENT
DTSTART;TZID=America/New_York:20241018T110000
DTEND;TZID=America/New_York:20241018T120000
DTSTAMP:20260424T094454
CREATED:20240924T194739Z
LAST-MODIFIED:20240924T194739Z
UID:6776-1729249200-1729252800@www.barrettlibrary.org
SUMMARY:Healing Yoga
DESCRIPTION:Danielle Lane will guide you through a soothing\, mindful yoga experience which may include meditation\, sound bowls\, music\, and other elements. Appropriate for all levels. Space is limited: please register for each session. 
URL:https://www.barrettlibrary.org/event/healing-yoga-22/
END:VEVENT
END:VCALENDAR