BEGIN:VCALENDAR
VERSION:2.0
PRODID:-//Barrett Paradise Friendly Library - ECPv6.15.20//NONSGML v1.0//EN
CALSCALE:GREGORIAN
METHOD:PUBLISH
X-WR-CALNAME:Barrett Paradise Friendly Library
X-ORIGINAL-URL:https://www.barrettlibrary.org
X-WR-CALDESC:Events for Barrett Paradise Friendly Library
REFRESH-INTERVAL;VALUE=DURATION:PT1H
X-Robots-Tag:noindex
X-PUBLISHED-TTL:PT1H
BEGIN:VTIMEZONE
TZID:America/New_York
BEGIN:DAYLIGHT
TZOFFSETFROM:-0500
TZOFFSETTO:-0400
TZNAME:EDT
DTSTART:20240310T070000
END:DAYLIGHT
BEGIN:STANDARD
TZOFFSETFROM:-0400
TZOFFSETTO:-0500
TZNAME:EST
DTSTART:20241103T060000
END:STANDARD
BEGIN:DAYLIGHT
TZOFFSETFROM:-0500
TZOFFSETTO:-0400
TZNAME:EDT
DTSTART:20250309T070000
END:DAYLIGHT
BEGIN:STANDARD
TZOFFSETFROM:-0400
TZOFFSETTO:-0500
TZNAME:EST
DTSTART:20251102T060000
END:STANDARD
BEGIN:DAYLIGHT
TZOFFSETFROM:-0500
TZOFFSETTO:-0400
TZNAME:EDT
DTSTART:20260308T070000
END:DAYLIGHT
BEGIN:STANDARD
TZOFFSETFROM:-0400
TZOFFSETTO:-0500
TZNAME:EST
DTSTART:20261101T060000
END:STANDARD
END:VTIMEZONE
BEGIN:VEVENT
DTSTART;TZID=America/New_York:20250913T100000
DTEND;TZID=America/New_York:20250913T110000
DTSTAMP:20260424T105616
CREATED:20250830T161036Z
LAST-MODIFIED:20250830T161036Z
UID:7665-1757757600-1757761200@www.barrettlibrary.org
SUMMARY:Sit & Stitch
DESCRIPTION:Do you enjoy knitting\, crochet\, tatting\, embroidery\, or other fiber arts? Our monthly Sit & Stitch group is for all levels of crafters. We’ll meet on the 2nd Saturday of the month at 10am. Bring projects to work on and enjoy each other’s company. No formal instruction or supplies provided\, just experience and support from others in the group.
URL:https://www.barrettlibrary.org/event/sit-stitch-8/
END:VEVENT
BEGIN:VEVENT
DTSTART;TZID=America/New_York:20250911T183000
DTEND;TZID=America/New_York:20250911T193000
DTSTAMP:20260424T105616
CREATED:20250830T160928Z
LAST-MODIFIED:20250830T160928Z
UID:7663-1757615400-1757619000@www.barrettlibrary.org
SUMMARY:Virtual Writing Group
DESCRIPTION:Join us on Zoom to discuss the art of writing while sharing work with the group. This month we will focus on writing capers. If you’re interested in joining\, please contact Lynn for more details.
URL:https://www.barrettlibrary.org/event/virtual-writing-group-45/
END:VEVENT
BEGIN:VEVENT
DTSTART;TZID=America/New_York:20250911T103000
DTEND;TZID=America/New_York:20250911T113000
DTSTAMP:20260424T105616
CREATED:20250811T225306Z
LAST-MODIFIED:20250811T225306Z
UID:7630-1757586600-1757590200@www.barrettlibrary.org
SUMMARY:Library Story Time
DESCRIPTION:Library Story Time \nAges 0-5 \nThursdays in September \n10:30am \nJoin us in the children’s area for stories\, songs\, crafts\, and more!
URL:https://www.barrettlibrary.org/event/library-story-time-67/
END:VEVENT
BEGIN:VEVENT
DTSTART;TZID=America/New_York:20250910T130000
DTEND;TZID=America/New_York:20250910T140000
DTSTAMP:20260424T105616
CREATED:20250830T160402Z
LAST-MODIFIED:20250830T160402Z
UID:7657-1757509200-1757512800@www.barrettlibrary.org
SUMMARY:Shakespeare Group
DESCRIPTION:The Bard is back! Join the entertaining & knowledgeable Pat Williams at the Library. All are welcome\, whether you’re a Bard beginner or a long-time devotee.
URL:https://www.barrettlibrary.org/event/shakespeare-group-22/
END:VEVENT
BEGIN:VEVENT
DTSTART;TZID=America/New_York:20250909T103000
DTEND;TZID=America/New_York:20250909T110000
DTSTAMP:20260424T105616
CREATED:20250811T224752Z
LAST-MODIFIED:20250811T224752Z
UID:7620-1757413800-1757415600@www.barrettlibrary.org
SUMMARY:Baby & Me
DESCRIPTION:Baby & Me \nAges 0-2 \nTuesdays in September 10:30am \nA special story time for our youngest patrons and their grownups.  \nJoin us for stories\, songs\, and games!
URL:https://www.barrettlibrary.org/event/baby-me-97/
END:VEVENT
BEGIN:VEVENT
DTSTART;TZID=America/New_York:20250908T100000
DTEND;TZID=America/New_York:20250908T110000
DTSTAMP:20260424T105616
CREATED:20250830T155525Z
LAST-MODIFIED:20250830T155525Z
UID:7647-1757325600-1757329200@www.barrettlibrary.org
SUMMARY:Mindful Meditation & Yoga
DESCRIPTION:Danielle Lane will guide you through relaxing meditation with light yoga or basic Pilates to start your day. 
URL:https://www.barrettlibrary.org/event/mindful-meditation-yoga-32/
END:VEVENT
BEGIN:VEVENT
DTSTART;TZID=America/New_York:20250905T103000
DTEND;TZID=America/New_York:20250905T113000
DTSTAMP:20260424T105616
CREATED:20250811T230316Z
LAST-MODIFIED:20250811T230316Z
UID:7638-1757068200-1757071800@www.barrettlibrary.org
SUMMARY:Fan Club Friday: Paw Patrol!
DESCRIPTION:Fan Club Friday: Paw Patrol! \nAges 1-8 \nFriday\, September 5th 10:30am \nJoin us for an informal playdate focused all around Paw Patrol! \n We will have books\, toys\, and activities featuring your favorite pups from Adventure Bay!  \nRegistration encouraged.
URL:https://www.barrettlibrary.org/event/fan-club-friday-paw-patrol/
END:VEVENT
BEGIN:VEVENT
DTSTART;TZID=America/New_York:20250904T103000
DTEND;TZID=America/New_York:20250904T113000
DTSTAMP:20260424T105616
CREATED:20250811T225209Z
LAST-MODIFIED:20250811T225209Z
UID:7628-1756981800-1756985400@www.barrettlibrary.org
SUMMARY:Library Story Time
DESCRIPTION:Library Story Time \nAges 0-5 \nThursdays in September \n10:30am \nJoin us in the children’s area for stories\, songs\, crafts\, and more!
URL:https://www.barrettlibrary.org/event/library-story-time-66/
END:VEVENT
BEGIN:VEVENT
DTSTART;TZID=America/New_York:20250903T130000
DTEND;TZID=America/New_York:20250903T140000
DTSTAMP:20260424T105616
CREATED:20250830T160315Z
LAST-MODIFIED:20250830T160315Z
UID:7655-1756904400-1756908000@www.barrettlibrary.org
SUMMARY:Shakespeare Group
DESCRIPTION:The Bard is back! Join the entertaining & knowledgeable Pat Williams at the Library. All are welcome\, whether you’re a Bard beginner or a long-time devotee.
URL:https://www.barrettlibrary.org/event/shakespeare-group-21/
END:VEVENT
BEGIN:VEVENT
DTSTART;TZID=America/New_York:20250902T130000
DTEND;TZID=America/New_York:20250902T150000
DTSTAMP:20260424T105616
CREATED:20250809T144839Z
LAST-MODIFIED:20250809T144839Z
UID:7614-1756818000-1756825200@www.barrettlibrary.org
SUMMARY:Movie Day at the Library
DESCRIPTION:Come to the Library the first Tuesday of each month to watch a feature film with friends. This month we will watch Black Bag\, starring Cate Blanchett and Michael Fassbender. Rated R. \n  \nWhen his beloved wife\, Kathryn\, is suspected of betraying the nation\, intelligence agent George Woodhouse faces the ultimate test — loyalty to his marriage or his country.
URL:https://www.barrettlibrary.org/event/movie-day-at-the-library-33/
END:VEVENT
BEGIN:VEVENT
DTSTART;TZID=America/New_York:20250902T103000
DTEND;TZID=America/New_York:20250902T110000
DTSTAMP:20260424T105616
CREATED:20250811T222736Z
LAST-MODIFIED:20250811T222736Z
UID:7618-1756809000-1756810800@www.barrettlibrary.org
SUMMARY:Baby & Me
DESCRIPTION:Baby & Me \nAges 0-2 \nTuesdays in September 10:30am \nA special story time for our youngest patrons and their grownups.  \nJoin us for stories\, songs\, and games!  \n 
URL:https://www.barrettlibrary.org/event/baby-me-96/
END:VEVENT
BEGIN:VEVENT
DTSTART;VALUE=DATE:20250901
DTEND;VALUE=DATE:20250902
DTSTAMP:20260424T105616
CREATED:20250828T000011Z
LAST-MODIFIED:20250828T000020Z
UID:7644-1756684800-1756771199@www.barrettlibrary.org
SUMMARY:CLOSED: LABOR DAY
DESCRIPTION:In observance of Labor Day\, the Library is closed on Monday\, Sept. 1. \nHave a safe and wonderful holiday!
URL:https://www.barrettlibrary.org/event/closed-labor-day/
END:VEVENT
BEGIN:VEVENT
DTSTART;TZID=America/New_York:20250827T130000
DTEND;TZID=America/New_York:20250827T140000
DTSTAMP:20260424T105616
CREATED:20250806T204120Z
LAST-MODIFIED:20250806T204120Z
UID:7606-1756299600-1756303200@www.barrettlibrary.org
SUMMARY:Shakespeare Group
DESCRIPTION:The Bard is back! Join the entertaining & knowledgeable Pat Williams at the Library for a showing and discussion of the movie Hamlet. All are welcome\, whether you’re a Bard beginner or a long-time devotee.
URL:https://www.barrettlibrary.org/event/shakespeare-group-20/
END:VEVENT
BEGIN:VEVENT
DTSTART;TZID=America/New_York:20250826T190000
DTEND;TZID=America/New_York:20250826T200000
DTSTAMP:20260424T105616
CREATED:20250730T231819Z
LAST-MODIFIED:20250730T231819Z
UID:7595-1756234800-1756238400@www.barrettlibrary.org
SUMMARY:Virtual Evening Book Club
DESCRIPTION:Join our virtual Evening Book Club on Zoom. This month we will discuss My Brilliant Friend by Elena Ferrante. If you’re interested in joining\, please contact the Library for more details.
URL:https://www.barrettlibrary.org/event/virtual-evening-book-club-37/
END:VEVENT
BEGIN:VEVENT
DTSTART;TZID=America/New_York:20250826T103000
DTEND;TZID=America/New_York:20250826T110000
DTSTAMP:20260424T105616
CREATED:20250707T205629Z
LAST-MODIFIED:20250707T205629Z
UID:7535-1756204200-1756206000@www.barrettlibrary.org
SUMMARY:Baby & Me
DESCRIPTION:Baby & Me \nAges 0-2 \nTuesdays in August 10:30am \nA special story time for our youngest patrons and their grownups.  \nJoin us for stories\, songs\, and games! 
URL:https://www.barrettlibrary.org/event/baby-me-95/
END:VEVENT
BEGIN:VEVENT
DTSTART;TZID=America/New_York:20250825T103000
DTEND;TZID=America/New_York:20250825T113000
DTSTAMP:20260424T105616
CREATED:20250707T204813Z
LAST-MODIFIED:20250707T204813Z
UID:7527-1756117800-1756121400@www.barrettlibrary.org
SUMMARY:Library Story Time
DESCRIPTION:Library Story Time \nAges 0-5 \nMondays in August 10:30am \nJoin us in the children’s area for stories\, songs\, crafts\, and more!
URL:https://www.barrettlibrary.org/event/library-story-time-64/
END:VEVENT
BEGIN:VEVENT
DTSTART;TZID=America/New_York:20250825T100000
DTEND;TZID=America/New_York:20250825T110000
DTSTAMP:20260424T105616
CREATED:20250730T231039Z
LAST-MODIFIED:20250730T231039Z
UID:7583-1756116000-1756119600@www.barrettlibrary.org
SUMMARY:Mindful Meditation & Yoga
DESCRIPTION:Danielle Lane will guide you through relaxing meditation with light yoga or basic Pilates to start your day. Please register each week.
URL:https://www.barrettlibrary.org/event/mindful-meditation-yoga-31/
END:VEVENT
BEGIN:VEVENT
DTSTART;TZID=America/New_York:20250822T103000
DTEND;TZID=America/New_York:20250822T114500
DTSTAMP:20260424T105616
CREATED:20250707T213138Z
LAST-MODIFIED:20250707T213138Z
UID:7549-1755858600-1755863100@www.barrettlibrary.org
SUMMARY:Cruise into Kindergarten
DESCRIPTION:Cruise into Kindergarten \nAges 4-5 \nFridays\, August 1st\, 8th\, 15th\, and 22nd 10:30am \nOur popular Kindergarten-readiness program is back! \nCruise into Kindergarten in a fun and welcoming environment.  \nWe will practice sitting nicely in a circle\, taking turns\, raising our hands\, and even walking in the hallway!  \nThe Weiler Family Community Room is transformed into a Kindergarten setting\, complete with circle time\, activity centers\, and snack time.  \nAll “graduates” will receive a backpack full of Kindergarten supplies upon completion of the program.  \nThis program is open to children who will be attending Kindergarten in Fall of 2025 or 2026. \nRegistration is required. Please call 570-595-7171 to register.
URL:https://www.barrettlibrary.org/event/cruise-into-kindergarten-10/
END:VEVENT
BEGIN:VEVENT
DTSTART;TZID=America/New_York:20250820T130000
DTEND;TZID=America/New_York:20250820T140000
DTSTAMP:20260424T105616
CREATED:20250806T204035Z
LAST-MODIFIED:20250806T204035Z
UID:7604-1755694800-1755698400@www.barrettlibrary.org
SUMMARY:Shakespeare Group
DESCRIPTION:The Bard is back! Join the entertaining & knowledgeable Pat Williams at the Library for a showing and discussion of the movie Hamlet. All are welcome\, whether you’re a Bard beginner or a long-time devotee.
URL:https://www.barrettlibrary.org/event/shakespeare-group-19/
END:VEVENT
BEGIN:VEVENT
DTSTART;TZID=America/New_York:20250819T130000
DTEND;TZID=America/New_York:20250819T140000
DTSTAMP:20260424T105616
CREATED:20250730T231603Z
LAST-MODIFIED:20250730T231603Z
UID:7591-1755608400-1755612000@www.barrettlibrary.org
SUMMARY:Afternoon Book Club
DESCRIPTION:Our Afternoon Book Club meets at the Library. An option to join with Zoom is available\, as well. This month we will discuss The Women by Kristin Hannah. If you’re interested in joining\, please contact the Library for more details.
URL:https://www.barrettlibrary.org/event/afternoon-book-club-26/
END:VEVENT
BEGIN:VEVENT
DTSTART;TZID=America/New_York:20250819T103000
DTEND;TZID=America/New_York:20250819T110000
DTSTAMP:20260424T105616
CREATED:20250707T205552Z
LAST-MODIFIED:20250707T205552Z
UID:7533-1755599400-1755601200@www.barrettlibrary.org
SUMMARY:Baby & Me
DESCRIPTION:Baby & Me \nAges 0-2 \nTuesdays in August 10:30am \nA special story time for our youngest patrons and their grownups.  \nJoin us for stories\, songs\, and games! 
URL:https://www.barrettlibrary.org/event/baby-me-94/
END:VEVENT
BEGIN:VEVENT
DTSTART;TZID=America/New_York:20250818T103000
DTEND;TZID=America/New_York:20250818T113000
DTSTAMP:20260424T105616
CREATED:20250707T204644Z
LAST-MODIFIED:20250707T204644Z
UID:7525-1755513000-1755516600@www.barrettlibrary.org
SUMMARY:Library Story Time
DESCRIPTION:Library Story Time \nAges 0-5 \nMondays in August 10:30am \nJoin us in the children’s area for stories\, songs\, crafts\, and more!
URL:https://www.barrettlibrary.org/event/library-story-time-63/
END:VEVENT
BEGIN:VEVENT
DTSTART;TZID=America/New_York:20250818T100000
DTEND;TZID=America/New_York:20250818T110000
DTSTAMP:20260424T105616
CREATED:20250730T230944Z
LAST-MODIFIED:20250730T230944Z
UID:7581-1755511200-1755514800@www.barrettlibrary.org
SUMMARY:Mindful Meditation & Yoga
DESCRIPTION:Danielle Lane will guide you through relaxing meditation with light yoga or basic Pilates to start your day. Please register each week.
URL:https://www.barrettlibrary.org/event/mindful-meditation-yoga-30/
END:VEVENT
BEGIN:VEVENT
DTSTART;VALUE=DATE:20250818
DTEND;VALUE=DATE:20250819
DTSTAMP:20260424T105616
CREATED:20250730T231657Z
LAST-MODIFIED:20250730T231657Z
UID:7593-1755475200-1755561599@www.barrettlibrary.org
SUMMARY:Adult Take-Home Kit: Pressed Flower Bookmarks
DESCRIPTION:Calling all booklovers! Create a gorgeous bookmark to use in your favorite books! We supply all the materials. You must register to receive a kit. Supplies will be available for pickup beginning Monday\, August 18.
URL:https://www.barrettlibrary.org/event/adult-take-home-kit-pressed-flower-bookmarks/
END:VEVENT
BEGIN:VEVENT
DTSTART;TZID=America/New_York:20250815T103000
DTEND;TZID=America/New_York:20250815T114500
DTSTAMP:20260424T105616
CREATED:20250707T212558Z
LAST-MODIFIED:20250707T213057Z
UID:7547-1755253800-1755258300@www.barrettlibrary.org
SUMMARY:Cruise into Kindergarten
DESCRIPTION:Cruise into Kindergarten \nAges 4-5 \nFridays\, August 1st\, 8th\, 15th\, and 22nd 10:30am \nOur popular Kindergarten-readiness program is back! \nCruise into Kindergarten in a fun and welcoming environment.  \nWe will practice sitting nicely in a circle\, taking turns\, raising our hands\, and even walking in the hallway!  \nThe Weiler Family Community Room is transformed into a Kindergarten setting\, complete with circle time\, activity centers\, and snack time.  \nAll “graduates” will receive a backpack full of Kindergarten supplies upon completion of the program.  \nThis program is open to children who will be attending Kindergarten in Fall of 2025 or 2026. \nRegistration is required. Please call 570-595-7171 to register.
URL:https://www.barrettlibrary.org/event/cruise-into-kindergarten-9/
END:VEVENT
BEGIN:VEVENT
DTSTART;TZID=America/New_York:20250814T183000
DTEND;TZID=America/New_York:20250814T193000
DTSTAMP:20260424T105616
CREATED:20250730T231357Z
LAST-MODIFIED:20250730T231357Z
UID:7587-1755196200-1755199800@www.barrettlibrary.org
SUMMARY:Virtual Writing Group
DESCRIPTION:Join us on Zoom to discuss the art of writing while sharing work with the group. This month we will focus on writing classic fantasy. If you’re interested in joining\, please contact Lynn for more details\, l.vromanbpfl@gmail.com. \n.
URL:https://www.barrettlibrary.org/event/virtual-writing-group-44/
END:VEVENT
BEGIN:VEVENT
DTSTART;TZID=America/New_York:20250813T113000
DTEND;TZID=America/New_York:20250813T123000
DTSTAMP:20260424T105616
CREATED:20250702T194827Z
LAST-MODIFIED:20250702T194913Z
UID:7512-1755084600-1755088200@www.barrettlibrary.org
SUMMARY:Healthy Eating on a Budget
DESCRIPTION:Are you looking for a way to eat healthy without breaking the bank? Join dietician Kathleen Gallagher at the Library for a special program on how to eat healthy on a budget. Registration is required for the program. To register\, call the Library\, 570-595-7171\, or email Lynn\, l.vromanbpfl@gmail.com.
URL:https://www.barrettlibrary.org/event/healthy-eating-on-a-budget/
END:VEVENT
BEGIN:VEVENT
DTSTART;TZID=America/New_York:20250812T103000
DTEND;TZID=America/New_York:20250812T110000
DTSTAMP:20260424T105616
CREATED:20250707T205417Z
LAST-MODIFIED:20250707T205417Z
UID:7531-1754994600-1754996400@www.barrettlibrary.org
SUMMARY:Baby & Me
DESCRIPTION:Baby & Me \nAges 0-2 \nTuesdays in August 10:30am \nA special story time for our youngest patrons and their grownups.  \nJoin us for stories\, songs\, and games! 
URL:https://www.barrettlibrary.org/event/baby-me-93/
END:VEVENT
BEGIN:VEVENT
DTSTART;TZID=America/New_York:20250811T103000
DTEND;TZID=America/New_York:20250811T113000
DTSTAMP:20260424T105616
CREATED:20250707T203735Z
LAST-MODIFIED:20250707T203735Z
UID:7523-1754908200-1754911800@www.barrettlibrary.org
SUMMARY:Library Story Time
DESCRIPTION:Library Story Time \nAges 0-5 \nMondays in August 10:30am \nJoin us in the children’s area for stories\, songs\, crafts\, and more!
URL:https://www.barrettlibrary.org/event/library-story-time-62/
END:VEVENT
BEGIN:VEVENT
DTSTART;TZID=America/New_York:20250811T100000
DTEND;TZID=America/New_York:20250811T110000
DTSTAMP:20260424T105616
CREATED:20250730T230855Z
LAST-MODIFIED:20250730T230855Z
UID:7578-1754906400-1754910000@www.barrettlibrary.org
SUMMARY:Mindful Meditation & Yoga
DESCRIPTION:Danielle Lane will guide you through relaxing meditation with light yoga or basic Pilates to start your day. Please register each week.
URL:https://www.barrettlibrary.org/event/mindful-meditation-yoga-29/
END:VEVENT
END:VCALENDAR