BEGIN:VCALENDAR
VERSION:2.0
PRODID:-//Barrett Paradise Friendly Library - ECPv6.15.20//NONSGML v1.0//EN
CALSCALE:GREGORIAN
METHOD:PUBLISH
X-WR-CALNAME:Barrett Paradise Friendly Library
X-ORIGINAL-URL:https://www.barrettlibrary.org
X-WR-CALDESC:Events for Barrett Paradise Friendly Library
REFRESH-INTERVAL;VALUE=DURATION:PT1H
X-Robots-Tag:noindex
X-PUBLISHED-TTL:PT1H
BEGIN:VTIMEZONE
TZID:America/New_York
BEGIN:DAYLIGHT
TZOFFSETFROM:-0500
TZOFFSETTO:-0400
TZNAME:EDT
DTSTART:20230312T070000
END:DAYLIGHT
BEGIN:STANDARD
TZOFFSETFROM:-0400
TZOFFSETTO:-0500
TZNAME:EST
DTSTART:20231105T060000
END:STANDARD
BEGIN:DAYLIGHT
TZOFFSETFROM:-0500
TZOFFSETTO:-0400
TZNAME:EDT
DTSTART:20240310T070000
END:DAYLIGHT
BEGIN:STANDARD
TZOFFSETFROM:-0400
TZOFFSETTO:-0500
TZNAME:EST
DTSTART:20241103T060000
END:STANDARD
BEGIN:DAYLIGHT
TZOFFSETFROM:-0500
TZOFFSETTO:-0400
TZNAME:EDT
DTSTART:20250309T070000
END:DAYLIGHT
BEGIN:STANDARD
TZOFFSETFROM:-0400
TZOFFSETTO:-0500
TZNAME:EST
DTSTART:20251102T060000
END:STANDARD
END:VTIMEZONE
BEGIN:VEVENT
DTSTART;TZID=America/New_York:20240606T133000
DTEND;TZID=America/New_York:20240606T153000
DTSTAMP:20260424T113108
CREATED:20240511T144917Z
LAST-MODIFIED:20240511T144917Z
UID:6463-1717680600-1717687800@www.barrettlibrary.org
SUMMARY:Crocheted Bunnies
DESCRIPTION:Come to the Library to make crocheted bunnies with Judie Tim! She will guide through the process to make these adorable stuffed animals. We supply all the materials. Space is limited: you must for this program. When registering\, please indicate your crochet skill level. 
URL:https://www.barrettlibrary.org/event/crocheted-bunnies/
END:VEVENT
BEGIN:VEVENT
DTSTART;TZID=America/New_York:20240605T163000
DTEND;TZID=America/New_York:20240605T173000
DTSTAMP:20260424T113108
CREATED:20240531T014539Z
LAST-MODIFIED:20240531T015918Z
UID:6509-1717605000-1717608600@www.barrettlibrary.org
SUMMARY:Preschool Play Date
DESCRIPTION:Preschool Play Date \nAges 2-5 \nWednesday\, June 5th 4:30pm \nCome to the library for stories\, songs\, and games to play with friends! \n There will be a short story time\, followed by time for you to explore activities with your children and their friends.  \nRegistration is encouraged. Please call 570-595-7171 to register.
URL:https://www.barrettlibrary.org/event/preschool-play-date-10/
END:VEVENT
BEGIN:VEVENT
DTSTART;TZID=America/New_York:20240604T130000
DTEND;TZID=America/New_York:20240604T150000
DTSTAMP:20260424T113108
CREATED:20240422T154148Z
LAST-MODIFIED:20240422T154148Z
UID:6431-1717506000-1717513200@www.barrettlibrary.org
SUMMARY:Movie Day at the Library
DESCRIPTION:Come to the Library the first Tuesday of each month to watch a newly released movie with friends. This month we will watch Dreamin’ Wild\, starring Casey Affleck. \nBrothers Donnie and Joe Emerson find newfound musical success after their 1979 debut album “Dreamin’ Wild” is rediscovered three decades later. Rated PG. \n 
URL:https://www.barrettlibrary.org/event/movie-day-at-the-library-18/
END:VEVENT
BEGIN:VEVENT
DTSTART;TZID=America/New_York:20240604T101500
DTEND;TZID=America/New_York:20240604T104500
DTSTAMP:20260424T113108
CREATED:20240531T013758Z
LAST-MODIFIED:20240531T013758Z
UID:6499-1717496100-1717497900@www.barrettlibrary.org
SUMMARY:Baby & Me
DESCRIPTION:Baby & Me \nAges 0-2 \nTuesdays\, June 4th & 18th 10:15am \nA special story time for our youngest patrons and their grownups.  \nJoin us for stories\, songs\, and games!
URL:https://www.barrettlibrary.org/event/baby-me-34/
END:VEVENT
BEGIN:VEVENT
DTSTART;TZID=America/New_York:20240530T101500
DTEND;TZID=America/New_York:20240530T110000
DTSTAMP:20260424T113108
CREATED:20240412T162839Z
LAST-MODIFIED:20240412T162839Z
UID:6422-1717064100-1717066800@www.barrettlibrary.org
SUMMARY:Library Story Time
DESCRIPTION:Library Story Time \nAges 0-5 \nThursday\, May 30th at 10:15am \nJoin us in the children’s area for stories\, songs\, crafts\, and more!
URL:https://www.barrettlibrary.org/event/library-story-time-14/
END:VEVENT
BEGIN:VEVENT
DTSTART;TZID=America/New_York:20240528T190000
DTEND;TZID=America/New_York:20240528T200000
DTSTAMP:20260424T113108
CREATED:20240429T153523Z
LAST-MODIFIED:20240429T153523Z
UID:6448-1716922800-1716926400@www.barrettlibrary.org
SUMMARY:Virtual Evening Book Club
DESCRIPTION:Join our virtual Evening Book Club on Zoom. This month we will discuss The Last Flight by Julie Clark. If you’re interested in joining\, please call the Library for more details.
URL:https://www.barrettlibrary.org/event/virtual-evening-book-club-25/
END:VEVENT
BEGIN:VEVENT
DTSTART;TZID=America/New_York:20240522T173000
DTEND;TZID=America/New_York:20240522T183000
DTSTAMP:20260424T113108
CREATED:20240412T163108Z
LAST-MODIFIED:20240412T163108Z
UID:6426-1716399000-1716402600@www.barrettlibrary.org
SUMMARY:Cookies & Canvas
DESCRIPTION:Cookies & Canvas \nAges 6-11 \nWednesday\, May 22nd 5:30pm \nJoin us for a fun painting project and a sweet treat.  \nArtists will be using acrylic paint\, so please dress to get messy!  \nRegistration is required for this program. 
URL:https://www.barrettlibrary.org/event/cookies-canvas/
END:VEVENT
BEGIN:VEVENT
DTSTART;TZID=America/New_York:20240521T101500
DTEND;TZID=America/New_York:20240521T104500
DTSTAMP:20260424T113108
CREATED:20240412T162558Z
LAST-MODIFIED:20240412T162558Z
UID:6418-1716286500-1716288300@www.barrettlibrary.org
SUMMARY:Baby & Me
DESCRIPTION:Baby & Me \nAges 0-2 \nTuesday\, May 21st 10:15am \nA special story time for our youngest patrons and their grownups.  \nJoin us for stories\, songs\, and games! 
URL:https://www.barrettlibrary.org/event/baby-me-33/
END:VEVENT
BEGIN:VEVENT
DTSTART;TZID=America/New_York:20240521T010000
DTEND;TZID=America/New_York:20240521T140000
DTSTAMP:20260424T113108
CREATED:20240429T153416Z
LAST-MODIFIED:20240429T153416Z
UID:6446-1716253200-1716300000@www.barrettlibrary.org
SUMMARY:Afternoon Book Club
DESCRIPTION:Our Afternoon Book Club meets at the Library. An option to join with Zoom is available\, as well. This month we will discuss The Devil in the White City by Erik Larson. If you’re interested in joining\, please call the Library for more details.
URL:https://www.barrettlibrary.org/event/afternoon-book-club-13/
END:VEVENT
BEGIN:VEVENT
DTSTART;VALUE=DATE:20240520
DTEND;VALUE=DATE:20240521
DTSTAMP:20260424T113108
CREATED:20240429T153303Z
LAST-MODIFIED:20240429T153303Z
UID:6444-1716163200-1716249599@www.barrettlibrary.org
SUMMARY:Adult Take-Home Kit: Honey Vanilla Lip Scrub
DESCRIPTION:Focus on some self-care by making your own honey vanilla lip scrub. We will supply the materials. You must register to receive a bag. Supplies will be available for pickup beginning Monday\, May 20. For further information\, or to register\, please call the Library (570-595-7171) or email Lynn at l.vromanbpfl @ gmail.com.
URL:https://www.barrettlibrary.org/event/adult-take-home-kit-honey-vanilla-lip-scrub/
END:VEVENT
BEGIN:VEVENT
DTSTART;TZID=America/New_York:20240517T103000
DTEND;TZID=America/New_York:20240517T113000
DTSTAMP:20260424T113108
CREATED:20240429T152741Z
LAST-MODIFIED:20240429T152741Z
UID:6440-1715941800-1715945400@www.barrettlibrary.org
SUMMARY:Healing Yoga
DESCRIPTION:Danielle Lane will guide you through a soothing\, mindful yoga experience which may include meditation\, sound bowls\, music\, and other elements. Appropriate for all levels. Space is limited: please register for each session. To register\, please call the Library (570-595-7171) or email Lynn at l.vromanbpfl (at) gmail (dot) com.
URL:https://www.barrettlibrary.org/event/healing-yoga-15/
END:VEVENT
BEGIN:VEVENT
DTSTART;TZID=America/New_York:20240516T140000
DTEND;TZID=America/New_York:20240516T160000
DTSTAMP:20260424T113108
CREATED:20240402T200003Z
LAST-MODIFIED:20240402T200003Z
UID:6389-1715868000-1715875200@www.barrettlibrary.org
SUMMARY:Intro to Watercolors for Adults
DESCRIPTION:Instructors John James & Cathy Zateeny will guide beginners as well as those with some experience in this four-week class exploring watercolor painting. All supplies provided. Class size is limited: Registration required. When registering\, please indicate whether you’ve taken watercolor classes before. \nMeeting Dates: Thursdays\, April 25\, May 2\, 9\, & 16. 2-4pm.
URL:https://www.barrettlibrary.org/event/intro-to-watercolors-for-adults-4/
END:VEVENT
BEGIN:VEVENT
DTSTART;TZID=America/New_York:20240516T140000
DTEND;TZID=America/New_York:20240516T153000
DTSTAMP:20260424T113108
CREATED:20240511T194915Z
LAST-MODIFIED:20240511T194915Z
UID:6467-1715868000-1715873400@www.barrettlibrary.org
SUMMARY:Kaleidoscope
DESCRIPTION:Adult Discussion Group: Sharing Reflections on the Facets of Life from the Intriguing to the Sublime. Join us for a new\, monthly opportunity to share insights on a variety of topics with friends and neighbors. As a kaleidoscope has many facets\, so too does our group leader\, Sharon Barrow. She will draw on her experiences as a seasoned actress and director (from Shakespeare to slapstick!)\, art & quote collector\, cat-video aficionado\, and workshop facilitator. Registration is recommended\, but not required.
URL:https://www.barrettlibrary.org/event/kaleidoscope/
END:VEVENT
BEGIN:VEVENT
DTSTART;TZID=America/New_York:20240515T180000
DTEND;TZID=America/New_York:20240515T190000
DTSTAMP:20260424T113108
CREATED:20240412T163323Z
LAST-MODIFIED:20240412T163323Z
UID:6428-1715796000-1715799600@www.barrettlibrary.org
SUMMARY:Teen Advisory Board
DESCRIPTION:Teen Advisory Board \nTeens 12-17 \nWednesday\, May 15th 6pm \nJoin us for our last official meeting before  \nthe Summer break. We will talk about plans for the summer and beyond.
URL:https://www.barrettlibrary.org/event/teen-advisory-board/
END:VEVENT
BEGIN:VEVENT
DTSTART;TZID=America/New_York:20240513T180000
DTEND;TZID=America/New_York:20240513T190000
DTSTAMP:20260424T113108
CREATED:20240429T154101Z
LAST-MODIFIED:20240429T155357Z
UID:6450-1715623200-1715626800@www.barrettlibrary.org
SUMMARY:DIY Handmade Cards with Lisa Flanagan
DESCRIPTION:Join Lisa Flanagan at the Library as she guides you through the fun craft of making your own handmade cards. We supply the materials. You must register for this class\, as space is extremely limited. For further information\, or to register\, please call the Library (570-595-7171) or email Lynn at l.vromanbpfl @ gmail.com.
URL:https://www.barrettlibrary.org/event/diy-spring-cards-with-lisa-flanagan/
END:VEVENT
BEGIN:VEVENT
DTSTART;TZID=America/New_York:20240509T183000
DTEND;TZID=America/New_York:20240509T193000
DTSTAMP:20260424T113108
CREATED:20240429T153047Z
LAST-MODIFIED:20240429T153047Z
UID:6442-1715279400-1715283000@www.barrettlibrary.org
SUMMARY:Virtual Writing Group
DESCRIPTION:Join us on Zoom to discuss the art of writing while sharing work with the group. This month we will talk about the importance of setting the stage of each scene. For further information or to register\, please call the Library (570-595-7171) or email Lynn at l.vromanbpfl@gmail.com. \n 
URL:https://www.barrettlibrary.org/event/virtual-writing-group-32/
END:VEVENT
BEGIN:VEVENT
DTSTART;TZID=America/New_York:20240509T140000
DTEND;TZID=America/New_York:20240509T160000
DTSTAMP:20260424T113108
CREATED:20240402T195918Z
LAST-MODIFIED:20240402T195918Z
UID:6387-1715263200-1715270400@www.barrettlibrary.org
SUMMARY:Intro to Watercolors for Adults
DESCRIPTION:Instructors John James & Cathy Zateeny will guide beginners as well as those with some experience in this four-week class exploring watercolor painting. All supplies provided. Class size is limited: Registration required. When registering\, please indicate whether you’ve taken watercolor classes before. \nMeeting Dates: Thursdays\, April 25\, May 2\, 9\, & 16. 2-4pm.
URL:https://www.barrettlibrary.org/event/intro-to-watercolors-for-adults-3/
END:VEVENT
BEGIN:VEVENT
DTSTART;TZID=America/New_York:20240507T130000
DTEND;TZID=America/New_York:20240507T150000
DTSTAMP:20260424T113108
CREATED:20240323T160931Z
LAST-MODIFIED:20240429T151335Z
UID:6327-1715086800-1715094000@www.barrettlibrary.org
SUMMARY:Movie Day at the Library
DESCRIPTION:Come to the Library to watch a newly released movie with friends. This month we will watch The Color Purple (2023)\, starring Fantasia Barrino. Rated PG-13. \nTorn apart from her sister and her children\, Celie faces many hardships in life\, including an abusive husband. With support from a sultry singer named Shug Avery\, as well as her stand-her-ground stepdaughter\, Celie ultimately finds extraordinary strength in the unbreakable bonds of a new kind of sisterhood.
URL:https://www.barrettlibrary.org/event/movie-day-at-the-library-17/
END:VEVENT
BEGIN:VEVENT
DTSTART;TZID=America/New_York:20240507T101500
DTEND;TZID=America/New_York:20240507T104500
DTSTAMP:20260424T113108
CREATED:20240412T162504Z
LAST-MODIFIED:20240412T162504Z
UID:6416-1715076900-1715078700@www.barrettlibrary.org
SUMMARY:Baby & Me
DESCRIPTION:Baby & Me \nAges 0-2 \nTuesday\, May 7th 10:15am \nA special story time for our youngest patrons and their grownups.  \nJoin us for stories\, songs\, and games! 
URL:https://www.barrettlibrary.org/event/baby-me-32/
END:VEVENT
BEGIN:VEVENT
DTSTART;TZID=America/New_York:20240503T103000
DTEND;TZID=America/New_York:20240503T113000
DTSTAMP:20260424T113108
CREATED:20240429T152635Z
LAST-MODIFIED:20240429T152635Z
UID:6438-1714732200-1714735800@www.barrettlibrary.org
SUMMARY:Healing Yoga
DESCRIPTION:Danielle Lane will guide you through a soothing\, mindful yoga experience which may include meditation\, sound bowls\, music\, and other elements. Appropriate for all levels. Space is limited: please register for each session. To register\, please call the Library (570-595-7171) or email Lynn at l.vromanbpfl (at) gmail (dot) com.
URL:https://www.barrettlibrary.org/event/healing-yoga-14/
END:VEVENT
BEGIN:VEVENT
DTSTART;TZID=America/New_York:20240502T140000
DTEND;TZID=America/New_York:20240502T160000
DTSTAMP:20260424T113108
CREATED:20240402T195830Z
LAST-MODIFIED:20240402T195830Z
UID:6385-1714658400-1714665600@www.barrettlibrary.org
SUMMARY:Intro to Watercolors for Adults
DESCRIPTION:Instructors John James & Cathy Zateeny will guide beginners as well as those with some experience in this four-week class exploring watercolor painting. All supplies provided. Class size is limited: Registration required. When registering\, please indicate whether you’ve taken watercolor classes before. \nMeeting Dates: Thursdays\, April 25\, May 2\, 9\, & 16. 2-4pm.
URL:https://www.barrettlibrary.org/event/intro-to-watercolors-for-adults-2/
END:VEVENT
BEGIN:VEVENT
DTSTART;TZID=America/New_York:20240501T163000
DTEND;TZID=America/New_York:20240501T170000
DTSTAMP:20260424T113108
CREATED:20240412T163001Z
LAST-MODIFIED:20240412T163001Z
UID:6424-1714581000-1714582800@www.barrettlibrary.org
SUMMARY:Preschool Play Date
DESCRIPTION:Preschool Play Date \nAges 0-5 \nWednesday\, May 1st 4:30pm \nCome to the library for stories\, songs\, and games to play with friends!  \nThere will be a short story time\, followed by time for you to explore activities with your children and their friends.  \nRegistration is encouraged. Please call 570-595-7171 to register.
URL:https://www.barrettlibrary.org/event/preschool-play-date-9/
END:VEVENT
BEGIN:VEVENT
DTSTART;TZID=America/New_York:20240430T190000
DTEND;TZID=America/New_York:20240430T200000
DTSTAMP:20260424T113108
CREATED:20240323T162946Z
LAST-MODIFIED:20240323T162946Z
UID:6339-1714503600-1714507200@www.barrettlibrary.org
SUMMARY:Virtual Evening Book
DESCRIPTION:Join our virtual Evening Book Club on Zoom. This month we will discuss Bloomsbury Girls by Natalie Jenner. If you’re interested in joining\, please call the Library for more details.
URL:https://www.barrettlibrary.org/event/virtual-evening-book-5/
END:VEVENT
BEGIN:VEVENT
DTSTART;TZID=America/New_York:20240425T140000
DTEND;TZID=America/New_York:20240425T160000
DTSTAMP:20260424T113108
CREATED:20240402T175235Z
LAST-MODIFIED:20240402T175328Z
UID:6378-1714053600-1714060800@www.barrettlibrary.org
SUMMARY:Intro to Watercolors for Adults
DESCRIPTION:Instructors John James & Cathy Zateeny will guide beginners as well as those with some experience in this four-week class exploring watercolor painting. All supplies provided. Class size is limited: Registration required. When registering\, please indicate whether you’ve taken watercolor classes before. \nMeeting Dates: Thursdays\, April 25\, May 2\, 9\, & 16. 2-4pm.
URL:https://www.barrettlibrary.org/event/intro-to-watercolors-for-adults/
END:VEVENT
BEGIN:VEVENT
DTSTART;TZID=America/New_York:20240425T101500
DTEND;TZID=America/New_York:20240425T110000
DTSTAMP:20260424T113108
CREATED:20240325T213102Z
LAST-MODIFIED:20240325T213102Z
UID:6352-1714040100-1714042800@www.barrettlibrary.org
SUMMARY:Library Story Time
DESCRIPTION:Library Story Time \nAges 0-5 \nThursdays\, April 11th & 25th 10:15am \nJoin us in the children’s area for stories\, songs\, crafts\, and more!
URL:https://www.barrettlibrary.org/event/library-story-time-12/
END:VEVENT
BEGIN:VEVENT
DTSTART;TZID=America/New_York:20240419T103000
DTEND;TZID=America/New_York:20240419T113000
DTSTAMP:20260424T113108
CREATED:20240401T162755Z
LAST-MODIFIED:20240401T162755Z
UID:6371-1713522600-1713526200@www.barrettlibrary.org
SUMMARY:Healing Yoga
DESCRIPTION:Danielle Lane will guide you through a soothing\, mindful yoga experience which may include meditation\, sound bowls\, music\, and other elements. Appropriate for all levels. Space is limited: please register for each session. 
URL:https://www.barrettlibrary.org/event/healing-yoga-13/
END:VEVENT
BEGIN:VEVENT
DTSTART;TZID=America/New_York:20240418T140000
DTEND;TZID=America/New_York:20240418T153000
DTSTAMP:20260424T113108
CREATED:20240402T174455Z
LAST-MODIFIED:20240402T174455Z
UID:6376-1713448800-1713454200@www.barrettlibrary.org
SUMMARY:Kaleidoscope Adult Discussion Group
DESCRIPTION:Adult Discussion Group: Sharing Reflections on the Facets of Life from the Intriguing to the Sublime. \nJoin us for a new\, monthly opportunity to share insights on a variety of topics with friends and neighbors. As a kaleidoscope has many facets\, so too does our group leader\, Sharon Barrow. She will draw on her experiences as a seasoned actress and director (from Shakespeare to slapstick!)\, art & quote collector\, cat-video aficionado\, and workshop facilitator. Our April meeting will focus on poetry in honor of National Poetry Month. Bring a favorite poem to share or just enjoy and reflect on the contributions of others in the group. Registration is recommended\, but not required.
URL:https://www.barrettlibrary.org/event/kaleidoscope-adult-discussion-group/
END:VEVENT
BEGIN:VEVENT
DTSTART;TZID=America/New_York:20240416T130000
DTEND;TZID=America/New_York:20240416T140000
DTSTAMP:20260424T113108
CREATED:20240323T162717Z
LAST-MODIFIED:20240323T162717Z
UID:6337-1713272400-1713276000@www.barrettlibrary.org
SUMMARY:Afternoon Book Club
DESCRIPTION:Our Afternoon Book Club meets at the Library. An option to join with Zoom is available\, as well. This month we will discuss Boys in the Boat by Daniel James Brown. If you’re interested in joining\, please call the Library for more details.
URL:https://www.barrettlibrary.org/event/afternoon-book-club-12/
END:VEVENT
BEGIN:VEVENT
DTSTART;TZID=America/New_York:20240416T101500
DTEND;TZID=America/New_York:20240416T110000
DTSTAMP:20260424T113108
CREATED:20240412T162712Z
LAST-MODIFIED:20240412T162712Z
UID:6420-1713262500-1713265200@www.barrettlibrary.org
SUMMARY:Library Story Time
DESCRIPTION:Library Story Time \nAges 0-5 \nThursday\, May 16th at 10:15am \nJoin us in the children’s area for stories\, songs\, crafts\, and more!
URL:https://www.barrettlibrary.org/event/library-story-time-13/
END:VEVENT
BEGIN:VEVENT
DTSTART;TZID=America/New_York:20240416T101500
DTEND;TZID=America/New_York:20240416T104500
DTSTAMP:20260424T113108
CREATED:20240325T212917Z
LAST-MODIFIED:20240325T212917Z
UID:6348-1713262500-1713264300@www.barrettlibrary.org
SUMMARY:Baby & Me
DESCRIPTION:Baby & Me \nAges 0-2 \nTuesday\, April 16th 10:15am \nA special story time for our youngest patrons and their grownups.  \nJoin us for stories\, songs\, and games! 
URL:https://www.barrettlibrary.org/event/baby-me-31/
END:VEVENT
END:VCALENDAR