BEGIN:VCALENDAR
VERSION:2.0
PRODID:-//Barrett Paradise Friendly Library - ECPv6.15.20//NONSGML v1.0//EN
CALSCALE:GREGORIAN
METHOD:PUBLISH
X-WR-CALNAME:Barrett Paradise Friendly Library
X-ORIGINAL-URL:https://www.barrettlibrary.org
X-WR-CALDESC:Events for Barrett Paradise Friendly Library
REFRESH-INTERVAL;VALUE=DURATION:PT1H
X-Robots-Tag:noindex
X-PUBLISHED-TTL:PT1H
BEGIN:VTIMEZONE
TZID:America/New_York
BEGIN:DAYLIGHT
TZOFFSETFROM:-0500
TZOFFSETTO:-0400
TZNAME:EDT
DTSTART:20230312T070000
END:DAYLIGHT
BEGIN:STANDARD
TZOFFSETFROM:-0400
TZOFFSETTO:-0500
TZNAME:EST
DTSTART:20231105T060000
END:STANDARD
BEGIN:DAYLIGHT
TZOFFSETFROM:-0500
TZOFFSETTO:-0400
TZNAME:EDT
DTSTART:20240310T070000
END:DAYLIGHT
BEGIN:STANDARD
TZOFFSETFROM:-0400
TZOFFSETTO:-0500
TZNAME:EST
DTSTART:20241103T060000
END:STANDARD
BEGIN:DAYLIGHT
TZOFFSETFROM:-0500
TZOFFSETTO:-0400
TZNAME:EDT
DTSTART:20250309T070000
END:DAYLIGHT
BEGIN:STANDARD
TZOFFSETFROM:-0400
TZOFFSETTO:-0500
TZNAME:EST
DTSTART:20251102T060000
END:STANDARD
END:VTIMEZONE
BEGIN:VEVENT
DTSTART;TZID=America/New_York:20240314T101500
DTEND;TZID=America/New_York:20240314T110000
DTSTAMP:20260424T114449
CREATED:20240224T152206Z
LAST-MODIFIED:20240224T152206Z
UID:6288-1710411300-1710414000@www.barrettlibrary.org
SUMMARY:Library Story Time
DESCRIPTION:Library Story Time \nAges 0-5 \nThursdays\, March 14th & 28th 10:15am \nJoin us in the children’s area for stories\, songs\, crafts\, and more!
URL:https://www.barrettlibrary.org/event/library-story-time-9/
END:VEVENT
BEGIN:VEVENT
DTSTART;TZID=America/New_York:20240313T180000
DTEND;TZID=America/New_York:20240313T190000
DTSTAMP:20260424T114449
CREATED:20240224T152545Z
LAST-MODIFIED:20240224T152545Z
UID:6294-1710352800-1710356400@www.barrettlibrary.org
SUMMARY:Teen Action Board
DESCRIPTION:Teen Action Board \nTeens 12-17 \nWednesday\, March 13th 6pm \nJoin our Teen Action Board.  \nLearn how you can serve your community\, make friends\,  \nand earn community service hours all at the same time!  \nPlease call to register.
URL:https://www.barrettlibrary.org/event/teen-action-board-5/
END:VEVENT
BEGIN:VEVENT
DTSTART;TZID=America/New_York:20240307T100000
DTEND;TZID=America/New_York:20240307T150000
DTSTAMP:20260424T114449
CREATED:20240127T202732Z
LAST-MODIFIED:20240127T202732Z
UID:6245-1709805600-1709823600@www.barrettlibrary.org
SUMMARY:Rep Madden Satellite Office Hours
DESCRIPTION:State Representative Maureen Madden’s staff will hold satellite office hours at the Library the first week (Wed & Thu) and third week (Mon & Tue) each month from 10am-3pm to offer constituent services. For questions about services\, please call 570-894-7905 or visit her website.
URL:https://www.barrettlibrary.org/event/rep-madden-satellite-office-hours-20/
END:VEVENT
BEGIN:VEVENT
DTSTART;TZID=America/New_York:20240306T163000
DTEND;TZID=America/New_York:20240306T173000
DTSTAMP:20260424T114449
CREATED:20240224T152359Z
LAST-MODIFIED:20240224T152359Z
UID:6292-1709742600-1709746200@www.barrettlibrary.org
SUMMARY:Preschool Play Date
DESCRIPTION:Preschool Play Date \nAges 0-5 \nWednesday\, March 6th 4:30pm \nCome to the library for stories\, songs\, and games to play with friends!  \nThere will be a short story time\, followed by time for you to explore activities with your children and their friends.  \nRegistration is encouraged.  \nPlease call 570-595-7171 to register.
URL:https://www.barrettlibrary.org/event/preschool-play-date-7/
END:VEVENT
BEGIN:VEVENT
DTSTART;TZID=America/New_York:20240306T100000
DTEND;TZID=America/New_York:20240306T150000
DTSTAMP:20260424T114449
CREATED:20240127T202649Z
LAST-MODIFIED:20240127T202649Z
UID:6243-1709719200-1709737200@www.barrettlibrary.org
SUMMARY:Rep Madden Satellite Office Hours
DESCRIPTION:State Representative Maureen Madden’s staff will hold satellite office hours at the Library the first week (Wed & Thu) and third week (Mon & Tue) each month from 10am-3pm to offer constituent services. For questions about services\, please call 570-894-7905 or visit her website.
URL:https://www.barrettlibrary.org/event/rep-madden-satellite-office-hours-19/
END:VEVENT
BEGIN:VEVENT
DTSTART;TZID=America/New_York:20240305T130000
DTEND;TZID=America/New_York:20240305T150000
DTSTAMP:20260424T114449
CREATED:20240127T155046Z
LAST-MODIFIED:20240127T155046Z
UID:6220-1709643600-1709650800@www.barrettlibrary.org
SUMMARY:Movie Day at the Library
DESCRIPTION:Come to the Library to watch a newly released movie with friends. This month we will watch Asteroid City\, starring Tom Hanks. Rated PG-13.
URL:https://www.barrettlibrary.org/event/movie-day-at-the-library-15/
END:VEVENT
BEGIN:VEVENT
DTSTART;TZID=America/New_York:20240305T073000
DTEND;TZID=America/New_York:20240305T193000
DTSTAMP:20260424T114449
CREATED:20240115T221923Z
LAST-MODIFIED:20240115T221923Z
UID:6205-1709623800-1709667000@www.barrettlibrary.org
SUMMARY:Philadelphia Flower Show Bus Trip
DESCRIPTION:The FCC (The Friendly Community Center) is teaming up with Barrett Paradise Friendly Library to offer a bus trip to the Philadelphia Flower Show!  \nDATE: Tuesday\, March 5\, 2024 \nTICKETS: $90 per person. Price includes bus transportation and admission to the flower show. Adults only\, please. \nHOW TO PURCHASE TICKETS:\nCredit/Debit Card:  Follow this link to the FCC’s Events & Fundraisers page to pay by credit card or debit card via Pay Pal.\nCheck: Made out to The FCC. Mail to The FCC\, PO Box 604\, Mountainhome\, PA 18342\, or drop off at Barrett Paradise Friendly Library.\nLAST DAY to purchase tickets: March 1st\, unless tickets sell out prior to this date. \nBUS PICK UP/DROP OFF INFO. Choose one of the following locations:\nBARC: Barrett Administrative Recreation Complex\, 1200 Route 390\, Cresco\, PA 18326.\nBus loads at 7:30 AM and returns approx. 7:30 PM. \nPocono Township Fire House\, 114 Municipal Lane\, Tannersville\, PA 18372.\nBus loads at 8 AM and returns approx. 7:00 PM. \nThis year’s theme\, “United by Flowers\,” celebrates the unique and colorful\ncommunity born out of our shared love and appreciation of gardening\nand the connections and impact they create on our everyday lives. \nLearn more about the event here: https://phsonline.org/the-flower-show
URL:https://www.barrettlibrary.org/event/philadelphia-flower-show-bus-trip/
END:VEVENT
BEGIN:VEVENT
DTSTART;TZID=America/New_York:20240304T180000
DTEND;TZID=America/New_York:20240304T190000
DTSTAMP:20260424T114449
CREATED:20240227T172003Z
LAST-MODIFIED:20240227T172003Z
UID:6301-1709575200-1709578800@www.barrettlibrary.org
SUMMARY:Healing Yoga
DESCRIPTION:Danielle Lane will guide you through a soothing\, mindful yoga experience which may include meditation\, sound bowls\, music\, and other elements. Appropriate for all levels. Space is limited: registration is required for each session. To register\, please call the Library\, (570) 595-7171\, or email Lynn\, l.vromanbpfl (at) gmail (dot) com.
URL:https://www.barrettlibrary.org/event/healing-yoga-8/
END:VEVENT
BEGIN:VEVENT
DTSTART;TZID=America/New_York:20240302T100000
DTEND;TZID=America/New_York:20240302T170000
DTSTAMP:20260424T114449
CREATED:20240224T150644Z
LAST-MODIFIED:20240224T150658Z
UID:6281-1709373600-1709398800@www.barrettlibrary.org
SUMMARY:Read Across America Day
DESCRIPTION:Read Across America \nSaturday\, March 2nd – All Day \nCelebrate the joy of reading!  \nStop by the library to read a book with Ms. Chelsea and Ms. Jen in the Weiler Family Community Room.  \nThere will be photo-ops and prizes while supplies last.
URL:https://www.barrettlibrary.org/event/read-across-america-day-2/
END:VEVENT
BEGIN:VEVENT
DTSTART;TZID=America/New_York:20240229T101500
DTEND;TZID=America/New_York:20240229T110000
DTSTAMP:20260424T114449
CREATED:20240201T174705Z
LAST-MODIFIED:20240201T174727Z
UID:6257-1709201700-1709204400@www.barrettlibrary.org
SUMMARY:Story Time
DESCRIPTION:Library Story Time \nAges 0-5 \nThursdays\, February 15th & 29th 10:15am \nJoin us in the children’s area for stories\, songs\, crafts\, and more! \nToday\, we will celebrate Leap Day with stories\, songs\, and crafts.
URL:https://www.barrettlibrary.org/event/story-time-14/
END:VEVENT
BEGIN:VEVENT
DTSTART;TZID=America/New_York:20240228T173000
DTEND;TZID=America/New_York:20240228T183000
DTSTAMP:20260424T114449
CREATED:20240201T175345Z
LAST-MODIFIED:20240201T175345Z
UID:6264-1709141400-1709145000@www.barrettlibrary.org
SUMMARY:Frog & Toad Leap Year Party
DESCRIPTION:Frog & Toad Leap Year Party \nFamily Program  \nWednesday\, February 28th 5:30pm \nIt’s Leap Day Eve\, and the library is hopping with excitement! Join us for a frogtastic celebration inspired by the beloved Frog and Toad books by Arnold Lobel. \nGet ready for a leap into a world of friendship\, laughter\, and the cozy comfort of a good book.  \nThere will even be a special guest here with her leaping friends. \nThis family-friendly celebration is free\, but space is limited. \n Please call the library to register.
URL:https://www.barrettlibrary.org/event/frog-toad-leap-year-party/
END:VEVENT
BEGIN:VEVENT
DTSTART;TZID=America/New_York:20240227T190000
DTEND;TZID=America/New_York:20240227T200000
DTSTAMP:20260424T114449
CREATED:20240127T160359Z
LAST-MODIFIED:20240127T160359Z
UID:6233-1709060400-1709064000@www.barrettlibrary.org
SUMMARY:Virtual Evening Book Club
DESCRIPTION:Join our virtual Evening Book Club on Zoom. This month we will discuss Someone Else’s Shoes by Jojo Moyes. If you’re interested in joining\, please call the Library for more details.
URL:https://www.barrettlibrary.org/event/virtual-evening-book-club-23/
END:VEVENT
BEGIN:VEVENT
DTSTART;TZID=America/New_York:20240224T130000
DTEND;TZID=America/New_York:20240224T143000
DTSTAMP:20260424T114449
CREATED:20240214T172153Z
LAST-MODIFIED:20240214T172153Z
UID:6274-1708779600-1708785000@www.barrettlibrary.org
SUMMARY:Mushroom Cultivation
DESCRIPTION:Are you interested in growing your own gourmet mushrooms? Instructor Dan Lane will discuss basic processes\, timelines\, and techniques\, with an emphasis on non-specialty equipment and the use of readily available materials. \nA starter kit will also be included for you to take with you to help with the initial supply gathering process.* \nMushroom cultivation can be a fascinating hobby and also a great way to supplement your food supply. \nSpace is limited for this adult program; registration is required: 570-595-7171. \n*You will need to purchase additional supplies on your own to continue the process at home. Instructions and resource guides will be included.
URL:https://www.barrettlibrary.org/event/mushroom-cultivation/
END:VEVENT
BEGIN:VEVENT
DTSTART;TZID=America/New_York:20240221T180000
DTEND;TZID=America/New_York:20240221T190000
DTSTAMP:20260424T114449
CREATED:20240201T175013Z
LAST-MODIFIED:20240201T175013Z
UID:6262-1708538400-1708542000@www.barrettlibrary.org
SUMMARY:Teen Action Board
DESCRIPTION:Teen Action Board \nTeens 12-17 \nWednesday\, February 21st 6pm \nJoin our newly-formed Teen Action Board. Learn how you can serve your community\, make friends\, and earn community service hours all at the same time! Please call to register.
URL:https://www.barrettlibrary.org/event/teen-action-board-4/
END:VEVENT
BEGIN:VEVENT
DTSTART;TZID=America/New_York:20240220T130000
DTEND;TZID=America/New_York:20240220T140000
DTSTAMP:20260424T114449
CREATED:20240127T160213Z
LAST-MODIFIED:20240127T160213Z
UID:6230-1708434000-1708437600@www.barrettlibrary.org
SUMMARY:Afternoon Book Club
DESCRIPTION:Our Afternoon Book Club meets at the Library. An option to join with Zoom is available\, as well. This month we will discuss Killers of the Flower Moon by David Grann. If you’re interested in joining\, please call the Library for more details.
URL:https://www.barrettlibrary.org/event/afternoon-book-club-10/
END:VEVENT
BEGIN:VEVENT
DTSTART;TZID=America/New_York:20240220T101500
DTEND;TZID=America/New_York:20240220T104500
DTSTAMP:20260424T114449
CREATED:20240201T174340Z
LAST-MODIFIED:20240201T174340Z
UID:6253-1708424100-1708425900@www.barrettlibrary.org
SUMMARY:Baby & Me
DESCRIPTION:Baby & Me \nAges 0-2 \nTuesdays\, February 6th & 20th 10:15am \nA special story time for our youngest patrons and their grownups.  \nJoin us for stories\, songs\, and games! 
URL:https://www.barrettlibrary.org/event/baby-me-27/
END:VEVENT
BEGIN:VEVENT
DTSTART;TZID=America/New_York:20240220T100000
DTEND;TZID=America/New_York:20240220T150000
DTSTAMP:20260424T114449
CREATED:20240127T202503Z
LAST-MODIFIED:20240127T202503Z
UID:6241-1708423200-1708441200@www.barrettlibrary.org
SUMMARY:Rep Madden Satellite Office Hours
DESCRIPTION:State Representative Maureen Madden’s staff will hold satellite office hours at the Library the first week (Wed & Thu) and third week (Mon & Tue) each month from 10am-3pm to offer constituent services. For questions about services\, please call 570-894-7905 or visit her website.
URL:https://www.barrettlibrary.org/event/rep-madden-satellite-office-hours-18/
END:VEVENT
BEGIN:VEVENT
DTSTART;TZID=America/New_York:20240219T180000
DTEND;TZID=America/New_York:20240219T190000
DTSTAMP:20260424T114449
CREATED:20240127T155849Z
LAST-MODIFIED:20240127T155849Z
UID:6226-1708365600-1708369200@www.barrettlibrary.org
SUMMARY:Healing Yoga
DESCRIPTION:Danielle Lane will guide you through a soothing\, mindful yoga experience which may include meditation\, sound bowls\, music\, and other elements. Appropriate for all levels. Space is limited: registration is required for each session. 
URL:https://www.barrettlibrary.org/event/healing-yoga-7/
END:VEVENT
BEGIN:VEVENT
DTSTART;TZID=America/New_York:20240215T183000
DTEND;TZID=America/New_York:20240215T193000
DTSTAMP:20260424T114449
CREATED:20240127T160038Z
LAST-MODIFIED:20240127T160038Z
UID:6228-1708021800-1708025400@www.barrettlibrary.org
SUMMARY:Virtual Writing Group
DESCRIPTION:Join us on Zoom to discuss the art of writing while sharing work with the group. This month we will talk about what makes a great protagonist.
URL:https://www.barrettlibrary.org/event/virtual-writing-group-29/
END:VEVENT
BEGIN:VEVENT
DTSTART;TZID=America/New_York:20240215T101500
DTEND;TZID=America/New_York:20240215T110000
DTSTAMP:20260424T114449
CREATED:20240201T174604Z
LAST-MODIFIED:20240201T174604Z
UID:6255-1707992100-1707994800@www.barrettlibrary.org
SUMMARY:Story Time
DESCRIPTION:Library Story Time \nAges 0-5 \nThursdays\, February 15th & 29th 10:15am \nJoin us in the children’s area for stories\, songs\, crafts\, and more! \nWe will celebrate Valentine’s Day today\, \nplease feel free to bring Valentine cards for your friends.
URL:https://www.barrettlibrary.org/event/story-time-13/
END:VEVENT
BEGIN:VEVENT
DTSTART;VALUE=DATE:20240213
DTEND;VALUE=DATE:20240214
DTSTAMP:20260424T114449
CREATED:20240213T123640Z
LAST-MODIFIED:20240213T123640Z
UID:6272-1707782400-1707868799@www.barrettlibrary.org
SUMMARY:LIBRARY CLOSED TODAY
DESCRIPTION:The Library is closed today due to the weather. \nStay safe and warm! Curl up with a good book and/or explore our digital resources 🙂
URL:https://www.barrettlibrary.org/event/library-closed-today/
END:VEVENT
BEGIN:VEVENT
DTSTART;TZID=America/New_York:20240208T100000
DTEND;TZID=America/New_York:20240208T150000
DTSTAMP:20260424T114449
CREATED:20240127T202148Z
LAST-MODIFIED:20240127T202148Z
UID:6237-1707386400-1707404400@www.barrettlibrary.org
SUMMARY:Rep Madden Satellite Office Hours
DESCRIPTION:State Representative Maureen Madden’s staff will hold satellite office hours at the Library the first week (Wed & Thu) and third week (Mon & Tue) each month from 10am-3pm to offer constituent services. For questions about services\, please call 570-894-7905 or visit her website.
URL:https://www.barrettlibrary.org/event/rep-madden-satellite-office-hours-16/
END:VEVENT
BEGIN:VEVENT
DTSTART;TZID=America/New_York:20240207T163000
DTEND;TZID=America/New_York:20240207T173000
DTSTAMP:20260424T114449
CREATED:20240201T174831Z
LAST-MODIFIED:20240201T174831Z
UID:6260-1707323400-1707327000@www.barrettlibrary.org
SUMMARY:Preschool Play Date
DESCRIPTION:Preschool Play Date \nAges 0-5 \nWednesday\, February 7th 4:30pm \nCome to the library for stories\, songs\, and games to play with friends! There will be a short story time\, followed by time for you to explore activities with your children and their friends. Registration is encouraged. Please call 570-595-7171 to register.
URL:https://www.barrettlibrary.org/event/preschool-play-date-6/
END:VEVENT
BEGIN:VEVENT
DTSTART;TZID=America/New_York:20240207T100000
DTEND;TZID=America/New_York:20240207T150000
DTSTAMP:20260424T114449
CREATED:20240127T200908Z
LAST-MODIFIED:20240127T200908Z
UID:6235-1707300000-1707318000@www.barrettlibrary.org
SUMMARY:Rep Madden Satellite Office Hours
DESCRIPTION:State Representative Maureen Madden’s staff will hold satellite office hours at the Library the first week (Wed & Thu) and third week (Mon & Tue) each month from 10am-3pm to offer constituent services. For questions about services\, please call 570-894-7905 or visit her website.
URL:https://www.barrettlibrary.org/event/rep-madden-satellite-office-hours-15/
END:VEVENT
BEGIN:VEVENT
DTSTART;TZID=America/New_York:20240206T130000
DTEND;TZID=America/New_York:20240206T150000
DTSTAMP:20260424T114449
CREATED:20240102T170024Z
LAST-MODIFIED:20240102T170024Z
UID:6153-1707224400-1707231600@www.barrettlibrary.org
SUMMARY:Movie Day at the Library
DESCRIPTION:Come to the Library to watch a newly released movie with friends. This month we will watch Big George Foreman\, starring Khris Davis. Rated PG-13.
URL:https://www.barrettlibrary.org/event/movie-day-at-the-library-14/
END:VEVENT
BEGIN:VEVENT
DTSTART;TZID=America/New_York:20240206T101500
DTEND;TZID=America/New_York:20240206T104500
DTSTAMP:20260424T114449
CREATED:20240201T174255Z
LAST-MODIFIED:20240201T174255Z
UID:6251-1707214500-1707216300@www.barrettlibrary.org
SUMMARY:Baby & Me
DESCRIPTION:Baby & Me \nAges 0-2 \nTuesdays\, February 6th & 20th 10:15am \nA special story time for our youngest patrons and their grownups.  \nJoin us for stories\, songs\, and games! 
URL:https://www.barrettlibrary.org/event/baby-me-26/
END:VEVENT
BEGIN:VEVENT
DTSTART;TZID=America/New_York:20240205T180000
DTEND;TZID=America/New_York:20240205T190000
DTSTAMP:20260424T114449
CREATED:20240127T155735Z
LAST-MODIFIED:20240127T155735Z
UID:6224-1707156000-1707159600@www.barrettlibrary.org
SUMMARY:Healing Yoga
DESCRIPTION:Danielle Lane will guide you through a soothing\, mindful yoga experience which may include meditation\, sound bowls\, music\, and other elements. Appropriate for all levels. Space is limited: registration is required for each session.
URL:https://www.barrettlibrary.org/event/healing-yoga-6/
END:VEVENT
BEGIN:VEVENT
DTSTART;TZID=America/New_York:20240205T101500
DTEND;TZID=America/New_York:20240205T104500
DTSTAMP:20260424T114449
CREATED:20240224T150752Z
LAST-MODIFIED:20240224T150752Z
UID:6283-1707128100-1707129900@www.barrettlibrary.org
SUMMARY:Baby & Me
DESCRIPTION:Baby & Me \nAges 0-2 \nTuesdays\, March 5th & 19th 10:15am \nA special story time for our youngest patrons and their grownups.  \nJoin us for stories\, songs\, and games! 
URL:https://www.barrettlibrary.org/event/baby-me-28/
END:VEVENT
BEGIN:VEVENT
DTSTART;VALUE=DATE:20240201
DTEND;VALUE=DATE:20240202
DTSTAMP:20260424T114449
CREATED:20240127T155613Z
LAST-MODIFIED:20240127T155613Z
UID:6222-1706745600-1706831999@www.barrettlibrary.org
SUMMARY:Blind Date with a Book
DESCRIPTION:It’s time for Blind Date with a book! All month there will be a display of “mystery books” at the Library. Come in\, grab a book\, unwrap it at home\, read it\, rate it\, and bring the rating slip back for a drawing at the end of the month.
URL:https://www.barrettlibrary.org/event/blind-date-with-a-book-3/
END:VEVENT
BEGIN:VEVENT
DTSTART;TZID=America/New_York:20240130T190000
DTEND;TZID=America/New_York:20240130T200000
DTSTAMP:20260424T114449
CREATED:20240102T165742Z
LAST-MODIFIED:20240102T165742Z
UID:6151-1706641200-1706644800@www.barrettlibrary.org
SUMMARY:Virtual Evening Book Club
DESCRIPTION:Join our virtual Evening Book Club on Zoom. This month we will discuss The Maid by Nita Prose. If you’re interested in joining\, please call the Library for more details. \n 
URL:https://www.barrettlibrary.org/event/virtual-evening-book-club-22/
END:VEVENT
END:VCALENDAR