BEGIN:VCALENDAR
VERSION:2.0
PRODID:-//Barrett Paradise Friendly Library - ECPv6.15.20//NONSGML v1.0//EN
CALSCALE:GREGORIAN
METHOD:PUBLISH
X-WR-CALNAME:Barrett Paradise Friendly Library
X-ORIGINAL-URL:https://www.barrettlibrary.org
X-WR-CALDESC:Events for Barrett Paradise Friendly Library
REFRESH-INTERVAL;VALUE=DURATION:PT1H
X-Robots-Tag:noindex
X-PUBLISHED-TTL:PT1H
BEGIN:VTIMEZONE
TZID:America/New_York
BEGIN:DAYLIGHT
TZOFFSETFROM:-0500
TZOFFSETTO:-0400
TZNAME:EDT
DTSTART:20230312T070000
END:DAYLIGHT
BEGIN:STANDARD
TZOFFSETFROM:-0400
TZOFFSETTO:-0500
TZNAME:EST
DTSTART:20231105T060000
END:STANDARD
BEGIN:DAYLIGHT
TZOFFSETFROM:-0500
TZOFFSETTO:-0400
TZNAME:EDT
DTSTART:20240310T070000
END:DAYLIGHT
BEGIN:STANDARD
TZOFFSETFROM:-0400
TZOFFSETTO:-0500
TZNAME:EST
DTSTART:20241103T060000
END:STANDARD
BEGIN:DAYLIGHT
TZOFFSETFROM:-0500
TZOFFSETTO:-0400
TZNAME:EDT
DTSTART:20250309T070000
END:DAYLIGHT
BEGIN:STANDARD
TZOFFSETFROM:-0400
TZOFFSETTO:-0500
TZNAME:EST
DTSTART:20251102T060000
END:STANDARD
END:VTIMEZONE
BEGIN:VEVENT
DTSTART;TZID=America/New_York:20240820T130000
DTEND;TZID=America/New_York:20240820T140000
DTSTAMP:20260424T102224
CREATED:20240722T154149Z
LAST-MODIFIED:20240722T154149Z
UID:6648-1724158800-1724162400@www.barrettlibrary.org
SUMMARY:Afternoon Book Club
DESCRIPTION:Our Afternoon Book Club meets at the Library. An option to join with Zoom is available\, as well. This month we will discuss Remarkably Bright Creatures by Shelby Van Pelt. If you’re interested in joining\, please call the Library for more details.
URL:https://www.barrettlibrary.org/event/afternoon-book-club-15/
END:VEVENT
BEGIN:VEVENT
DTSTART;TZID=America/New_York:20240820T103000
DTEND;TZID=America/New_York:20240820T110000
DTSTAMP:20260424T102224
CREATED:20240715T225551Z
LAST-MODIFIED:20240715T225551Z
UID:6622-1724149800-1724151600@www.barrettlibrary.org
SUMMARY:Baby & Me
DESCRIPTION:Baby & Me \nAges 0-2 \nTuesdays in August 10:30am \nA special story time for our youngest patrons and their grownups.  \nJoin us for stories\, songs\, and games! 
URL:https://www.barrettlibrary.org/event/baby-me-43/
END:VEVENT
BEGIN:VEVENT
DTSTART;VALUE=DATE:20240819
DTEND;VALUE=DATE:20240820
DTSTAMP:20260424T102224
CREATED:20240722T154032Z
LAST-MODIFIED:20240722T154032Z
UID:6646-1724025600-1724111999@www.barrettlibrary.org
SUMMARY:Adult Take-Home Kit: Gel Air Freshener
DESCRIPTION:Freshen up a room with a DIY gel air freshener! We will supply the materials. You must register to receive a kit. To register\, call the Library\, 570-595-7171\, or email Lynn\, l.vromanbpfl(at) gmail (dot) com.  Supplies will be available for pickup beginning Monday\, August 19.
URL:https://www.barrettlibrary.org/event/adult-take-home-kit-gel-air-freshener/
END:VEVENT
BEGIN:VEVENT
DTSTART;TZID=America/New_York:20240816T110000
DTEND;TZID=America/New_York:20240816T120000
DTSTAMP:20260424T102224
CREATED:20240730T175701Z
LAST-MODIFIED:20240730T175701Z
UID:6662-1723806000-1723809600@www.barrettlibrary.org
SUMMARY:Healing Yoga
DESCRIPTION:Danielle Lane will guide you through a soothing\, mindful yoga experience which may include meditation\, sound bowls\, music\, and other elements. Appropriate for all levels. Space is limited: please register for each session.
URL:https://www.barrettlibrary.org/event/healing-yoga-19/
END:VEVENT
BEGIN:VEVENT
DTSTART;TZID=America/New_York:20240815T140000
DTEND;TZID=America/New_York:20240815T150000
DTSTAMP:20260424T102224
CREATED:20240722T224225Z
LAST-MODIFIED:20240722T224225Z
UID:6654-1723730400-1723734000@www.barrettlibrary.org
SUMMARY:Upcycled Jewelry Craft
DESCRIPTION:Upcycled Jewelry Craft \nTeens Ages 12-17 \nThursday\, August 15th 2PM \nTurn your old jewelry into a unique work of art!  \nBring your own broken or unused jewelry\, or use some from our collection.  \nRegistration is required.
URL:https://www.barrettlibrary.org/event/upcycled-jewelry-craft/
END:VEVENT
BEGIN:VEVENT
DTSTART;TZID=America/New_York:20240815T103000
DTEND;TZID=America/New_York:20240815T111500
DTSTAMP:20260424T102224
CREATED:20240715T231723Z
LAST-MODIFIED:20240715T231723Z
UID:6630-1723717800-1723720500@www.barrettlibrary.org
SUMMARY:Library Story Time
DESCRIPTION:Library Story Time \nAges 0-5 \nThursdays in August 10:30am \nJoin us in the children’s area for stories\, songs\, crafts\, and more
URL:https://www.barrettlibrary.org/event/library-story-time-20/
END:VEVENT
BEGIN:VEVENT
DTSTART;TZID=America/New_York:20240814T150000
DTEND;TZID=America/New_York:20240814T160000
DTSTAMP:20260424T102224
CREATED:20240701T132439Z
LAST-MODIFIED:20240701T132439Z
UID:6574-1723647600-1723651200@www.barrettlibrary.org
SUMMARY:Cruise into Kindergarten
DESCRIPTION:Cruise into Kindergarten \nAges 4-5 \nWednesdays\, July 17th-August 14th 3pm \nOur popular Kindergarten-readiness program is back! Cruise into Kindergarten in a fun and welcoming environment. We will practice sitting nicely in a circle\, taking turns\, raising our hands\, and even walking in the hallway! The Weiler Family Community Room is transformed into a Kindergarten setting\, complete with circle time\, activity centers\, and snack time. This program is open to children who will be attending Kindergarten in Fall of 2024 or 2025. \nRegistration is required. Please call 570-595-7171 to register.
URL:https://www.barrettlibrary.org/event/cruise-into-kindergarten-5/
END:VEVENT
BEGIN:VEVENT
DTSTART;TZID=America/New_York:20240813T103000
DTEND;TZID=America/New_York:20240813T110000
DTSTAMP:20260424T102224
CREATED:20240715T225355Z
LAST-MODIFIED:20240715T225355Z
UID:6620-1723545000-1723546800@www.barrettlibrary.org
SUMMARY:Baby & Me
DESCRIPTION:Baby & Me \nAges 0-2 \nTuesdays in August 10:30am \nA special story time for our youngest patrons and their grownups.  \nJoin us for stories\, songs\, and games! 
URL:https://www.barrettlibrary.org/event/baby-me-42/
END:VEVENT
BEGIN:VEVENT
DTSTART;TZID=America/New_York:20240810T180000
DTEND;TZID=America/New_York:20240810T220000
DTSTAMP:20260424T102224
CREATED:20240715T234354Z
LAST-MODIFIED:20240715T234354Z
UID:6637-1723312800-1723327200@www.barrettlibrary.org
SUMMARY:LOL Comedy Night
DESCRIPTION:LOL Comedy Night
URL:https://www.barrettlibrary.org/event/lol-comedy-night/
END:VEVENT
BEGIN:VEVENT
DTSTART;TZID=America/New_York:20240808T140000
DTEND;TZID=America/New_York:20240808T153000
DTSTAMP:20260424T102224
CREATED:20240716T142426Z
LAST-MODIFIED:20240716T142426Z
UID:6641-1723125600-1723131000@www.barrettlibrary.org
SUMMARY:Family Hike at Ice Lake
DESCRIPTION:Family Hike at Ice Lake \nFamily Program \nThursday\, August 8th 2PM \nJoin us at Ice Lake for some family fun! We will walk the Tale on the Trail together\,  \nand then continue on around the lake to look for signs of animals and insects.  \nAfter our walk\, we will share stories and crafts under the pavilion. Registration is required.
URL:https://www.barrettlibrary.org/event/family-hike-at-ice-lake/
END:VEVENT
BEGIN:VEVENT
DTSTART;TZID=America/New_York:20240808T103000
DTEND;TZID=America/New_York:20240808T111500
DTSTAMP:20260424T102224
CREATED:20240715T231610Z
LAST-MODIFIED:20240715T231610Z
UID:6628-1723113000-1723115700@www.barrettlibrary.org
SUMMARY:Library Story Time
DESCRIPTION:Library Story Time \nAges 0-5 \nThursdays in August 10:30am \nJoin us in the children’s area for stories\, songs\, crafts\, and more
URL:https://www.barrettlibrary.org/event/library-story-time-19/
END:VEVENT
BEGIN:VEVENT
DTSTART;TZID=America/New_York:20240807T150000
DTEND;TZID=America/New_York:20240807T160000
DTSTAMP:20260424T102224
CREATED:20240701T132349Z
LAST-MODIFIED:20240701T132349Z
UID:6572-1723042800-1723046400@www.barrettlibrary.org
SUMMARY:Cruise into Kindergarten
DESCRIPTION:Cruise into Kindergarten \nAges 4-5 \nWednesdays\, July 17th-August 14th 3pm \nOur popular Kindergarten-readiness program is back! Cruise into Kindergarten in a fun and welcoming environment. We will practice sitting nicely in a circle\, taking turns\, raising our hands\, and even walking in the hallway! The Weiler Family Community Room is transformed into a Kindergarten setting\, complete with circle time\, activity centers\, and snack time. This program is open to children who will be attending Kindergarten in Fall of 2024 or 2025. \nRegistration is required. Please call 570-595-7171 to register.
URL:https://www.barrettlibrary.org/event/cruise-into-kindergarten-4/
END:VEVENT
BEGIN:VEVENT
DTSTART;TZID=America/New_York:20240806T130000
DTEND;TZID=America/New_York:20240806T150000
DTSTAMP:20260424T102224
CREATED:20240622T144646Z
LAST-MODIFIED:20240622T144646Z
UID:6535-1722949200-1722956400@www.barrettlibrary.org
SUMMARY:Movie Day at the Library
DESCRIPTION:Come to the Library the first Tuesday of each month to watch a newly released movie with friends. This month we will watch One Love\, Starring Lashana Lynch and Kingsley Ben-Adir. Rated PG-13. \n  \nJamaican singer-songwriter Bob Marley overcomes adversity to become the most famous reggae musician in the world.
URL:https://www.barrettlibrary.org/event/movie-day-at-the-library-20/
END:VEVENT
BEGIN:VEVENT
DTSTART;TZID=America/New_York:20240806T103000
DTEND;TZID=America/New_York:20240806T110000
DTSTAMP:20260424T102224
CREATED:20240715T225322Z
LAST-MODIFIED:20240715T225322Z
UID:6618-1722940200-1722942000@www.barrettlibrary.org
SUMMARY:Baby & Me
DESCRIPTION:Baby & Me \nAges 0-2 \nTuesdays in August 10:30am \nA special story time for our youngest patrons and their grownups.  \nJoin us for stories\, songs\, and games! 
URL:https://www.barrettlibrary.org/event/baby-me-41/
END:VEVENT
BEGIN:VEVENT
DTSTART;TZID=America/New_York:20240802T110000
DTEND;TZID=America/New_York:20240802T120000
DTSTAMP:20260424T102224
CREATED:20240729T201841Z
LAST-MODIFIED:20240729T201841Z
UID:6659-1722596400-1722600000@www.barrettlibrary.org
SUMMARY:Healing Yoga
DESCRIPTION:Danielle Lane will guide you through a soothing\, mindful yoga experience which may include meditation\, sound bowls\, music\, and other elements. Appropriate for all levels. Space is limited: please register for each session. 
URL:https://www.barrettlibrary.org/event/healing-yoga-18/
END:VEVENT
BEGIN:VEVENT
DTSTART;TZID=America/New_York:20240801T140000
DTEND;TZID=America/New_York:20240801T160000
DTSTAMP:20260424T102224
CREATED:20240716T141710Z
LAST-MODIFIED:20240716T141710Z
UID:6639-1722520800-1722528000@www.barrettlibrary.org
SUMMARY:Wonka Interactive Movie
DESCRIPTION:Wonka Interactive Movie \nFamily Program  \nThursday\, August 1st 2pm \nJoin us for a special interactive viewing of the popular movie\, Wonka. \n Each participant will be given a bag of props to use while watching the movie. Registration is required.
URL:https://www.barrettlibrary.org/event/wonka-interactive-movie/
END:VEVENT
BEGIN:VEVENT
DTSTART;TZID=America/New_York:20240801T103000
DTEND;TZID=America/New_York:20240801T111500
DTSTAMP:20260424T102224
CREATED:20240715T231532Z
LAST-MODIFIED:20240715T231532Z
UID:6626-1722508200-1722510900@www.barrettlibrary.org
SUMMARY:Library Story Time
DESCRIPTION:Library Story Time \nAges 0-5 \nThursdays in August 10:30am \nJoin us in the children’s area for stories\, songs\, crafts\, and more
URL:https://www.barrettlibrary.org/event/library-story-time-18/
END:VEVENT
BEGIN:VEVENT
DTSTART;TZID=America/New_York:20240731T150000
DTEND;TZID=America/New_York:20240731T160000
DTSTAMP:20260424T102224
CREATED:20240701T132244Z
LAST-MODIFIED:20240701T132244Z
UID:6570-1722438000-1722441600@www.barrettlibrary.org
SUMMARY:Cruise into Kindergarten
DESCRIPTION:Cruise into Kindergarten \nAges 4-5 \nWednesdays\, July 17th-August 14th 3pm \nOur popular Kindergarten-readiness program is back! Cruise into Kindergarten in a fun and welcoming environment. We will practice sitting nicely in a circle\, taking turns\, raising our hands\, and even walking in the hallway! The Weiler Family Community Room is transformed into a Kindergarten setting\, complete with circle time\, activity centers\, and snack time. This program is open to children who will be attending Kindergarten in Fall of 2024 or 2025. \nRegistration is required. Please call 570-595-7171 to register.
URL:https://www.barrettlibrary.org/event/cruise-into-kindergarten-3/
END:VEVENT
BEGIN:VEVENT
DTSTART;TZID=America/New_York:20240730T103000
DTEND;TZID=America/New_York:20240730T110000
DTSTAMP:20260424T102224
CREATED:20240701T131327Z
LAST-MODIFIED:20240701T131327Z
UID:6558-1722335400-1722337200@www.barrettlibrary.org
SUMMARY:Baby & Me
DESCRIPTION:Baby & Me \nAges 0-2 \nTuesdays in July 10:30am \nA special story time for our youngest patrons and their grownups.  \nJoin us for stories\, songs\, and games!
URL:https://www.barrettlibrary.org/event/baby-me-40/
END:VEVENT
BEGIN:VEVENT
DTSTART;TZID=America/New_York:20240725T140000
DTEND;TZID=America/New_York:20240725T150000
DTSTAMP:20260424T102224
CREATED:20240701T180158Z
LAST-MODIFIED:20240701T195107Z
UID:6581-1721916000-1721919600@www.barrettlibrary.org
SUMMARY:Swiftie Party
DESCRIPTION:Swiftie Party \nFamily Program -All Ages Welcome  \nThursday\, July 25th 2PM \nSwifites unite! Join us for snacks\, activities\, and an awesome dance party! \nRegistration is required.
URL:https://www.barrettlibrary.org/event/swiftie-party/
END:VEVENT
BEGIN:VEVENT
DTSTART;TZID=America/New_York:20240725T103000
DTEND;TZID=America/New_York:20240725T111500
DTSTAMP:20260424T102224
CREATED:20240701T131900Z
LAST-MODIFIED:20240701T131900Z
UID:6564-1721903400-1721906100@www.barrettlibrary.org
SUMMARY:Library Story Time
DESCRIPTION:Library Story Time \nAges 0-5 \nThursdays in July 10:30am (there is no story time on July 4th) \nJoin us in the children’s area for stories\, songs\, crafts\, and more!
URL:https://www.barrettlibrary.org/event/library-story-time-17/
END:VEVENT
BEGIN:VEVENT
DTSTART;TZID=America/New_York:20240724T150000
DTEND;TZID=America/New_York:20240724T160000
DTSTAMP:20260424T102224
CREATED:20240701T132155Z
LAST-MODIFIED:20240701T132155Z
UID:6568-1721833200-1721836800@www.barrettlibrary.org
SUMMARY:Cruise into Kindergarten
DESCRIPTION:Cruise into Kindergarten \nAges 4-5 \nWednesdays\, July 17th-August 14th 3pm \nOur popular Kindergarten-readiness program is back! Cruise into Kindergarten in a fun and welcoming environment. We will practice sitting nicely in a circle\, taking turns\, raising our hands\, and even walking in the hallway! The Weiler Family Community Room is transformed into a Kindergarten setting\, complete with circle time\, activity centers\, and snack time. This program is open to children who will be attending Kindergarten in Fall of 2024 or 2025. \nRegistration is required. Please call 570-595-7171 to register.
URL:https://www.barrettlibrary.org/event/cruise-into-kindergarten-2/
END:VEVENT
BEGIN:VEVENT
DTSTART;TZID=America/New_York:20240723T103000
DTEND;TZID=America/New_York:20240723T110000
DTSTAMP:20260424T102224
CREATED:20240701T131217Z
LAST-MODIFIED:20240701T131217Z
UID:6556-1721730600-1721732400@www.barrettlibrary.org
SUMMARY:Baby & Me
DESCRIPTION:Baby & Me \nAges 0-2 \nTuesdays in July 10:30am \nA special story time for our youngest patrons and their grownups.  \nJoin us for stories\, songs\, and games!
URL:https://www.barrettlibrary.org/event/baby-me-39/
END:VEVENT
BEGIN:VEVENT
DTSTART;TZID=America/New_York:20240720T130000
DTEND;TZID=America/New_York:20240720T140000
DTSTAMP:20260424T102224
CREATED:20240511T144731Z
LAST-MODIFIED:20240622T143218Z
UID:6461-1721480400-1721484000@www.barrettlibrary.org
SUMMARY:Master Gardener Presentation on Invasive Species
DESCRIPTION:Master Gardener Ann Foster will speak on Invasive Plant Species and give you the tools necessary to develop a control plan. Topics covered include: What is an Invasive Plant? What are their impacts? What makes them invasive? Methods of control. Space is limited. Please register for this program.
URL:https://www.barrettlibrary.org/event/master-gardener-presentation-on-invasive-species/
END:VEVENT
BEGIN:VEVENT
DTSTART;TZID=America/New_York:20240719T110000
DTEND;TZID=America/New_York:20240719T120000
DTSTAMP:20260424T102224
CREATED:20240624T171538Z
LAST-MODIFIED:20240624T171538Z
UID:6537-1721386800-1721390400@www.barrettlibrary.org
SUMMARY:Healing Yoga *Note Time Change
DESCRIPTION:Danielle Lane will guide you through a soothing\, mindful yoga experience which may include meditation\, sound bowls\, music\, and other elements. Appropriate for all levels. Space is limited: please register for each session. 
URL:https://www.barrettlibrary.org/event/healing-yoga-note-time-change/
END:VEVENT
BEGIN:VEVENT
DTSTART;TZID=America/New_York:20240718T140000
DTEND;TZID=America/New_York:20240718T150000
DTSTAMP:20260424T102224
CREATED:20240701T132618Z
LAST-MODIFIED:20240701T132618Z
UID:6578-1721311200-1721314800@www.barrettlibrary.org
SUMMARY:Drawing with Brian Ajhar
DESCRIPTION:Drawing with Brian Ajhar \nTeens 12-17  \nThursday\, July 18th 2PM \nJoin us for a drawing lesson with local illustrator\, Brian Ajhar. \nBrian is a New York Times Bestselling artist\, published by seven different book publishers worldwide in a multitude of languages. Brian’s character design work for animation includes feature films\, television commercials\, independent films\, and educational projects. Registration is required.
URL:https://www.barrettlibrary.org/event/drawing-with-brian-ajhar/
END:VEVENT
BEGIN:VEVENT
DTSTART;TZID=America/New_York:20240718T103000
DTEND;TZID=America/New_York:20240718T110000
DTSTAMP:20260424T102224
CREATED:20240701T131802Z
LAST-MODIFIED:20240701T131802Z
UID:6562-1721298600-1721300400@www.barrettlibrary.org
SUMMARY:Library Story Time
DESCRIPTION:Library Story Time \nAges 0-5 \nThursdays in July 10:30am \nJoin us in the children’s area for stories\, songs\, crafts\, and more!
URL:https://www.barrettlibrary.org/event/library-story-time-16/
END:VEVENT
BEGIN:VEVENT
DTSTART;TZID=America/New_York:20240717T150000
DTEND;TZID=America/New_York:20240717T160000
DTSTAMP:20260424T102224
CREATED:20240701T132044Z
LAST-MODIFIED:20240701T132044Z
UID:6566-1721228400-1721232000@www.barrettlibrary.org
SUMMARY:Cruise into Kindergarten
DESCRIPTION:Cruise into Kindergarten \nAges 4-5 \nWednesdays\, July 17th-August 14th 3pm \nOur popular Kindergarten-readiness program is back! Cruise into Kindergarten in a fun and welcoming environment. We will practice sitting nicely in a circle\, taking turns\, raising our hands\, and even walking in the hallway! The Weiler Family Community Room is transformed into a Kindergarten setting\, complete with circle time\, activity centers\, and snack time. This program is open to children who will be attending Kindergarten in Fall of 2024 or 2025. \nRegistration is required. Please call 570-595-7171 to register.
URL:https://www.barrettlibrary.org/event/cruise-into-kindergarten/
END:VEVENT
BEGIN:VEVENT
DTSTART;TZID=America/New_York:20240716T103000
DTEND;TZID=America/New_York:20240716T110000
DTSTAMP:20260424T102224
CREATED:20240701T131115Z
LAST-MODIFIED:20240701T131115Z
UID:6553-1721125800-1721127600@www.barrettlibrary.org
SUMMARY:Baby & Me
DESCRIPTION:Baby & Me \nAges 0-2 \nTuesdays in July 10:30am \nA special story time for our youngest patrons and their grownups.  \nJoin us for stories\, songs\, and games!
URL:https://www.barrettlibrary.org/event/baby-me-38/
END:VEVENT
BEGIN:VEVENT
DTSTART;TZID=America/New_York:20240715T130000
DTEND;TZID=America/New_York:20240715T143000
DTSTAMP:20260424T102224
CREATED:20240702T133851Z
LAST-MODIFIED:20240702T133851Z
UID:6586-1721048400-1721053800@www.barrettlibrary.org
SUMMARY:Jo Piazza Author Visit
DESCRIPTION:Best-selling author Jo Piazza can talk to you about writing anything. Join Jo as she leads a creative writing session at Barrett Paradise Friendly Library. Bring a notebook\, your favorite writing instrument and an open mind! Even if you’re not a writer\, Jo’s insights into the writing process will inform and entertain you. An informal Q & A will follow. The Buck Hill Art Association has generously arranged this program for the Library. Please register in advance.
URL:https://www.barrettlibrary.org/event/jo-piazza-author-visit/
END:VEVENT
END:VCALENDAR