BEGIN:VCALENDAR
VERSION:2.0
PRODID:-//Barrett Paradise Friendly Library - ECPv6.15.20//NONSGML v1.0//EN
CALSCALE:GREGORIAN
METHOD:PUBLISH
X-WR-CALNAME:Barrett Paradise Friendly Library
X-ORIGINAL-URL:https://www.barrettlibrary.org
X-WR-CALDESC:Events for Barrett Paradise Friendly Library
REFRESH-INTERVAL;VALUE=DURATION:PT1H
X-Robots-Tag:noindex
X-PUBLISHED-TTL:PT1H
BEGIN:VTIMEZONE
TZID:America/New_York
BEGIN:DAYLIGHT
TZOFFSETFROM:-0500
TZOFFSETTO:-0400
TZNAME:EDT
DTSTART:20220313T070000
END:DAYLIGHT
BEGIN:STANDARD
TZOFFSETFROM:-0400
TZOFFSETTO:-0500
TZNAME:EST
DTSTART:20221106T060000
END:STANDARD
BEGIN:DAYLIGHT
TZOFFSETFROM:-0500
TZOFFSETTO:-0400
TZNAME:EDT
DTSTART:20230312T070000
END:DAYLIGHT
BEGIN:STANDARD
TZOFFSETFROM:-0400
TZOFFSETTO:-0500
TZNAME:EST
DTSTART:20231105T060000
END:STANDARD
BEGIN:DAYLIGHT
TZOFFSETFROM:-0500
TZOFFSETTO:-0400
TZNAME:EDT
DTSTART:20240310T070000
END:DAYLIGHT
BEGIN:STANDARD
TZOFFSETFROM:-0400
TZOFFSETTO:-0500
TZNAME:EST
DTSTART:20241103T060000
END:STANDARD
BEGIN:DAYLIGHT
TZOFFSETFROM:-0500
TZOFFSETTO:-0400
TZNAME:EDT
DTSTART:20250309T070000
END:DAYLIGHT
BEGIN:STANDARD
TZOFFSETFROM:-0400
TZOFFSETTO:-0500
TZNAME:EST
DTSTART:20251102T060000
END:STANDARD
END:VTIMEZONE
BEGIN:VEVENT
DTSTART;VALUE=DATE:20240201
DTEND;VALUE=DATE:20240202
DTSTAMP:20260424T125247
CREATED:20240127T155613Z
LAST-MODIFIED:20240127T155613Z
UID:6222-1706745600-1706831999@www.barrettlibrary.org
SUMMARY:Blind Date with a Book
DESCRIPTION:It’s time for Blind Date with a book! All month there will be a display of “mystery books” at the Library. Come in\, grab a book\, unwrap it at home\, read it\, rate it\, and bring the rating slip back for a drawing at the end of the month.
URL:https://www.barrettlibrary.org/event/blind-date-with-a-book-3/
END:VEVENT
BEGIN:VEVENT
DTSTART;TZID=America/New_York:20240130T190000
DTEND;TZID=America/New_York:20240130T200000
DTSTAMP:20260424T125247
CREATED:20240102T165742Z
LAST-MODIFIED:20240102T165742Z
UID:6151-1706641200-1706644800@www.barrettlibrary.org
SUMMARY:Virtual Evening Book Club
DESCRIPTION:Join our virtual Evening Book Club on Zoom. This month we will discuss The Maid by Nita Prose. If you’re interested in joining\, please call the Library for more details. \n 
URL:https://www.barrettlibrary.org/event/virtual-evening-book-club-22/
END:VEVENT
BEGIN:VEVENT
DTSTART;TZID=America/New_York:20240125T101500
DTEND;TZID=America/New_York:20240125T104500
DTSTAMP:20260424T125247
CREATED:20240104T185407Z
LAST-MODIFIED:20240104T185407Z
UID:6165-1706177700-1706179500@www.barrettlibrary.org
SUMMARY:Library Story Time
DESCRIPTION:Library Story Time \nAges 0-5 \nThursdays\, January 11th & 25th 10:15am \nJoin us in the children’s area for stories\, songs\, crafts\, and more!
URL:https://www.barrettlibrary.org/event/library-story-time-8/
END:VEVENT
BEGIN:VEVENT
DTSTART;TZID=America/New_York:20240124T180000
DTEND;TZID=America/New_York:20240124T190000
DTSTAMP:20260424T125247
CREATED:20240104T191112Z
LAST-MODIFIED:20240104T191112Z
UID:6169-1706119200-1706122800@www.barrettlibrary.org
SUMMARY:Lego Challenges
DESCRIPTION:Lego Challenges \nAges 6-11 \nWednesday\, January 24th 6pm \nJoin us in the Weiler Room for some fun Lego challenges!
URL:https://www.barrettlibrary.org/event/lego-challenges-3/
END:VEVENT
BEGIN:VEVENT
DTSTART;TZID=America/New_York:20240123T130000
DTEND;TZID=America/New_York:20240123T140000
DTSTAMP:20260424T125247
CREATED:20240116T133817Z
LAST-MODIFIED:20240116T133817Z
UID:6213-1706014800-1706018400@www.barrettlibrary.org
SUMMARY:Afternoon Book Club (rescheduled)
DESCRIPTION:Note: This is the rescheduled date since the meeting was postponed last week due to the weather. \nOur Afternoon Book Club meets at the Library. An option to join with Zoom is available\, as well. This month we will discuss Every Day by David Levithan. If you’re interested in joining\, please call the Library for more details.
URL:https://www.barrettlibrary.org/event/afternoon-book-club-rescheduled/
END:VEVENT
BEGIN:VEVENT
DTSTART;TZID=America/New_York:20240123T101500
DTEND;TZID=America/New_York:20240123T104500
DTSTAMP:20260424T125247
CREATED:20240104T184127Z
LAST-MODIFIED:20240123T134629Z
UID:6158-1706004900-1706006700@www.barrettlibrary.org
SUMMARY:Baby & Me (canceled today)
DESCRIPTION:Baby & Me is canceled today\, 1/23/24 \nBaby & Me \nAges 0-2 \nTuesdays\, January 9th & 23rd 10:15am \nA special story time for our youngest patrons and their grownups.  \nJoin us for stories\, songs\, and games! 
URL:https://www.barrettlibrary.org/event/baby-me-25/
END:VEVENT
BEGIN:VEVENT
DTSTART;VALUE=DATE:20240122
DTEND;VALUE=DATE:20240123
DTSTAMP:20260424T125247
CREATED:20240102T165522Z
LAST-MODIFIED:20240102T165522Z
UID:6147-1705881600-1705967999@www.barrettlibrary.org
SUMMARY:Adult Take-Home Craft: Lavender Salve
DESCRIPTION:Make your own lavender salve\, great for tired muscles. We supply all the materials and instructions. You must register to receive a bag. Crafts will be available for pickup beginning Monday\, January 22.
URL:https://www.barrettlibrary.org/event/adult-take-home-craft-lavender-salve/
END:VEVENT
BEGIN:VEVENT
DTSTART;TZID=America/New_York:20240117T180000
DTEND;TZID=America/New_York:20240117T190000
DTSTAMP:20260424T125247
CREATED:20240104T185858Z
LAST-MODIFIED:20240104T185858Z
UID:6167-1705514400-1705518000@www.barrettlibrary.org
SUMMARY:Teen Action Board
DESCRIPTION:Teen Action Board \nTeens 12-17 \nWednesday\, January 17th 6pm \nJoin our newly-formed Teen Action Board. Learn how you can serve your community\, make friends\, and earn community service hours all at the same time! \n Please call to register.
URL:https://www.barrettlibrary.org/event/teen-action-board-3/
END:VEVENT
BEGIN:VEVENT
DTSTART;TZID=America/New_York:20240116T130000
DTEND;TZID=America/New_York:20240116T140000
DTSTAMP:20260424T125247
CREATED:20240102T165638Z
LAST-MODIFIED:20240116T132719Z
UID:6149-1705410000-1705413600@www.barrettlibrary.org
SUMMARY:POSTPONED: Afternoon Book Club
DESCRIPTION:Tue\, Jan 16: The Library is CLOSED TODAY due to the weather. Book Club is postponed until next Tue\, Jan. 23\, 1pm at the Library. \nOur Afternoon Book Club meets at the Library. An option to join with Zoom is available\, as well. This month we will discuss Every Day by David Levithan. If you’re interested in joining\, please call the Library for more details.
URL:https://www.barrettlibrary.org/event/afternoon-book-club-9/
END:VEVENT
BEGIN:VEVENT
DTSTART;TZID=America/New_York:20240116T100000
DTEND;TZID=America/New_York:20240116T150000
DTSTAMP:20260424T125247
CREATED:20231207T142251Z
LAST-MODIFIED:20240116T140732Z
UID:6117-1705399200-1705417200@www.barrettlibrary.org
SUMMARY:CANCELLED: Rep Madden Satellite Office Hours
DESCRIPTION:Cancelled today due to the weather. \nState Representative Maureen Madden’s staff will hold satellite office hours at the Library the first week (Wed & Thu) and third week (Mon & Tue) each month from 10am-3pm to offer constituent services. For questions about services\, please call 570-894-7905 or visit her website.
URL:https://www.barrettlibrary.org/event/rep-madden-satellite-office-hours-14/
END:VEVENT
BEGIN:VEVENT
DTSTART;VALUE=DATE:20240116
DTEND;VALUE=DATE:20240117
DTSTAMP:20260424T125247
CREATED:20240116T132436Z
LAST-MODIFIED:20240116T132436Z
UID:6209-1705363200-1705449599@www.barrettlibrary.org
SUMMARY:The Library is CLOSED TODAY due to the weather
DESCRIPTION:Tue\, Jan 16: The Library is CLOSED TODAY due to the weather. \nAfternoon Book Club is postponed until next Tue\, Jan. 23. \nStay safe and warm! Curl up with a good book 🙂
URL:https://www.barrettlibrary.org/event/the-library-is-closed-today-due-to-the-weather/
END:VEVENT
BEGIN:VEVENT
DTSTART;TZID=America/New_York:20240115T180000
DTEND;TZID=America/New_York:20240115T190000
DTSTAMP:20260424T125247
CREATED:20231125T164404Z
LAST-MODIFIED:20231125T164404Z
UID:6053-1705341600-1705345200@www.barrettlibrary.org
SUMMARY:Healing Yoga
DESCRIPTION:Danielle Lane will guide you through a soothing\, mindful yoga experience which may include meditation\, sound bowls\, music\, and other elements. Appropriate for all levels. Space is limited: registration is required. To register\, please call the Library\, (570)595-7171\, or email Lynn\, l.vromanbpfl (at) gmail (dot) com.
URL:https://www.barrettlibrary.org/event/healing-yoga-5/
END:VEVENT
BEGIN:VEVENT
DTSTART;TZID=America/New_York:20240115T100000
DTEND;TZID=America/New_York:20240115T150000
DTSTAMP:20260424T125247
CREATED:20231207T142200Z
LAST-MODIFIED:20231207T142200Z
UID:6115-1705312800-1705330800@www.barrettlibrary.org
SUMMARY:Rep Madden Satellite Office Hours
DESCRIPTION:State Representative Maureen Madden’s staff will hold satellite office hours at the Library the first week (Wed & Thu) and third week (Mon & Tue) each month from 10am-3pm to offer constituent services. For questions about services\, please call 570-894-7905 or visit her website.
URL:https://www.barrettlibrary.org/event/rep-madden-satellite-office-hours-13/
END:VEVENT
BEGIN:VEVENT
DTSTART;TZID=America/New_York:20240111T183000
DTEND;TZID=America/New_York:20240111T193000
DTSTAMP:20260424T125247
CREATED:20231125T164815Z
LAST-MODIFIED:20231125T164815Z
UID:6055-1704997800-1705001400@www.barrettlibrary.org
SUMMARY:Virtual Writing Group
DESCRIPTION:Join us on Zoom to discuss the art of writing while sharing work with the group. This month we will talk about what makes a compelling antagonist. \n 
URL:https://www.barrettlibrary.org/event/virtual-writing-group-28/
END:VEVENT
BEGIN:VEVENT
DTSTART;TZID=America/New_York:20240111T101500
DTEND;TZID=America/New_York:20240111T110000
DTSTAMP:20260424T125247
CREATED:20240104T184726Z
LAST-MODIFIED:20240111T140048Z
UID:6163-1704968100-1704970800@www.barrettlibrary.org
SUMMARY:Library Story Time - Canceled Today
DESCRIPTION:Story time is canceled today.  \nWe apologize for any inconvenience.  \n  \nLibrary Story Time \nAges 0-5 \nThursdays\, January 11th & 25th 10:15am \nJoin us in the children’s area for stories\, songs\, crafts\, and more!
URL:https://www.barrettlibrary.org/event/library-story-time-7/
END:VEVENT
BEGIN:VEVENT
DTSTART;TZID=America/New_York:20240109T101500
DTEND;TZID=America/New_York:20240109T104500
DTSTAMP:20260424T125247
CREATED:20240104T183758Z
LAST-MODIFIED:20240104T183758Z
UID:6156-1704795300-1704797100@www.barrettlibrary.org
SUMMARY:Baby & Me
DESCRIPTION:Baby & Me \nAges 0-2 \nTuesdays\, January 9th & 23rd 10:15am \nA special story time for our youngest patrons and their grownups.  \nJoin us for stories\, songs\, and games! 
URL:https://www.barrettlibrary.org/event/baby-me-24/
END:VEVENT
BEGIN:VEVENT
DTSTART;TZID=America/New_York:20240106T150000
DTEND;TZID=America/New_York:20240106T170000
DTSTAMP:20260424T125247
CREATED:20240106T204134Z
LAST-MODIFIED:20240106T204134Z
UID:6176-1704553200-1704560400@www.barrettlibrary.org
SUMMARY:CLOSED AT 3PM DUE TO WEATHER
DESCRIPTION:The Library closed at 3pm today due to the snow. \nStay safe and warm in the storm!
URL:https://www.barrettlibrary.org/event/closed-at-3pm-due-to-weather/
END:VEVENT
BEGIN:VEVENT
DTSTART;TZID=America/New_York:20240104T100000
DTEND;TZID=America/New_York:20240104T150000
DTSTAMP:20260424T125247
CREATED:20231207T142120Z
LAST-MODIFIED:20231207T142120Z
UID:6113-1704362400-1704380400@www.barrettlibrary.org
SUMMARY:Rep Madden Satellite Office Hours
DESCRIPTION:State Representative Maureen Madden’s staff will hold satellite office hours at the Library the first week (Wed & Thu) and third week (Mon & Tue) each month from 10am-3pm to offer constituent services. For questions about services\, please call 570-894-7905 or visit her website.
URL:https://www.barrettlibrary.org/event/rep-madden-satellite-office-hours-12/
END:VEVENT
BEGIN:VEVENT
DTSTART;TZID=America/New_York:20240103T163000
DTEND;TZID=America/New_York:20240103T170000
DTSTAMP:20260424T125247
CREATED:20240104T184539Z
LAST-MODIFIED:20240104T184539Z
UID:6161-1704299400-1704301200@www.barrettlibrary.org
SUMMARY:Preschool Play Date
DESCRIPTION:Preschool Play Date \nAges 0-5 \nWednesday\, January 3rd 4:30pm \nCome to the library for stories\, songs\, and games to play with friends! There will be a short story time\, followed by time for you to explore activities with your children and their peers. Registration is encouraged. Please call 570-595-7171 to register.
URL:https://www.barrettlibrary.org/event/preschool-play-date-5/
END:VEVENT
BEGIN:VEVENT
DTSTART;TZID=America/New_York:20240103T100000
DTEND;TZID=America/New_York:20240103T150000
DTSTAMP:20260424T125247
CREATED:20231207T142047Z
LAST-MODIFIED:20231207T142047Z
UID:6111-1704276000-1704294000@www.barrettlibrary.org
SUMMARY:Rep Madden Satellite Office Hours
DESCRIPTION:State Representative Maureen Madden’s staff will hold satellite office hours at the Library the first week (Wed & Thu) and third week (Mon & Tue) each month from 10am-3pm to offer constituent services. For questions about services\, please call 570-894-7905 or visit her website.
URL:https://www.barrettlibrary.org/event/rep-madden-satellite-office-hours-11/
END:VEVENT
BEGIN:VEVENT
DTSTART;TZID=America/New_York:20240102T130000
DTEND;TZID=America/New_York:20240102T160000
DTSTAMP:20260424T125247
CREATED:20231125T163653Z
LAST-MODIFIED:20231125T163653Z
UID:6051-1704200400-1704211200@www.barrettlibrary.org
SUMMARY:Movie Day at the Library
DESCRIPTION:Come to the Library to watch a newly released movie with friends. This month we will watch Oppenheimer\, starring Cillian Murphy. Rated R \nSynopsis: \nDuring World War II\, Lt. Gen. Leslie Groves Jr. appoints physicist J. Robert Oppenheimer to work on the top-secret Manhattan Project. Oppenheimer and a team of scientists spend years developing and designing the atomic bomb. Their work comes to fruition on July 16\, 1945\, as they witness the world’s first nuclear explosion\, forever changing the course of history. 
URL:https://www.barrettlibrary.org/event/movie-day-at-the-library-13/
END:VEVENT
BEGIN:VEVENT
DTSTART;VALUE=DATE:20240101
DTEND;VALUE=DATE:20240102
DTSTAMP:20260424T125247
CREATED:20231218T235925Z
LAST-MODIFIED:20231218T235925Z
UID:6135-1704067200-1704153599@www.barrettlibrary.org
SUMMARY:LIBRARY CLOSED
DESCRIPTION:The Library is closed for the holiday.
URL:https://www.barrettlibrary.org/event/library-closed-5/
END:VEVENT
BEGIN:VEVENT
DTSTART;VALUE=DATE:20231230
DTEND;VALUE=DATE:20231231
DTSTAMP:20260424T125247
CREATED:20231218T235853Z
LAST-MODIFIED:20231218T235853Z
UID:6133-1703894400-1703980799@www.barrettlibrary.org
SUMMARY:LIBRARY CLOSED
DESCRIPTION:The Library is closed for the holiday.
URL:https://www.barrettlibrary.org/event/library-closed-4/
END:VEVENT
BEGIN:VEVENT
DTSTART;TZID=America/New_York:20231228T101500
DTEND;TZID=America/New_York:20231228T110000
DTSTAMP:20260424T125247
CREATED:20231202T011130Z
LAST-MODIFIED:20231202T011130Z
UID:6092-1703758500-1703761200@www.barrettlibrary.org
SUMMARY:Story Time
DESCRIPTION:Library Story Time \nAges 0-5 \nThursdays\, December 14th & 28th 10:15am \nJoin us in the children’s area for stories\, songs\, crafts\, and more!
URL:https://www.barrettlibrary.org/event/story-time-12/
END:VEVENT
BEGIN:VEVENT
DTSTART;TZID=America/New_York:20231227T170000
DTEND;TZID=America/New_York:20231227T180000
DTSTAMP:20260424T125247
CREATED:20231211T193725Z
LAST-MODIFIED:20231211T193725Z
UID:6122-1703696400-1703700000@www.barrettlibrary.org
SUMMARY:Candy House Decorating
DESCRIPTION:Candy House Decorating \nAll Ages \nWednesday\, December 27th 5pm \nThis program is a great opportunity for families to come together and create something special. Participants will be provided with all the materials they need to build their very own candy house\, including graham crackers\, frosting\, and candy. There will be plenty of time to be creative and decorate the houses to perfection.
URL:https://www.barrettlibrary.org/event/candy-house-decorating/
END:VEVENT
BEGIN:VEVENT
DTSTART;VALUE=DATE:20231225
DTEND;VALUE=DATE:20231226
DTSTAMP:20260424T125247
CREATED:20231218T235751Z
LAST-MODIFIED:20231218T235804Z
UID:6131-1703462400-1703548799@www.barrettlibrary.org
SUMMARY:LIBRARY CLOSED
DESCRIPTION:The Library is closed for the holiday.
URL:https://www.barrettlibrary.org/event/library-closed-3/
END:VEVENT
BEGIN:VEVENT
DTSTART;VALUE=DATE:20231223
DTEND;VALUE=DATE:20231224
DTSTAMP:20260424T125247
CREATED:20231218T235721Z
LAST-MODIFIED:20231218T235721Z
UID:6129-1703289600-1703375999@www.barrettlibrary.org
SUMMARY:LIBRARY CLOSED
DESCRIPTION:The Library is closed for the holiday.
URL:https://www.barrettlibrary.org/event/library-closed-2/
END:VEVENT
BEGIN:VEVENT
DTSTART;TZID=America/New_York:20231220T180000
DTEND;TZID=America/New_York:20231220T190000
DTSTAMP:20260424T125247
CREATED:20231202T012247Z
LAST-MODIFIED:20231202T012247Z
UID:6098-1703095200-1703098800@www.barrettlibrary.org
SUMMARY:LED Holiday Cards
DESCRIPTION:LED Holiday Cards  \nAges 6-11 \nWednesday\, December 20th 6pm \nJoin us for a fun holiday project.  We will be making light-up LED holiday cards that will teach us the basics of circuitry and allow for creative expression. 
URL:https://www.barrettlibrary.org/event/led-holiday-cards/
END:VEVENT
BEGIN:VEVENT
DTSTART;TZID=America/New_York:20231219T101500
DTEND;TZID=America/New_York:20231219T104500
DTSTAMP:20260424T125247
CREATED:20231202T003743Z
LAST-MODIFIED:20231202T003743Z
UID:6087-1702980900-1702982700@www.barrettlibrary.org
SUMMARY:Baby & Me
DESCRIPTION:Baby & Me \nAges 0-2 \nTuesdays\, December 5th & 19th 10:15am \nA special story time for our youngest patrons and their grownups.  \nJoin us for stories\, songs\, and games!  \n 
URL:https://www.barrettlibrary.org/event/baby-me-23/
END:VEVENT
BEGIN:VEVENT
DTSTART;TZID=America/New_York:20231219T100000
DTEND;TZID=America/New_York:20231219T150000
DTSTAMP:20260424T125247
CREATED:20231207T141811Z
LAST-MODIFIED:20231207T141811Z
UID:6109-1702980000-1702998000@www.barrettlibrary.org
SUMMARY:Rep Madden Satellite Office Hours
DESCRIPTION:State Representative Maureen Madden’s staff will hold satellite office hours at the Library the first week (Wed & Thu) and third week (Mon & Tue) each month from 10am-3pm to offer constituent services. For questions about services\, please call 570-894-7905 or visit her website.
URL:https://www.barrettlibrary.org/event/rep-madden-satellite-office-hours-10/
END:VEVENT
END:VCALENDAR