BEGIN:VCALENDAR
VERSION:2.0
PRODID:-//Barrett Paradise Friendly Library - ECPv6.15.20//NONSGML v1.0//EN
CALSCALE:GREGORIAN
METHOD:PUBLISH
X-WR-CALNAME:Barrett Paradise Friendly Library
X-ORIGINAL-URL:https://www.barrettlibrary.org
X-WR-CALDESC:Events for Barrett Paradise Friendly Library
REFRESH-INTERVAL;VALUE=DURATION:PT1H
X-Robots-Tag:noindex
X-PUBLISHED-TTL:PT1H
BEGIN:VTIMEZONE
TZID:America/New_York
BEGIN:DAYLIGHT
TZOFFSETFROM:-0500
TZOFFSETTO:-0400
TZNAME:EDT
DTSTART:20220313T070000
END:DAYLIGHT
BEGIN:STANDARD
TZOFFSETFROM:-0400
TZOFFSETTO:-0500
TZNAME:EST
DTSTART:20221106T060000
END:STANDARD
BEGIN:DAYLIGHT
TZOFFSETFROM:-0500
TZOFFSETTO:-0400
TZNAME:EDT
DTSTART:20230312T070000
END:DAYLIGHT
BEGIN:STANDARD
TZOFFSETFROM:-0400
TZOFFSETTO:-0500
TZNAME:EST
DTSTART:20231105T060000
END:STANDARD
BEGIN:DAYLIGHT
TZOFFSETFROM:-0500
TZOFFSETTO:-0400
TZNAME:EDT
DTSTART:20240310T070000
END:DAYLIGHT
BEGIN:STANDARD
TZOFFSETFROM:-0400
TZOFFSETTO:-0500
TZNAME:EST
DTSTART:20241103T060000
END:STANDARD
BEGIN:DAYLIGHT
TZOFFSETFROM:-0500
TZOFFSETTO:-0400
TZNAME:EDT
DTSTART:20250309T070000
END:DAYLIGHT
BEGIN:STANDARD
TZOFFSETFROM:-0400
TZOFFSETTO:-0500
TZNAME:EST
DTSTART:20251102T060000
END:STANDARD
END:VTIMEZONE
BEGIN:VEVENT
DTSTART;TZID=America/New_York:20240106T150000
DTEND;TZID=America/New_York:20240106T170000
DTSTAMP:20260424T124508
CREATED:20240106T204134Z
LAST-MODIFIED:20240106T204134Z
UID:6176-1704553200-1704560400@www.barrettlibrary.org
SUMMARY:CLOSED AT 3PM DUE TO WEATHER
DESCRIPTION:The Library closed at 3pm today due to the snow. \nStay safe and warm in the storm!
URL:https://www.barrettlibrary.org/event/closed-at-3pm-due-to-weather/
END:VEVENT
BEGIN:VEVENT
DTSTART;TZID=America/New_York:20240104T100000
DTEND;TZID=America/New_York:20240104T150000
DTSTAMP:20260424T124508
CREATED:20231207T142120Z
LAST-MODIFIED:20231207T142120Z
UID:6113-1704362400-1704380400@www.barrettlibrary.org
SUMMARY:Rep Madden Satellite Office Hours
DESCRIPTION:State Representative Maureen Madden’s staff will hold satellite office hours at the Library the first week (Wed & Thu) and third week (Mon & Tue) each month from 10am-3pm to offer constituent services. For questions about services\, please call 570-894-7905 or visit her website.
URL:https://www.barrettlibrary.org/event/rep-madden-satellite-office-hours-12/
END:VEVENT
BEGIN:VEVENT
DTSTART;TZID=America/New_York:20240103T163000
DTEND;TZID=America/New_York:20240103T170000
DTSTAMP:20260424T124508
CREATED:20240104T184539Z
LAST-MODIFIED:20240104T184539Z
UID:6161-1704299400-1704301200@www.barrettlibrary.org
SUMMARY:Preschool Play Date
DESCRIPTION:Preschool Play Date \nAges 0-5 \nWednesday\, January 3rd 4:30pm \nCome to the library for stories\, songs\, and games to play with friends! There will be a short story time\, followed by time for you to explore activities with your children and their peers. Registration is encouraged. Please call 570-595-7171 to register.
URL:https://www.barrettlibrary.org/event/preschool-play-date-5/
END:VEVENT
BEGIN:VEVENT
DTSTART;TZID=America/New_York:20240103T100000
DTEND;TZID=America/New_York:20240103T150000
DTSTAMP:20260424T124508
CREATED:20231207T142047Z
LAST-MODIFIED:20231207T142047Z
UID:6111-1704276000-1704294000@www.barrettlibrary.org
SUMMARY:Rep Madden Satellite Office Hours
DESCRIPTION:State Representative Maureen Madden’s staff will hold satellite office hours at the Library the first week (Wed & Thu) and third week (Mon & Tue) each month from 10am-3pm to offer constituent services. For questions about services\, please call 570-894-7905 or visit her website.
URL:https://www.barrettlibrary.org/event/rep-madden-satellite-office-hours-11/
END:VEVENT
BEGIN:VEVENT
DTSTART;TZID=America/New_York:20240102T130000
DTEND;TZID=America/New_York:20240102T160000
DTSTAMP:20260424T124508
CREATED:20231125T163653Z
LAST-MODIFIED:20231125T163653Z
UID:6051-1704200400-1704211200@www.barrettlibrary.org
SUMMARY:Movie Day at the Library
DESCRIPTION:Come to the Library to watch a newly released movie with friends. This month we will watch Oppenheimer\, starring Cillian Murphy. Rated R \nSynopsis: \nDuring World War II\, Lt. Gen. Leslie Groves Jr. appoints physicist J. Robert Oppenheimer to work on the top-secret Manhattan Project. Oppenheimer and a team of scientists spend years developing and designing the atomic bomb. Their work comes to fruition on July 16\, 1945\, as they witness the world’s first nuclear explosion\, forever changing the course of history. 
URL:https://www.barrettlibrary.org/event/movie-day-at-the-library-13/
END:VEVENT
BEGIN:VEVENT
DTSTART;VALUE=DATE:20240101
DTEND;VALUE=DATE:20240102
DTSTAMP:20260424T124508
CREATED:20231218T235925Z
LAST-MODIFIED:20231218T235925Z
UID:6135-1704067200-1704153599@www.barrettlibrary.org
SUMMARY:LIBRARY CLOSED
DESCRIPTION:The Library is closed for the holiday.
URL:https://www.barrettlibrary.org/event/library-closed-5/
END:VEVENT
BEGIN:VEVENT
DTSTART;VALUE=DATE:20231230
DTEND;VALUE=DATE:20231231
DTSTAMP:20260424T124508
CREATED:20231218T235853Z
LAST-MODIFIED:20231218T235853Z
UID:6133-1703894400-1703980799@www.barrettlibrary.org
SUMMARY:LIBRARY CLOSED
DESCRIPTION:The Library is closed for the holiday.
URL:https://www.barrettlibrary.org/event/library-closed-4/
END:VEVENT
BEGIN:VEVENT
DTSTART;TZID=America/New_York:20231228T101500
DTEND;TZID=America/New_York:20231228T110000
DTSTAMP:20260424T124508
CREATED:20231202T011130Z
LAST-MODIFIED:20231202T011130Z
UID:6092-1703758500-1703761200@www.barrettlibrary.org
SUMMARY:Story Time
DESCRIPTION:Library Story Time \nAges 0-5 \nThursdays\, December 14th & 28th 10:15am \nJoin us in the children’s area for stories\, songs\, crafts\, and more!
URL:https://www.barrettlibrary.org/event/story-time-12/
END:VEVENT
BEGIN:VEVENT
DTSTART;TZID=America/New_York:20231227T170000
DTEND;TZID=America/New_York:20231227T180000
DTSTAMP:20260424T124508
CREATED:20231211T193725Z
LAST-MODIFIED:20231211T193725Z
UID:6122-1703696400-1703700000@www.barrettlibrary.org
SUMMARY:Candy House Decorating
DESCRIPTION:Candy House Decorating \nAll Ages \nWednesday\, December 27th 5pm \nThis program is a great opportunity for families to come together and create something special. Participants will be provided with all the materials they need to build their very own candy house\, including graham crackers\, frosting\, and candy. There will be plenty of time to be creative and decorate the houses to perfection.
URL:https://www.barrettlibrary.org/event/candy-house-decorating/
END:VEVENT
BEGIN:VEVENT
DTSTART;VALUE=DATE:20231225
DTEND;VALUE=DATE:20231226
DTSTAMP:20260424T124508
CREATED:20231218T235751Z
LAST-MODIFIED:20231218T235804Z
UID:6131-1703462400-1703548799@www.barrettlibrary.org
SUMMARY:LIBRARY CLOSED
DESCRIPTION:The Library is closed for the holiday.
URL:https://www.barrettlibrary.org/event/library-closed-3/
END:VEVENT
BEGIN:VEVENT
DTSTART;VALUE=DATE:20231223
DTEND;VALUE=DATE:20231224
DTSTAMP:20260424T124508
CREATED:20231218T235721Z
LAST-MODIFIED:20231218T235721Z
UID:6129-1703289600-1703375999@www.barrettlibrary.org
SUMMARY:LIBRARY CLOSED
DESCRIPTION:The Library is closed for the holiday.
URL:https://www.barrettlibrary.org/event/library-closed-2/
END:VEVENT
BEGIN:VEVENT
DTSTART;TZID=America/New_York:20231220T180000
DTEND;TZID=America/New_York:20231220T190000
DTSTAMP:20260424T124508
CREATED:20231202T012247Z
LAST-MODIFIED:20231202T012247Z
UID:6098-1703095200-1703098800@www.barrettlibrary.org
SUMMARY:LED Holiday Cards
DESCRIPTION:LED Holiday Cards  \nAges 6-11 \nWednesday\, December 20th 6pm \nJoin us for a fun holiday project.  We will be making light-up LED holiday cards that will teach us the basics of circuitry and allow for creative expression. 
URL:https://www.barrettlibrary.org/event/led-holiday-cards/
END:VEVENT
BEGIN:VEVENT
DTSTART;TZID=America/New_York:20231219T101500
DTEND;TZID=America/New_York:20231219T104500
DTSTAMP:20260424T124508
CREATED:20231202T003743Z
LAST-MODIFIED:20231202T003743Z
UID:6087-1702980900-1702982700@www.barrettlibrary.org
SUMMARY:Baby & Me
DESCRIPTION:Baby & Me \nAges 0-2 \nTuesdays\, December 5th & 19th 10:15am \nA special story time for our youngest patrons and their grownups.  \nJoin us for stories\, songs\, and games!  \n 
URL:https://www.barrettlibrary.org/event/baby-me-23/
END:VEVENT
BEGIN:VEVENT
DTSTART;TZID=America/New_York:20231219T100000
DTEND;TZID=America/New_York:20231219T150000
DTSTAMP:20260424T124508
CREATED:20231207T141811Z
LAST-MODIFIED:20231207T141811Z
UID:6109-1702980000-1702998000@www.barrettlibrary.org
SUMMARY:Rep Madden Satellite Office Hours
DESCRIPTION:State Representative Maureen Madden’s staff will hold satellite office hours at the Library the first week (Wed & Thu) and third week (Mon & Tue) each month from 10am-3pm to offer constituent services. For questions about services\, please call 570-894-7905 or visit her website.
URL:https://www.barrettlibrary.org/event/rep-madden-satellite-office-hours-10/
END:VEVENT
BEGIN:VEVENT
DTSTART;TZID=America/New_York:20231218T180000
DTEND;TZID=America/New_York:20231218T190000
DTSTAMP:20260424T124508
CREATED:20231125T160128Z
LAST-MODIFIED:20231216T183945Z
UID:6047-1702922400-1702926000@www.barrettlibrary.org
SUMMARY:Healing Yoga (Cancelled)
DESCRIPTION:Edit: \nHealing Yoga is cancelled for Monday\, December 18. Join us for Danielle’s next session in the new year (1/15/2024)! \nDanielle Lane will guide you through a soothing\, mindful yoga experience which may include meditation\, sound bowls\, music\, and other elements. Appropriate for all levels. Space is limited: registration is required for each session. To register\, please call the Library\, (570)595-7171\, or email Lynn\, l.vromanbpfl (at) gmail (dot) com.
URL:https://www.barrettlibrary.org/event/healing-yoga-4/
END:VEVENT
BEGIN:VEVENT
DTSTART;TZID=America/New_York:20231218T100000
DTEND;TZID=America/New_York:20231218T150000
DTSTAMP:20260424T124508
CREATED:20231207T141734Z
LAST-MODIFIED:20231207T141734Z
UID:6107-1702893600-1702911600@www.barrettlibrary.org
SUMMARY:Rep Madden Satellite Office Hours
DESCRIPTION:State Representative Maureen Madden’s staff will hold satellite office hours at the Library the first week (Wed & Thu) and third week (Mon & Tue) each month from 10am-3pm to offer constituent services. For questions about services\, please call 570-894-7905 or visit her website.
URL:https://www.barrettlibrary.org/event/rep-madden-satellite-office-hours-9/
END:VEVENT
BEGIN:VEVENT
DTSTART;VALUE=DATE:20231218
DTEND;VALUE=DATE:20231219
DTSTAMP:20260424T124508
CREATED:20231125T160500Z
LAST-MODIFIED:20231125T160500Z
UID:6049-1702857600-1702943999@www.barrettlibrary.org
SUMMARY:Adult Take-Home Craft: Winter Table Decoration
DESCRIPTION:Create a beautiful winter display to add to your decor. We supply all the materials and instructions. You must register to receive a bag. Crafts will be available for pickup beginning Monday\, December 18. To register\, please call the Library\, (570)595-7171\, or email Lynn\, l.vromanbpfl (at) gmail (dot) com. \n 
URL:https://www.barrettlibrary.org/event/adult-take-home-craft-winter-table-decoration/
END:VEVENT
BEGIN:VEVENT
DTSTART;TZID=America/New_York:20231214T101500
DTEND;TZID=America/New_York:20231214T110000
DTSTAMP:20260424T124508
CREATED:20231202T011006Z
LAST-MODIFIED:20231202T011006Z
UID:6090-1702548900-1702551600@www.barrettlibrary.org
SUMMARY:Story Time
DESCRIPTION:Library Story Time \nAges 0-5 \nThursdays\, December 14th & 28th 10:15am \nJoin us in the children’s area for stories\, songs\, crafts\, and more!
URL:https://www.barrettlibrary.org/event/story-time-11/
END:VEVENT
BEGIN:VEVENT
DTSTART;TZID=America/New_York:20231213T180000
DTEND;TZID=America/New_York:20231213T190000
DTSTAMP:20260424T124508
CREATED:20231202T012022Z
LAST-MODIFIED:20231202T012022Z
UID:6096-1702490400-1702494000@www.barrettlibrary.org
SUMMARY:Teen Action Board
DESCRIPTION:Teen Action Board \nTeens 12-17 \nWednesday\, December 13th 6pm \nJoin our newly- revived Teen Action Board. Learn how you can serve your community\, make friends\, and earn community service hours all at the same time! Please call to register.
URL:https://www.barrettlibrary.org/event/teen-action-board-2/
END:VEVENT
BEGIN:VEVENT
DTSTART;TZID=America/New_York:20231207T100000
DTEND;TZID=America/New_York:20231207T150000
DTSTAMP:20260424T124508
CREATED:20231207T141648Z
LAST-MODIFIED:20231207T141648Z
UID:6105-1701943200-1701961200@www.barrettlibrary.org
SUMMARY:Rep Madden Satellite Office Hours
DESCRIPTION:State Representative Maureen Madden’s staff will hold satellite office hours at the Library the first week (Wed & Thu) and third week (Mon & Tue) each month from 10am-3pm to offer constituent services. For questions about services\, please call 570-894-7905 or visit her website.
URL:https://www.barrettlibrary.org/event/rep-madden-satellite-office-hours-8/
END:VEVENT
BEGIN:VEVENT
DTSTART;TZID=America/New_York:20231206T180000
DTEND;TZID=America/New_York:20231206T193000
DTSTAMP:20260424T124508
CREATED:20231012T201603Z
LAST-MODIFIED:20231012T201945Z
UID:5988-1701885600-1701891000@www.barrettlibrary.org
SUMMARY:Winter Greeting Card Craft Adult Program (rescheduled from Nov 13)
DESCRIPTION:Adult Program (ages 18+) \nLisa Flanagan will guide you through the craft of making your own winter-themed greeting cards. We supply the materials. \nSpace is limited: registration required. Preference given to those who have not participated in Lisa’s card-making programs before. After Nov 29\, registration is open to all. 570-595-7171. \n(NOTE: Class was previously advertised as scheduled for Nov 13; the date was changed due to a scheduling conflict.)
URL:https://www.barrettlibrary.org/event/winter-greeting-card-craft-rescheduled-from-nov-13/
END:VEVENT
BEGIN:VEVENT
DTSTART;TZID=America/New_York:20231206T163000
DTEND;TZID=America/New_York:20231206T173000
DTSTAMP:20260424T124508
CREATED:20231202T011427Z
LAST-MODIFIED:20231202T011427Z
UID:6094-1701880200-1701883800@www.barrettlibrary.org
SUMMARY:Preschool Play Date
DESCRIPTION:Preschool Play Date \nAges 0-5 \nWednesday\, December 6th 4:30pm \nCelebrate Winter with us! Come to the library for stories\, songs\, and games to play with friends! There will be a short story time\, followed by time for you to explore activities with your children and their peers. Registration is encouraged. Please call 570-595-7171 to register.
URL:https://www.barrettlibrary.org/event/preschool-play-date-4/
END:VEVENT
BEGIN:VEVENT
DTSTART;TZID=America/New_York:20231206T100000
DTEND;TZID=America/New_York:20231206T150000
DTSTAMP:20260424T124508
CREATED:20231207T141600Z
LAST-MODIFIED:20231207T141600Z
UID:6103-1701856800-1701874800@www.barrettlibrary.org
SUMMARY:Rep Madden Satellite Office Hours
DESCRIPTION:State Representative Maureen Madden’s staff will hold satellite office hours at the Library the first week (Wed & Thu) and third week (Mon & Tue) each month from 10am-3pm to offer constituent services. For questions about services\, please call 570-894-7905 or visit her website.
URL:https://www.barrettlibrary.org/event/rep-madden-satellite-office-hours-7/
END:VEVENT
BEGIN:VEVENT
DTSTART;TZID=America/New_York:20231205T130000
DTEND;TZID=America/New_York:20231205T160000
DTSTAMP:20260424T124508
CREATED:20231107T184815Z
LAST-MODIFIED:20231108T173309Z
UID:6036-1701781200-1701792000@www.barrettlibrary.org
SUMMARY:Movie Day at the Library
DESCRIPTION:Come to the Library to watch a newly released movie with friends. This month we will watch Barbie\, starring Margot Robbie and Ryan Gosling. Rated PG-13 \n 
URL:https://www.barrettlibrary.org/event/movie-day-at-the-library-12/
END:VEVENT
BEGIN:VEVENT
DTSTART;TZID=America/New_York:20231205T101500
DTEND;TZID=America/New_York:20231205T104500
DTSTAMP:20260424T124508
CREATED:20231202T003447Z
LAST-MODIFIED:20231202T003447Z
UID:6085-1701771300-1701773100@www.barrettlibrary.org
SUMMARY:Baby & Me
DESCRIPTION:Baby & Me \nAges 0-2 \nTuesdays\, December 5th & 19th 10:15am \nA special story time for our youngest patrons and their grownups.  \nJoin us for stories\, songs\, and games!  \n 
URL:https://www.barrettlibrary.org/event/baby-me-22/
END:VEVENT
BEGIN:VEVENT
DTSTART;TZID=America/New_York:20231204T180000
DTEND;TZID=America/New_York:20231204T190000
DTSTAMP:20260424T124508
CREATED:20231125T160019Z
LAST-MODIFIED:20231125T160019Z
UID:6045-1701712800-1701716400@www.barrettlibrary.org
SUMMARY:Healing Yoga
DESCRIPTION:Danielle Lane will guide you through a soothing\, mindful yoga experience which may include meditation\, sound bowls\, music\, and other elements. Appropriate for all levels. Space is limited: registration is required for each session. To register\, please call the Library\, (570)595-7171\, or email Lynn\, l.vromanbpfl (at) gmail (dot) com.
URL:https://www.barrettlibrary.org/event/healing-yoga-3/
END:VEVENT
BEGIN:VEVENT
DTSTART;TZID=America/New_York:20231130T101500
DTEND;TZID=America/New_York:20231130T110000
DTSTAMP:20260424T124508
CREATED:20231020T170811Z
LAST-MODIFIED:20231020T170840Z
UID:6000-1701339300-1701342000@www.barrettlibrary.org
SUMMARY:Library Story Time
DESCRIPTION:Library Story Time \nAges 0-5 \nThursdays\, November 16th & 30th 10:15am \nJoin us in the children’s area for stories\, songs\, crafts\, and more.
URL:https://www.barrettlibrary.org/event/library-story-time-6/
END:VEVENT
BEGIN:VEVENT
DTSTART;TZID=America/New_York:20231128T190000
DTEND;TZID=America/New_York:20231128T200000
DTSTAMP:20260424T124508
CREATED:20231031T181047Z
LAST-MODIFIED:20231031T181047Z
UID:6028-1701198000-1701201600@www.barrettlibrary.org
SUMMARY:Virtual Evening Book
DESCRIPTION:Join our virtual Evening Book Club on Zoom. This month\, we will discuss Woman on Fire  by Lisa Barr. If you’re interested in joining\, please call the Library for more details. \n 
URL:https://www.barrettlibrary.org/event/virtual-evening-book-4/
END:VEVENT
BEGIN:VEVENT
DTSTART;TZID=America/New_York:20231121T130000
DTEND;TZID=America/New_York:20231121T140000
DTSTAMP:20260424T124508
CREATED:20231031T180836Z
LAST-MODIFIED:20231031T180836Z
UID:6026-1700571600-1700575200@www.barrettlibrary.org
SUMMARY:Afternoon Book Club
DESCRIPTION:Our Afternoon Book Club now meets at the Library! An option to join with Zoom is still available\, as well. This month\, we will discuss The Omega Factor by Steve Berry. If you’re interested in joining\, please call the Library for more details.
URL:https://www.barrettlibrary.org/event/afternoon-book-club-8/
END:VEVENT
BEGIN:VEVENT
DTSTART;TZID=America/New_York:20231121T101500
DTEND;TZID=America/New_York:20231121T104500
DTSTAMP:20260424T124508
CREATED:20231020T170528Z
LAST-MODIFIED:20231020T170528Z
UID:5996-1700561700-1700563500@www.barrettlibrary.org
SUMMARY:Baby & Me
DESCRIPTION:Baby & Me \nAges 0-2 \nTuesdays\, November 7th & 21st 10:15am \nA special story time for our youngest patrons and their grownups. \nJoin us for stories\, songs\, and games!
URL:https://www.barrettlibrary.org/event/baby-me-21/
END:VEVENT
END:VCALENDAR