BEGIN:VCALENDAR
VERSION:2.0
PRODID:-//Barrett Paradise Friendly Library - ECPv6.15.20//NONSGML v1.0//EN
CALSCALE:GREGORIAN
METHOD:PUBLISH
X-WR-CALNAME:Barrett Paradise Friendly Library
X-ORIGINAL-URL:https://www.barrettlibrary.org
X-WR-CALDESC:Events for Barrett Paradise Friendly Library
REFRESH-INTERVAL;VALUE=DURATION:PT1H
X-Robots-Tag:noindex
X-PUBLISHED-TTL:PT1H
BEGIN:VTIMEZONE
TZID:America/New_York
BEGIN:DAYLIGHT
TZOFFSETFROM:-0500
TZOFFSETTO:-0400
TZNAME:EDT
DTSTART:20230312T070000
END:DAYLIGHT
BEGIN:STANDARD
TZOFFSETFROM:-0400
TZOFFSETTO:-0500
TZNAME:EST
DTSTART:20231105T060000
END:STANDARD
BEGIN:DAYLIGHT
TZOFFSETFROM:-0500
TZOFFSETTO:-0400
TZNAME:EDT
DTSTART:20240310T070000
END:DAYLIGHT
BEGIN:STANDARD
TZOFFSETFROM:-0400
TZOFFSETTO:-0500
TZNAME:EST
DTSTART:20241103T060000
END:STANDARD
BEGIN:DAYLIGHT
TZOFFSETFROM:-0500
TZOFFSETTO:-0400
TZNAME:EDT
DTSTART:20250309T070000
END:DAYLIGHT
BEGIN:STANDARD
TZOFFSETFROM:-0400
TZOFFSETTO:-0500
TZNAME:EST
DTSTART:20251102T060000
END:STANDARD
END:VTIMEZONE
BEGIN:VEVENT
DTSTART;TZID=America/New_York:20240725T103000
DTEND;TZID=America/New_York:20240725T111500
DTSTAMP:20260424T112005
CREATED:20240701T131900Z
LAST-MODIFIED:20240701T131900Z
UID:6564-1721903400-1721906100@www.barrettlibrary.org
SUMMARY:Library Story Time
DESCRIPTION:Library Story Time \nAges 0-5 \nThursdays in July 10:30am (there is no story time on July 4th) \nJoin us in the children’s area for stories\, songs\, crafts\, and more!
URL:https://www.barrettlibrary.org/event/library-story-time-17/
END:VEVENT
BEGIN:VEVENT
DTSTART;TZID=America/New_York:20240724T150000
DTEND;TZID=America/New_York:20240724T160000
DTSTAMP:20260424T112005
CREATED:20240701T132155Z
LAST-MODIFIED:20240701T132155Z
UID:6568-1721833200-1721836800@www.barrettlibrary.org
SUMMARY:Cruise into Kindergarten
DESCRIPTION:Cruise into Kindergarten \nAges 4-5 \nWednesdays\, July 17th-August 14th 3pm \nOur popular Kindergarten-readiness program is back! Cruise into Kindergarten in a fun and welcoming environment. We will practice sitting nicely in a circle\, taking turns\, raising our hands\, and even walking in the hallway! The Weiler Family Community Room is transformed into a Kindergarten setting\, complete with circle time\, activity centers\, and snack time. This program is open to children who will be attending Kindergarten in Fall of 2024 or 2025. \nRegistration is required. Please call 570-595-7171 to register.
URL:https://www.barrettlibrary.org/event/cruise-into-kindergarten-2/
END:VEVENT
BEGIN:VEVENT
DTSTART;TZID=America/New_York:20240723T103000
DTEND;TZID=America/New_York:20240723T110000
DTSTAMP:20260424T112005
CREATED:20240701T131217Z
LAST-MODIFIED:20240701T131217Z
UID:6556-1721730600-1721732400@www.barrettlibrary.org
SUMMARY:Baby & Me
DESCRIPTION:Baby & Me \nAges 0-2 \nTuesdays in July 10:30am \nA special story time for our youngest patrons and their grownups.  \nJoin us for stories\, songs\, and games!
URL:https://www.barrettlibrary.org/event/baby-me-39/
END:VEVENT
BEGIN:VEVENT
DTSTART;TZID=America/New_York:20240720T130000
DTEND;TZID=America/New_York:20240720T140000
DTSTAMP:20260424T112005
CREATED:20240511T144731Z
LAST-MODIFIED:20240622T143218Z
UID:6461-1721480400-1721484000@www.barrettlibrary.org
SUMMARY:Master Gardener Presentation on Invasive Species
DESCRIPTION:Master Gardener Ann Foster will speak on Invasive Plant Species and give you the tools necessary to develop a control plan. Topics covered include: What is an Invasive Plant? What are their impacts? What makes them invasive? Methods of control. Space is limited. Please register for this program.
URL:https://www.barrettlibrary.org/event/master-gardener-presentation-on-invasive-species/
END:VEVENT
BEGIN:VEVENT
DTSTART;TZID=America/New_York:20240719T110000
DTEND;TZID=America/New_York:20240719T120000
DTSTAMP:20260424T112005
CREATED:20240624T171538Z
LAST-MODIFIED:20240624T171538Z
UID:6537-1721386800-1721390400@www.barrettlibrary.org
SUMMARY:Healing Yoga *Note Time Change
DESCRIPTION:Danielle Lane will guide you through a soothing\, mindful yoga experience which may include meditation\, sound bowls\, music\, and other elements. Appropriate for all levels. Space is limited: please register for each session. 
URL:https://www.barrettlibrary.org/event/healing-yoga-note-time-change/
END:VEVENT
BEGIN:VEVENT
DTSTART;TZID=America/New_York:20240718T140000
DTEND;TZID=America/New_York:20240718T150000
DTSTAMP:20260424T112005
CREATED:20240701T132618Z
LAST-MODIFIED:20240701T132618Z
UID:6578-1721311200-1721314800@www.barrettlibrary.org
SUMMARY:Drawing with Brian Ajhar
DESCRIPTION:Drawing with Brian Ajhar \nTeens 12-17  \nThursday\, July 18th 2PM \nJoin us for a drawing lesson with local illustrator\, Brian Ajhar. \nBrian is a New York Times Bestselling artist\, published by seven different book publishers worldwide in a multitude of languages. Brian’s character design work for animation includes feature films\, television commercials\, independent films\, and educational projects. Registration is required.
URL:https://www.barrettlibrary.org/event/drawing-with-brian-ajhar/
END:VEVENT
BEGIN:VEVENT
DTSTART;TZID=America/New_York:20240718T103000
DTEND;TZID=America/New_York:20240718T110000
DTSTAMP:20260424T112005
CREATED:20240701T131802Z
LAST-MODIFIED:20240701T131802Z
UID:6562-1721298600-1721300400@www.barrettlibrary.org
SUMMARY:Library Story Time
DESCRIPTION:Library Story Time \nAges 0-5 \nThursdays in July 10:30am \nJoin us in the children’s area for stories\, songs\, crafts\, and more!
URL:https://www.barrettlibrary.org/event/library-story-time-16/
END:VEVENT
BEGIN:VEVENT
DTSTART;TZID=America/New_York:20240717T150000
DTEND;TZID=America/New_York:20240717T160000
DTSTAMP:20260424T112005
CREATED:20240701T132044Z
LAST-MODIFIED:20240701T132044Z
UID:6566-1721228400-1721232000@www.barrettlibrary.org
SUMMARY:Cruise into Kindergarten
DESCRIPTION:Cruise into Kindergarten \nAges 4-5 \nWednesdays\, July 17th-August 14th 3pm \nOur popular Kindergarten-readiness program is back! Cruise into Kindergarten in a fun and welcoming environment. We will practice sitting nicely in a circle\, taking turns\, raising our hands\, and even walking in the hallway! The Weiler Family Community Room is transformed into a Kindergarten setting\, complete with circle time\, activity centers\, and snack time. This program is open to children who will be attending Kindergarten in Fall of 2024 or 2025. \nRegistration is required. Please call 570-595-7171 to register.
URL:https://www.barrettlibrary.org/event/cruise-into-kindergarten/
END:VEVENT
BEGIN:VEVENT
DTSTART;TZID=America/New_York:20240716T103000
DTEND;TZID=America/New_York:20240716T110000
DTSTAMP:20260424T112005
CREATED:20240701T131115Z
LAST-MODIFIED:20240701T131115Z
UID:6553-1721125800-1721127600@www.barrettlibrary.org
SUMMARY:Baby & Me
DESCRIPTION:Baby & Me \nAges 0-2 \nTuesdays in July 10:30am \nA special story time for our youngest patrons and their grownups.  \nJoin us for stories\, songs\, and games!
URL:https://www.barrettlibrary.org/event/baby-me-38/
END:VEVENT
BEGIN:VEVENT
DTSTART;TZID=America/New_York:20240715T130000
DTEND;TZID=America/New_York:20240715T143000
DTSTAMP:20260424T112005
CREATED:20240702T133851Z
LAST-MODIFIED:20240702T133851Z
UID:6586-1721048400-1721053800@www.barrettlibrary.org
SUMMARY:Jo Piazza Author Visit
DESCRIPTION:Best-selling author Jo Piazza can talk to you about writing anything. Join Jo as she leads a creative writing session at Barrett Paradise Friendly Library. Bring a notebook\, your favorite writing instrument and an open mind! Even if you’re not a writer\, Jo’s insights into the writing process will inform and entertain you. An informal Q & A will follow. The Buck Hill Art Association has generously arranged this program for the Library. Please register in advance.
URL:https://www.barrettlibrary.org/event/jo-piazza-author-visit/
END:VEVENT
BEGIN:VEVENT
DTSTART;VALUE=DATE:20240715
DTEND;VALUE=DATE:20240716
DTSTAMP:20260424T112006
CREATED:20240624T172704Z
LAST-MODIFIED:20240624T172704Z
UID:6539-1721001600-1721087999@www.barrettlibrary.org
SUMMARY:Adult Take-Home Kit: Herb Starter Kits
DESCRIPTION:Grow your own herbs on your kitchen window sill! We will supply the materials. You must register to receive a kit. Supplies will be available for pickup beginning Monday\, July 15.
URL:https://www.barrettlibrary.org/event/adult-take-home-kit-herb-starter-kits/
END:VEVENT
BEGIN:VEVENT
DTSTART;TZID=America/New_York:20240711T183000
DTEND;TZID=America/New_York:20240711T193000
DTSTAMP:20260424T112006
CREATED:20240622T143727Z
LAST-MODIFIED:20240622T143727Z
UID:6533-1720722600-1720726200@www.barrettlibrary.org
SUMMARY:Virtual Writing Group
DESCRIPTION:Join us on Zoom to discuss the art of writing while sharing work with the group. What is the inciting incident in a story? If you’re interested in joining\, please contact the Library for more information.
URL:https://www.barrettlibrary.org/event/virtual-writing-group-34/
END:VEVENT
BEGIN:VEVENT
DTSTART;TZID=America/New_York:20240711T140000
DTEND;TZID=America/New_York:20240711T150000
DTSTAMP:20260424T112006
CREATED:20240701T132529Z
LAST-MODIFIED:20240701T132529Z
UID:6576-1720706400-1720710000@www.barrettlibrary.org
SUMMARY:Critter Scene Investigation with special guests from the Lacawac Sanctuary
DESCRIPTION:Critter Scene Investigation with special guests from the Lacawac Sanctuary \nAges 6-11  \nThursday\, July 11th 2PM \nSpecial visitors from the Lacawac Sanctuary will lead this program. Join us to learn about animals\, their habitats\, and their adaptations. This hands-on program includes an investigation using critical thinking where students open clue envelopes to determine habitat needs such as food\, water\, and shelter. Children will interact with skulls\, fur\, tracks\, and scat to learn about animal adaptations. They will use problem-solving skills to identify what the animal is and where it lives. Registration is required.
URL:https://www.barrettlibrary.org/event/critter-scene-investigation-with-special-guests-from-the-lacawac-sanctuary/
END:VEVENT
BEGIN:VEVENT
DTSTART;TZID=America/New_York:20240711T103000
DTEND;TZID=America/New_York:20240711T111500
DTSTAMP:20260424T112006
CREATED:20240701T131518Z
LAST-MODIFIED:20240701T131518Z
UID:6560-1720693800-1720696500@www.barrettlibrary.org
SUMMARY:Library Story Time
DESCRIPTION:Library Story Time \nAges 0-5 \nThursdays in July 10:30am  \nJoin us in the children’s area for stories\, songs\, crafts\, and more!
URL:https://www.barrettlibrary.org/event/library-story-time-15/
END:VEVENT
BEGIN:VEVENT
DTSTART;TZID=America/New_York:20240709T103000
DTEND;TZID=America/New_York:20240709T110000
DTSTAMP:20260424T112006
CREATED:20240701T130947Z
LAST-MODIFIED:20240701T131012Z
UID:6548-1720521000-1720522800@www.barrettlibrary.org
SUMMARY:Baby & Me
DESCRIPTION:Baby & Me \nAges 0-2 \nTuesdays in July 10:30am \nA special story time for our youngest patrons and their grownups.  \nJoin us for stories\, songs\, and games!
URL:https://www.barrettlibrary.org/event/baby-me-37/
END:VEVENT
BEGIN:VEVENT
DTSTART;VALUE=DATE:20240704
DTEND;VALUE=DATE:20240705
DTSTAMP:20260424T112006
CREATED:20240625T174725Z
LAST-MODIFIED:20240625T174725Z
UID:6543-1720051200-1720137599@www.barrettlibrary.org
SUMMARY:Library Closed in Observance of Independence Day
DESCRIPTION:Library Closed in Observance of Independence Day \nHappy 4th of July! \n 
URL:https://www.barrettlibrary.org/event/library-closed-in-observance-of-independence-day/
END:VEVENT
BEGIN:VEVENT
DTSTART;VALUE=DATE:20240703
DTEND;VALUE=DATE:20240704
DTSTAMP:20260424T112006
CREATED:20240701T131050Z
LAST-MODIFIED:20240701T131050Z
UID:6550-1719964800-1720051199@www.barrettlibrary.org
SUMMARY:Closing at 5pm for Independence Day
DESCRIPTION:The Library will close at 5pm on Wed\, July 3\, for Independence Day.
URL:https://www.barrettlibrary.org/event/closing-at-5pm-for-independence-day/
END:VEVENT
BEGIN:VEVENT
DTSTART;TZID=America/New_York:20240702T130000
DTEND;TZID=America/New_York:20240702T150000
DTSTAMP:20260424T112006
CREATED:20240622T143342Z
LAST-MODIFIED:20240622T143342Z
UID:6531-1719925200-1719932400@www.barrettlibrary.org
SUMMARY:Movie Day at the Library
DESCRIPTION:Come to the Library the first Tuesday of each month to watch a newly released movie with friends. This month we will watch Poor Things\, Starring Emma Stone. Rated R. \nBrought back to life by an unorthodox scientist\, a young woman runs off with a lawyer on a whirlwind adventure across the continents. Free from the prejudices of her times\, she grows steadfast in her purpose to stand for equality and liberation.
URL:https://www.barrettlibrary.org/event/movie-day-at-the-library-19/
END:VEVENT
BEGIN:VEVENT
DTSTART;TZID=America/New_York:20240702T103000
DTEND;TZID=America/New_York:20240702T110000
DTSTAMP:20260424T112006
CREATED:20240701T130019Z
LAST-MODIFIED:20240701T130019Z
UID:6546-1719916200-1719918000@www.barrettlibrary.org
SUMMARY:Baby & Me
DESCRIPTION:Baby & Me \nAges 0-2 \nTuesdays in July 10:30am \nA special story time for our youngest patrons and their grownups.  \nJoin us for stories\, songs\, and games!
URL:https://www.barrettlibrary.org/event/baby-me-36/
END:VEVENT
BEGIN:VEVENT
DTSTART;TZID=America/New_York:20240627T101500
DTEND;TZID=America/New_York:20240627T110000
DTSTAMP:20260424T112006
CREATED:20240531T014426Z
LAST-MODIFIED:20240531T014426Z
UID:6507-1719483300-1719486000@www.barrettlibrary.org
SUMMARY:Story Time
DESCRIPTION:Story Time \nAges 0-5 \nThursdays\, June 13th & 27th 10:15am \nJoin us in the children’s area for stories\, songs\, crafts\, and more!
URL:https://www.barrettlibrary.org/event/story-time-16/
END:VEVENT
BEGIN:VEVENT
DTSTART;TZID=America/New_York:20240626T150000
DTEND;TZID=America/New_York:20240626T180000
DTSTAMP:20260424T112006
CREATED:20240531T015436Z
LAST-MODIFIED:20240531T015452Z
UID:6511-1719414000-1719424800@www.barrettlibrary.org
SUMMARY:Adventure Begins at the Library - Summer Reading Kickoff Program
DESCRIPTION:Adventure Begins at the Library \nSummer Reading Kickoff Program \nWednesday\, June 26th \n3pm-6pm \nChildren & Teens \nJoin us as we kick off our Summer Reading Program!  \nStop by to pick up your Summer Adventure Kit\, explore new library books\, materials\, and activities. \nRegistration is required. Please call 570-595-7171 or email ChelseaBPFL@gmail.com
URL:https://www.barrettlibrary.org/event/6511/
END:VEVENT
BEGIN:VEVENT
DTSTART;TZID=America/New_York:20240625T190000
DTEND;TZID=America/New_York:20240625T200000
DTSTAMP:20260424T112006
CREATED:20240521T201505Z
LAST-MODIFIED:20240521T201505Z
UID:6494-1719342000-1719345600@www.barrettlibrary.org
SUMMARY:Virtual Evening Book Club
DESCRIPTION:Join our virtual Evening Book Club on Zoom. This month we will discuss The Measure by Nikki Erlick. If you’re interested in joining\, please call the Library for more details. \n 
URL:https://www.barrettlibrary.org/event/virtual-evening-book-club-26/
END:VEVENT
BEGIN:VEVENT
DTSTART;TZID=America/New_York:20240621T103000
DTEND;TZID=America/New_York:20240621T113000
DTSTAMP:20260424T112006
CREATED:20240513T145009Z
LAST-MODIFIED:20240513T145009Z
UID:6471-1718965800-1718969400@www.barrettlibrary.org
SUMMARY:Healing Yoga
DESCRIPTION:Danielle Lane will guide you through a soothing\, mindful yoga experience which may include meditation\, sound bowls\, music\, and other elements. Appropriate for all levels. Space is limited: please register for each session. 
URL:https://www.barrettlibrary.org/event/healing-yoga-17/
END:VEVENT
BEGIN:VEVENT
DTSTART;TZID=America/New_York:20240620T140000
DTEND;TZID=America/New_York:20240620T153000
DTSTAMP:20260424T112006
CREATED:20240513T150000Z
LAST-MODIFIED:20240513T150000Z
UID:6476-1718892000-1718897400@www.barrettlibrary.org
SUMMARY:Kaleidoscope
DESCRIPTION:Adult Discussion Group: Sharing Reflections on the Facets of Life from the Intriguing to the Sublime. Join us for a new\, monthly opportunity to share insights on a variety of topics with friends and neighbors. As a kaleidoscope has many facets\, so too does our group leader\, Sharon Barrow. She will draw on her experiences as a seasoned actress and director (from Shakespeare to slapstick!)\, art & quote collector\, cat-video aficionado\, and workshop facilitator. Registration is recommended\, but not required. \n 
URL:https://www.barrettlibrary.org/event/kaleidoscope-2/
END:VEVENT
BEGIN:VEVENT
DTSTART;TZID=America/New_York:20240619T180000
DTEND;TZID=America/New_York:20240619T190000
DTSTAMP:20260424T112006
CREATED:20240518T153208Z
LAST-MODIFIED:20240518T153628Z
UID:6490-1718820000-1718823600@www.barrettlibrary.org
SUMMARY:DIY Handmade Cards
DESCRIPTION:Join Lisa Flanagan at the Library as she guides you through the fun craft of making your own handmade greeting cards. We supply the materials. You must register for this class– space is limited.
URL:https://www.barrettlibrary.org/event/diy-handmade-cards-with-lisa-flanagan/
END:VEVENT
BEGIN:VEVENT
DTSTART;TZID=America/New_York:20240618T130000
DTEND;TZID=America/New_York:20240618T140000
DTSTAMP:20260424T112006
CREATED:20240513T150114Z
LAST-MODIFIED:20240513T150114Z
UID:6478-1718715600-1718719200@www.barrettlibrary.org
SUMMARY:Afternoon Book Club
DESCRIPTION:Our Afternoon Book Club meets at the Library. An option to join with Zoom is available\, as well. This month we will discuss The Maid by Nita Prose. If you’re interested in joining\, please call the Library for more details.
URL:https://www.barrettlibrary.org/event/afternoon-book-club-14/
END:VEVENT
BEGIN:VEVENT
DTSTART;TZID=America/New_York:20240618T101500
DTEND;TZID=America/New_York:20240618T104500
DTSTAMP:20260424T112006
CREATED:20240531T013955Z
LAST-MODIFIED:20240531T014112Z
UID:6501-1718705700-1718707500@www.barrettlibrary.org
SUMMARY:Baby & Me
DESCRIPTION:Baby & Me \nAges 0-2 \nTuesdays\, June 4th & 18th 10:15am \nA special story time for our youngest patrons and their grownups.  \nJoin us for stories\, songs\, and games!
URL:https://www.barrettlibrary.org/event/baby-me-35/
END:VEVENT
BEGIN:VEVENT
DTSTART;VALUE=DATE:20240617
DTEND;VALUE=DATE:20240618
DTSTAMP:20260424T112006
CREATED:20240521T201708Z
LAST-MODIFIED:20240521T201708Z
UID:6496-1718582400-1718668799@www.barrettlibrary.org
SUMMARY:Adult Take-Home Kit: Birdseed Ornaments
DESCRIPTION:Treat the wildlife in your yard with some bird seed ornaments. We will supply the materials. You must register to receive a kit. Supplies will be available for pickup beginning Monday\, June 17.
URL:https://www.barrettlibrary.org/event/adult-take-home-kit-birdseed-ornaments/
END:VEVENT
BEGIN:VEVENT
DTSTART;TZID=America/New_York:20240614T183000
DTEND;TZID=America/New_York:20240614T203000
DTSTAMP:20260424T112006
CREATED:20240507T160804Z
LAST-MODIFIED:20240507T160804Z
UID:6458-1718389800-1718397000@www.barrettlibrary.org
SUMMARY:Books and Bubbly
DESCRIPTION:Books & Bubbly is back! \nJoin us for this fundraiser at the Library on Fri\, June 14\, 6:30-8:30pm. \nSample tasty treats and beverages from local restaurants\, businesses\, and friends of the Library. \nEnjoy an evening with good company in a warm\, inviting atmosphere. \nTickets will go on sale May 15: $35 in advance; $40 at the door. Adults only\, age 21+.
URL:https://www.barrettlibrary.org/event/books-and-bubbly/
END:VEVENT
BEGIN:VEVENT
DTSTART;TZID=America/New_York:20240613T183000
DTEND;TZID=America/New_York:20240613T193000
DTSTAMP:20260424T112006
CREATED:20240513T145817Z
LAST-MODIFIED:20240513T145817Z
UID:6473-1718303400-1718307000@www.barrettlibrary.org
SUMMARY:Virtual Writing Group
DESCRIPTION:Join us on Zoom to discuss the art of writing while sharing work with the group. This month we will talk about prologues. When should you use them?
URL:https://www.barrettlibrary.org/event/virtual-writing-group-33/
END:VEVENT
END:VCALENDAR