BEGIN:VCALENDAR
VERSION:2.0
PRODID:-//Barrett Paradise Friendly Library - ECPv6.15.20//NONSGML v1.0//EN
CALSCALE:GREGORIAN
METHOD:PUBLISH
X-WR-CALNAME:Barrett Paradise Friendly Library
X-ORIGINAL-URL:https://www.barrettlibrary.org
X-WR-CALDESC:Events for Barrett Paradise Friendly Library
REFRESH-INTERVAL;VALUE=DURATION:PT1H
X-Robots-Tag:noindex
X-PUBLISHED-TTL:PT1H
BEGIN:VTIMEZONE
TZID:America/New_York
BEGIN:DAYLIGHT
TZOFFSETFROM:-0500
TZOFFSETTO:-0400
TZNAME:EDT
DTSTART:20220313T070000
END:DAYLIGHT
BEGIN:STANDARD
TZOFFSETFROM:-0400
TZOFFSETTO:-0500
TZNAME:EST
DTSTART:20221106T060000
END:STANDARD
BEGIN:DAYLIGHT
TZOFFSETFROM:-0500
TZOFFSETTO:-0400
TZNAME:EDT
DTSTART:20230312T070000
END:DAYLIGHT
BEGIN:STANDARD
TZOFFSETFROM:-0400
TZOFFSETTO:-0500
TZNAME:EST
DTSTART:20231105T060000
END:STANDARD
BEGIN:DAYLIGHT
TZOFFSETFROM:-0500
TZOFFSETTO:-0400
TZNAME:EDT
DTSTART:20240310T070000
END:DAYLIGHT
BEGIN:STANDARD
TZOFFSETFROM:-0400
TZOFFSETTO:-0500
TZNAME:EST
DTSTART:20241103T060000
END:STANDARD
END:VTIMEZONE
BEGIN:VEVENT
DTSTART;TZID=America/New_York:20231130T101500
DTEND;TZID=America/New_York:20231130T110000
DTSTAMP:20260425T071533
CREATED:20231020T170811Z
LAST-MODIFIED:20231020T170840Z
UID:6000-1701339300-1701342000@www.barrettlibrary.org
SUMMARY:Library Story Time
DESCRIPTION:Library Story Time \nAges 0-5 \nThursdays\, November 16th & 30th 10:15am \nJoin us in the children’s area for stories\, songs\, crafts\, and more.
URL:https://www.barrettlibrary.org/event/library-story-time-6/
END:VEVENT
BEGIN:VEVENT
DTSTART;TZID=America/New_York:20231128T190000
DTEND;TZID=America/New_York:20231128T200000
DTSTAMP:20260425T071533
CREATED:20231031T181047Z
LAST-MODIFIED:20231031T181047Z
UID:6028-1701198000-1701201600@www.barrettlibrary.org
SUMMARY:Virtual Evening Book
DESCRIPTION:Join our virtual Evening Book Club on Zoom. This month\, we will discuss Woman on Fire  by Lisa Barr. If you’re interested in joining\, please call the Library for more details. \n 
URL:https://www.barrettlibrary.org/event/virtual-evening-book-4/
END:VEVENT
BEGIN:VEVENT
DTSTART;TZID=America/New_York:20231121T130000
DTEND;TZID=America/New_York:20231121T140000
DTSTAMP:20260425T071533
CREATED:20231031T180836Z
LAST-MODIFIED:20231031T180836Z
UID:6026-1700571600-1700575200@www.barrettlibrary.org
SUMMARY:Afternoon Book Club
DESCRIPTION:Our Afternoon Book Club now meets at the Library! An option to join with Zoom is still available\, as well. This month\, we will discuss The Omega Factor by Steve Berry. If you’re interested in joining\, please call the Library for more details.
URL:https://www.barrettlibrary.org/event/afternoon-book-club-8/
END:VEVENT
BEGIN:VEVENT
DTSTART;TZID=America/New_York:20231121T101500
DTEND;TZID=America/New_York:20231121T104500
DTSTAMP:20260425T071533
CREATED:20231020T170528Z
LAST-MODIFIED:20231020T170528Z
UID:5996-1700561700-1700563500@www.barrettlibrary.org
SUMMARY:Baby & Me
DESCRIPTION:Baby & Me \nAges 0-2 \nTuesdays\, November 7th & 21st 10:15am \nA special story time for our youngest patrons and their grownups. \nJoin us for stories\, songs\, and games!
URL:https://www.barrettlibrary.org/event/baby-me-21/
END:VEVENT
BEGIN:VEVENT
DTSTART;TZID=America/New_York:20231121T100000
DTEND;TZID=America/New_York:20231121T150000
DTSTAMP:20260425T071533
CREATED:20231012T194744Z
LAST-MODIFIED:20231012T194744Z
UID:5986-1700560800-1700578800@www.barrettlibrary.org
SUMMARY:Rep Madden Satellite Office Hours
DESCRIPTION:State Representative Maureen Madden’s staff will hold satellite office hours at the Library the first week (Wed & Thu) and third week (Mon & Tue) each month from 10am-3pm to offer constituent services. For questions about services\, please call 570-894-7905 or visit her website.
URL:https://www.barrettlibrary.org/event/rep-madden-satellite-office-hours-6/
END:VEVENT
BEGIN:VEVENT
DTSTART;TZID=America/New_York:20231120T100000
DTEND;TZID=America/New_York:20231120T150000
DTSTAMP:20260425T071533
CREATED:20231012T194616Z
LAST-MODIFIED:20231012T194616Z
UID:5984-1700474400-1700492400@www.barrettlibrary.org
SUMMARY:Rep Madden Satellite Office Hours
DESCRIPTION:State Representative Maureen Madden’s staff will hold satellite office hours at the Library the first week (Wed & Thu) and third week (Mon & Tue) each month from 10am-3pm to offer constituent services. For questions about services\, please call 570-894-7905 or visit her website.
URL:https://www.barrettlibrary.org/event/rep-madden-satellite-office-hours-5/
END:VEVENT
BEGIN:VEVENT
DTSTART;VALUE=DATE:20231120
DTEND;VALUE=DATE:20231210
DTSTAMP:20260425T071533
CREATED:20231127T195025Z
LAST-MODIFIED:20231127T195025Z
UID:6057-1700438400-1702166399@www.barrettlibrary.org
SUMMARY:Basket Raffle!
DESCRIPTION:Our annual Basket Raffle will be on display at the Library from Mon\, Nov 20 through Sat\, Dec 9 (tickets may be purchased until 3pm on Dec 9). We have 52 beautiful baskets plus 5 premium prizes! $10 for a sheet of 25 tickets. Premium tickets are $2 each or 3 for $5. \nYou may enter online beginning Nov 27. \nThe drawing will be held on Sat\, Dec 9. It is not open to the public\, but will be streamed live on Facebook. We’ll post the link as the date gets closer. Winners will be notified the Monday after the drawing.
URL:https://www.barrettlibrary.org/event/basket-raffle-2/
END:VEVENT
BEGIN:VEVENT
DTSTART;VALUE=DATE:20231120
DTEND;VALUE=DATE:20231121
DTSTAMP:20260425T071533
CREATED:20231031T180708Z
LAST-MODIFIED:20231031T180708Z
UID:6024-1700438400-1700524799@www.barrettlibrary.org
SUMMARY:Adult Take-Home Craft: Thanksgiving Centerpiece
DESCRIPTION:Make a beautiful Thanksgiving centerpiece to add to your holiday table. We supply all the materials. You must register to receive a bag. Crafts will be available for pickup Monday\, November 20.
URL:https://www.barrettlibrary.org/event/adult-take-home-craft-thanksgiving-centerpiece/
END:VEVENT
BEGIN:VEVENT
DTSTART;TZID=America/New_York:20231116T101500
DTEND;TZID=America/New_York:20231116T110000
DTSTAMP:20260425T071533
CREATED:20231020T170647Z
LAST-MODIFIED:20231020T170647Z
UID:5998-1700129700-1700132400@www.barrettlibrary.org
SUMMARY:Library Story Time
DESCRIPTION:Library Story Time \nAges 0-5 \nThursdays\, November 16th & 30th 10:15am \nJoin us in the children’s area for stories\, songs\, crafts\, and more
URL:https://www.barrettlibrary.org/event/library-story-time-5/
END:VEVENT
BEGIN:VEVENT
DTSTART;TZID=America/New_York:20231115T180000
DTEND;TZID=America/New_York:20231115T190000
DTSTAMP:20260425T071533
CREATED:20231020T174746Z
LAST-MODIFIED:20231020T174746Z
UID:6007-1700071200-1700074800@www.barrettlibrary.org
SUMMARY:Cooking with Cranberries
DESCRIPTION:Cooking with Cranberries \nAges 6-11 \nWednesday\, November 15th 6pm \nLearn how to make two popular seasonal cranberry dishes\, Cranberry Sauce and Cranberry Relish. This hands-on cooking activity includes samples and recipes to bring home.  \nRegistration is required. Please call 570-595-7171 to register.
URL:https://www.barrettlibrary.org/event/cooking-with-cranberries/
END:VEVENT
BEGIN:VEVENT
DTSTART;TZID=America/New_York:20231109T183000
DTEND;TZID=America/New_York:20231109T193000
DTSTAMP:20260425T071533
CREATED:20231031T180604Z
LAST-MODIFIED:20231031T180604Z
UID:6022-1699554600-1699558200@www.barrettlibrary.org
SUMMARY:Virtual Writing Group
DESCRIPTION:Join us on Zoom to discuss the art of writing while sharing work with the group. 
URL:https://www.barrettlibrary.org/event/virtual-writing-group-27/
END:VEVENT
BEGIN:VEVENT
DTSTART;TZID=America/New_York:20231109T100000
DTEND;TZID=America/New_York:20231109T150000
DTSTAMP:20260425T071533
CREATED:20231012T194527Z
LAST-MODIFIED:20231012T194527Z
UID:5982-1699524000-1699542000@www.barrettlibrary.org
SUMMARY:Rep Madden Satellite Office Hours
DESCRIPTION:State Representative Maureen Madden’s staff will hold satellite office hours at the Library the first week (Wed & Thu) and third week (Mon & Tue) each month from 10am-3pm to offer constituent services. For questions about services\, please call 570-894-7905 or visit her website.
URL:https://www.barrettlibrary.org/event/rep-madden-satellite-office-hours-4/
END:VEVENT
BEGIN:VEVENT
DTSTART;TZID=America/New_York:20231108T180000
DTEND;TZID=America/New_York:20231108T190000
DTSTAMP:20260425T071533
CREATED:20231020T174518Z
LAST-MODIFIED:20231020T174518Z
UID:6005-1699466400-1699470000@www.barrettlibrary.org
SUMMARY:Teen Action Board
DESCRIPTION:T.A.B. \nTeens 12-18 \nWednesday\, November 8th 6pm \nJoin us for the first meeting of our newly- revived Teen Action Board. Learn how you can make serve your community\, make friends\, and earn community service hours all at the same time! Please call to register.
URL:https://www.barrettlibrary.org/event/teen-action-board/
END:VEVENT
BEGIN:VEVENT
DTSTART;TZID=America/New_York:20231108T100000
DTEND;TZID=America/New_York:20231108T150000
DTSTAMP:20260425T071533
CREATED:20231012T194415Z
LAST-MODIFIED:20231012T194415Z
UID:5980-1699437600-1699455600@www.barrettlibrary.org
SUMMARY:Rep Madden Satellite Office Hours
DESCRIPTION:State Representative Maureen Madden’s staff will hold satellite office hours at the Library the first week (Wed & Thu) and third week (Mon & Tue) each month from 10am-3pm to offer constituent services. For questions about services\, please call 570-894-7905 or visit her website.
URL:https://www.barrettlibrary.org/event/rep-madden-satellite-office-hours-3/
END:VEVENT
BEGIN:VEVENT
DTSTART;TZID=America/New_York:20231107T101500
DTEND;TZID=America/New_York:20231107T104500
DTSTAMP:20260425T071533
CREATED:20231020T170239Z
LAST-MODIFIED:20231020T170239Z
UID:5993-1699352100-1699353900@www.barrettlibrary.org
SUMMARY:Baby & Me
DESCRIPTION:Baby & Me \nAges 0-2 \nTuesdays\, November 7th & 21st 10:15am \nA special story time for our youngest patrons and their grownups. \nJoin us for stories\, songs\, and games!
URL:https://www.barrettlibrary.org/event/baby-me-20/
END:VEVENT
BEGIN:VEVENT
DTSTART;TZID=America/New_York:20231107T010000
DTEND;TZID=America/New_York:20231107T150000
DTSTAMP:20260425T071533
CREATED:20230927T203939Z
LAST-MODIFIED:20230927T203939Z
UID:5960-1699318800-1699369200@www.barrettlibrary.org
SUMMARY:Movie Day at the Library
DESCRIPTION:Come to the Library to watch a newly released movie with friends. This month we will watch Champions\, starring Woody Harrelson. 
URL:https://www.barrettlibrary.org/event/movie-day-at-the-library-11/
END:VEVENT
BEGIN:VEVENT
DTSTART;TZID=America/New_York:20231104T140000
DTEND;TZID=America/New_York:20231104T160000
DTSTAMP:20260425T071533
CREATED:20231021T191617Z
LAST-MODIFIED:20231021T191617Z
UID:6017-1699106400-1699113600@www.barrettlibrary.org
SUMMARY:Artist's Reception: Peter Gonze\, Photographer
DESCRIPTION:Join us for an Artist’s Reception at the Library on Sat\, Nov 4\, 2-4pm. Light refreshments will be served. \nFollow this link for a video montage of Peter Gonze’s stunning photography exhibit currently on display in the Weiler Family Community Room at Barrett Paradise Friendly Library: https://fb.watch/nPQs9zEZOL/
URL:https://www.barrettlibrary.org/event/artists-reception-peter-gonze-photographer/
END:VEVENT
BEGIN:VEVENT
DTSTART;TZID=America/New_York:20231101T163000
DTEND;TZID=America/New_York:20231101T173000
DTSTAMP:20260425T071533
CREATED:20231020T171023Z
LAST-MODIFIED:20231020T171023Z
UID:6003-1698856200-1698859800@www.barrettlibrary.org
SUMMARY:Preschool Play Date
DESCRIPTION:Preschool Play Date \nAges 0-5 \nWednesday\, November 1st 4:30pm \nCelebrate DiNovember with us!  \nCome to the library for stories\, songs\, and games to play with friends! There will be a short story time\, followed by time for you to explore activities with your children and their peers. Registration is encouraged. Please call 570-595-7171 to register.
URL:https://www.barrettlibrary.org/event/preschool-play-date-3/
END:VEVENT
BEGIN:VEVENT
DTSTART;TZID=America/New_York:20231101T080000
DTEND;TZID=America/New_York:20231212T170000
DTSTAMP:20260425T071533
CREATED:20231020T175432Z
LAST-MODIFIED:20231020T175432Z
UID:6010-1698825600-1702400400@www.barrettlibrary.org
SUMMARY:Tale on the Trail at Ice Lake
DESCRIPTION:Tale on the Trail at Ice Lake \nVisit the Barrett Township Community Park at Ice Lake to embark on this family reading adventure! Follow the trail behind the pavilion and turn right. Enjoy a picture book as you stroll along the path. The path is about 0.12 miles from beginning to end\, and then you can continue around the lake or turn around to return to the pavilion. The trail is mostly flat\, but rough and rocky. Very young children may need help or prefer to ride in a rugged stroller. This month\, look for the books about Fall Weather and Thanksgiving.
URL:https://www.barrettlibrary.org/event/tale-on-the-trail-at-ice-lake-5/
END:VEVENT
BEGIN:VEVENT
DTSTART;TZID=America/New_York:20231026T101500
DTEND;TZID=America/New_York:20231026T110000
DTSTAMP:20260425T071533
CREATED:20230828T224129Z
LAST-MODIFIED:20230828T224129Z
UID:5885-1698315300-1698318000@www.barrettlibrary.org
SUMMARY:Library Story Time
DESCRIPTION:Library Story Time \nAges 0-5 \nThursdays\, October 12th & 26th 10:15am \nJoin us in the children’s area for stories\, songs\, crafts\, and more!
URL:https://www.barrettlibrary.org/event/library-story-time-4/
END:VEVENT
BEGIN:VEVENT
DTSTART;TZID=America/New_York:20231024T190000
DTEND;TZID=America/New_York:20231024T200000
DTSTAMP:20260425T071533
CREATED:20230930T160734Z
LAST-MODIFIED:20230930T160734Z
UID:5968-1698174000-1698177600@www.barrettlibrary.org
SUMMARY:Virtual Evening Book
DESCRIPTION:Join our virtual evening book club on Zoom. This month\, we will discuss The Light Between Oceans  by M.L. Stedman. If you’re interested in joining\, please call the Library for more details.
URL:https://www.barrettlibrary.org/event/virtual-evening-book-3/
END:VEVENT
BEGIN:VEVENT
DTSTART;TZID=America/New_York:20231018T180000
DTEND;TZID=America/New_York:20231018T190000
DTSTAMP:20260425T071533
CREATED:20230906T222657Z
LAST-MODIFIED:20230906T222657Z
UID:5937-1697652000-1697655600@www.barrettlibrary.org
SUMMARY:Pumpkin Painting
DESCRIPTION:Pumpkin Painting \nAges 6-11 \nWednesday\, October 18th 6pm \nCalling all kids who love pumpkins and art! Join us for a fun evening of painting pumpkins.  \nWe’ll provide all the supplies you need\, including pumpkins\, acrylic paints\, brushes\, and glitter.  \nRegistration is required.  \nPlease call 570-595-7171 to register.
URL:https://www.barrettlibrary.org/event/pumpkin-painting/
END:VEVENT
BEGIN:VEVENT
DTSTART;TZID=America/New_York:20231017T130000
DTEND;TZID=America/New_York:20231017T140000
DTSTAMP:20260425T071533
CREATED:20230930T160642Z
LAST-MODIFIED:20230930T160642Z
UID:5966-1697547600-1697551200@www.barrettlibrary.org
SUMMARY:Afternoon Book Club
DESCRIPTION:Our Afternoon Book Club now meets at the Library! An option to join with Zoom is still available\, as well. This month\, we will discuss Frankenstein by Mary Shelley. If you’re interested in joining\, please call the Library for more details.
URL:https://www.barrettlibrary.org/event/afternoon-book-club-7/
END:VEVENT
BEGIN:VEVENT
DTSTART;TZID=America/New_York:20231017T101500
DTEND;TZID=America/New_York:20231017T104500
DTSTAMP:20260425T071533
CREATED:20230828T223731Z
LAST-MODIFIED:20230828T223731Z
UID:5880-1697537700-1697539500@www.barrettlibrary.org
SUMMARY:Baby & Me
DESCRIPTION:Baby & Me \nAges 0-2 \nTuesdays\, October 3rd & 17th 10:15am \nA special story time for our youngest patrons and their grownups.  \nJoin us for stories\, songs\, and games! 
URL:https://www.barrettlibrary.org/event/baby-me-19/
END:VEVENT
BEGIN:VEVENT
DTSTART;TZID=America/New_York:20231017T100000
DTEND;TZID=America/New_York:20231017T150000
DTSTAMP:20260425T071533
CREATED:20230906T160431Z
LAST-MODIFIED:20230906T160431Z
UID:5924-1697536800-1697554800@www.barrettlibrary.org
SUMMARY:Rep Madden Office Hours
DESCRIPTION:State Representative Maureen Madden’s staff will hold satellite office hours at the Library the first week (Wed & Thu) and third week (Mon & Tue) each month from 10am-3pm to offer constituent services. For questions about services\, please call 570-894-7905 or visit her website.
URL:https://www.barrettlibrary.org/event/rep-madden-office-hours-22/
END:VEVENT
BEGIN:VEVENT
DTSTART;TZID=America/New_York:20231016T180000
DTEND;TZID=America/New_York:20231016T190000
DTSTAMP:20260425T071533
CREATED:20230930T161209Z
LAST-MODIFIED:20230930T161209Z
UID:5972-1697479200-1697482800@www.barrettlibrary.org
SUMMARY:Healing Yoga
DESCRIPTION:Danielle Lane will guide you through a soothing\, mindful yoga experience which may include meditation\, sound bowls\, music\, and other elements. Appropriate for all levels. Space is limited: registration is required for each session.
URL:https://www.barrettlibrary.org/event/healing-yoga-2/
END:VEVENT
BEGIN:VEVENT
DTSTART;TZID=America/New_York:20231016T100000
DTEND;TZID=America/New_York:20231016T150000
DTSTAMP:20260425T071533
CREATED:20230906T160355Z
LAST-MODIFIED:20230906T160355Z
UID:5922-1697450400-1697468400@www.barrettlibrary.org
SUMMARY:Rep Madden Office Hours
DESCRIPTION:State Representative Maureen Madden’s staff will hold satellite office hours at the Library the first week (Wed & Thu) and third week (Mon & Tue) each month from 10am-3pm to offer constituent services. For questions about services\, please call 570-894-7905 or visit her website.
URL:https://www.barrettlibrary.org/event/rep-madden-office-hours-21/
END:VEVENT
BEGIN:VEVENT
DTSTART;VALUE=DATE:20231016
DTEND;VALUE=DATE:20231017
DTSTAMP:20260425T071533
CREATED:20230930T160523Z
LAST-MODIFIED:20230930T160523Z
UID:5964-1697414400-1697500799@www.barrettlibrary.org
SUMMARY:Adult Take-Home Craft: Pumpkin Spice Candle
DESCRIPTION:Get into the autumn spirit with a spicy-scented candle. We supply all the materials. You must register to receive a bag. Bags will be ready for pickup Monday\, October 16.
URL:https://www.barrettlibrary.org/event/adult-take-home-craft-pumpkin-spice-candle/
END:VEVENT
BEGIN:VEVENT
DTSTART;TZID=America/New_York:20231012T183000
DTEND;TZID=America/New_York:20231012T193000
DTSTAMP:20260425T071533
CREATED:20230930T160330Z
LAST-MODIFIED:20230930T160330Z
UID:5962-1697135400-1697139000@www.barrettlibrary.org
SUMMARY:Virtual Writing Group
DESCRIPTION:Join us on Zoom to discuss the art of writing while sharing work with the group.  \n 
URL:https://www.barrettlibrary.org/event/virtual-writing-group-26/
END:VEVENT
BEGIN:VEVENT
DTSTART;TZID=America/New_York:20231012T101500
DTEND;TZID=America/New_York:20231012T110000
DTSTAMP:20260425T071533
CREATED:20230828T224010Z
LAST-MODIFIED:20230828T224010Z
UID:5883-1697105700-1697108400@www.barrettlibrary.org
SUMMARY:Library Story Time
DESCRIPTION:Library Story Time \nAges 0-5 \nThursdays\, October 12th & 26th 10:15am \nJoin us in the children’s area for stories\, songs\, crafts\, and more!
URL:https://www.barrettlibrary.org/event/library-story-time-3/
END:VEVENT
END:VCALENDAR