BEGIN:VCALENDAR
VERSION:2.0
PRODID:-//Barrett Paradise Friendly Library - ECPv6.15.20//NONSGML v1.0//EN
CALSCALE:GREGORIAN
METHOD:PUBLISH
X-WR-CALNAME:Barrett Paradise Friendly Library
X-ORIGINAL-URL:https://www.barrettlibrary.org
X-WR-CALDESC:Events for Barrett Paradise Friendly Library
REFRESH-INTERVAL;VALUE=DURATION:PT1H
X-Robots-Tag:noindex
X-PUBLISHED-TTL:PT1H
BEGIN:VTIMEZONE
TZID:America/New_York
BEGIN:DAYLIGHT
TZOFFSETFROM:-0500
TZOFFSETTO:-0400
TZNAME:EDT
DTSTART:20210314T070000
END:DAYLIGHT
BEGIN:STANDARD
TZOFFSETFROM:-0400
TZOFFSETTO:-0500
TZNAME:EST
DTSTART:20211107T060000
END:STANDARD
BEGIN:DAYLIGHT
TZOFFSETFROM:-0500
TZOFFSETTO:-0400
TZNAME:EDT
DTSTART:20220313T070000
END:DAYLIGHT
BEGIN:STANDARD
TZOFFSETFROM:-0400
TZOFFSETTO:-0500
TZNAME:EST
DTSTART:20221106T060000
END:STANDARD
BEGIN:DAYLIGHT
TZOFFSETFROM:-0500
TZOFFSETTO:-0400
TZNAME:EDT
DTSTART:20230312T070000
END:DAYLIGHT
BEGIN:STANDARD
TZOFFSETFROM:-0400
TZOFFSETTO:-0500
TZNAME:EST
DTSTART:20231105T060000
END:STANDARD
END:VTIMEZONE
BEGIN:VEVENT
DTSTART;TZID=America/New_York:20220621T130000
DTEND;TZID=America/New_York:20220621T140000
DTSTAMP:20260425T112110
CREATED:20220521T170448Z
LAST-MODIFIED:20220521T170448Z
UID:4878-1655816400-1655820000@www.barrettlibrary.org
SUMMARY:Virtual Afternoon Book Club
DESCRIPTION:Join our virtual afternoon book club on Zoom. This month\, we will discuss Defending Jacob by William Landay. If you’re interested in joining\, please call the library for more details. \n 
URL:https://www.barrettlibrary.org/event/virtual-afternoon-book-club-9/
END:VEVENT
BEGIN:VEVENT
DTSTART;TZID=America/New_York:20220621T103000
DTEND;TZID=America/New_York:20220621T110000
DTSTAMP:20260425T112110
CREATED:20220504T171003Z
LAST-MODIFIED:20220504T171003Z
UID:4841-1655807400-1655809200@www.barrettlibrary.org
SUMMARY:Story Time at Ice Lake
DESCRIPTION:Story Time at Ice Lake \nAges 0-5 \nTuesdays in June 10:30AM-11AM \nAll children are welcome to join us under the pavilion at The Barrett Township Community Park at Ice Lake for stories\, songs\, and games!  \nRegistration is not required. If it is raining on story time day\, please check our Facebook page or call the library for updates about cancellations.
URL:https://www.barrettlibrary.org/event/story-time-at-ice-lake-3/
END:VEVENT
BEGIN:VEVENT
DTSTART;TZID=America/New_York:20220620T103000
DTEND;TZID=America/New_York:20220620T113000
DTSTAMP:20260425T112110
CREATED:20220504T172424Z
LAST-MODIFIED:20220504T172909Z
UID:4849-1655721000-1655724600@www.barrettlibrary.org
SUMMARY:Preschool Story Time at the Library
DESCRIPTION:Preschool Story Time at the Library \nAges 0-5 \nMondays\, June 6th\, 13th\, & 20th 10:30AM \nThe library is pleased to announce the return of storytime in the building! Please join Ms. Chelsea for stories and songs in the Weiler Family Community Room.  \nSpace is limited and sign ups are required for each three-week session. \nPlease call the library to register for this session.
URL:https://www.barrettlibrary.org/event/preschool-story-time-at-the-library-3/
END:VEVENT
BEGIN:VEVENT
DTSTART;TZID=America/New_York:20220614T103000
DTEND;TZID=America/New_York:20220614T110000
DTSTAMP:20260425T112110
CREATED:20220504T170851Z
LAST-MODIFIED:20220504T170851Z
UID:4839-1655202600-1655204400@www.barrettlibrary.org
SUMMARY:Story Time at Ice Lake
DESCRIPTION:Story Time at Ice Lake \nAges 0-5 \nTuesdays in June 10:30AM-11AM \nAll children are welcome to join us under the pavilion at The Barrett Township Community Park at Ice Lake for stories\, songs\, and games!  \nRegistration is not required. If it is raining on story time day\, please check our Facebook page or call the library for updates about cancellations.
URL:https://www.barrettlibrary.org/event/story-time-at-ice-lake-2/
END:VEVENT
BEGIN:VEVENT
DTSTART;TZID=America/New_York:20220613T103000
DTEND;TZID=America/New_York:20220613T110000
DTSTAMP:20260425T112110
CREATED:20220504T172210Z
LAST-MODIFIED:20220504T172210Z
UID:4847-1655116200-1655118000@www.barrettlibrary.org
SUMMARY:Preschool Story Time at the Library
DESCRIPTION:Preschool Story Time at the Library \nAges 0-5 \nMondays\, June 6th\, 13th\, & 20th 10:30AM \nThe library is pleased to announce the return of storytime in the building!  \nPlease join Ms. Chelsea for stories and songs in the Weiler Family Community Room. Space is limited and sign ups are required for each three-week session. \nPlease call the library to register for this session.
URL:https://www.barrettlibrary.org/event/preschool-story-time-at-the-library-2/
END:VEVENT
BEGIN:VEVENT
DTSTART;VALUE=DATE:20220613
DTEND;VALUE=DATE:20220614
DTSTAMP:20260425T112110
CREATED:20220521T170217Z
LAST-MODIFIED:20220521T170217Z
UID:4876-1655078400-1655164799@www.barrettlibrary.org
SUMMARY:Adult Take-Home Craft: Yarn Birds
DESCRIPTION:Add some wildlife to your décor. We’ll provide the supplies to make adorable yarn birds. Bags will be available Monday\, June 13th. *Note: you MUST call or email to reserve a bag. \n  \n 
URL:https://www.barrettlibrary.org/event/adult-take-home-craft-yarn-birds/
END:VEVENT
BEGIN:VEVENT
DTSTART;TZID=America/New_York:20220607T103000
DTEND;TZID=America/New_York:20220607T110000
DTSTAMP:20260425T112110
CREATED:20220504T170735Z
LAST-MODIFIED:20220504T170735Z
UID:4837-1654597800-1654599600@www.barrettlibrary.org
SUMMARY:Story Time at Ice Lake
DESCRIPTION:Story Time at Ice Lake \nAges 0-5 \nTuesdays in June 10:30AM-11AM \nAll children are welcome to join us under the pavilion at The Barrett Township Community Park at Ice Lake for stories\, songs\, and games!  \nRegistration is not required. If it is raining on story time day\, please check our Facebook page or call the library for updates about cancellations.
URL:https://www.barrettlibrary.org/event/story-time-at-ice-lake/
END:VEVENT
BEGIN:VEVENT
DTSTART;TZID=America/New_York:20220606T103000
DTEND;TZID=America/New_York:20220606T113000
DTSTAMP:20260425T112110
CREATED:20220504T171923Z
LAST-MODIFIED:20220504T171923Z
UID:4845-1654511400-1654515000@www.barrettlibrary.org
SUMMARY:Preschool Story Time at the Library
DESCRIPTION:Preschool Story Time at the Library \nAges 0-5 \nMondays\, June 6th\, 13th\, & 20th 10:30AM \nThe library is pleased to announce the return of storytime in the building!  \nPlease join Ms. Chelsea for stories and songs in the Weiler Family Community Room. Space is limited and sign ups are required for each three-week session. \nPlease call the library to register for this session.
URL:https://www.barrettlibrary.org/event/preschool-story-time-at-the-library/
END:VEVENT
BEGIN:VEVENT
DTSTART;TZID=America/New_York:20220531T190000
DTEND;TZID=America/New_York:20220531T200000
DTSTAMP:20260425T112110
CREATED:20220521T170112Z
LAST-MODIFIED:20220521T170112Z
UID:4874-1654023600-1654027200@www.barrettlibrary.org
SUMMARY:Virtual Evening Book Club
DESCRIPTION:Join our virtual evening book club on Zoom. This month\, we will discuss The Lions of Fifth Avenue by Fiona Davis. If you’re interested in joining\, please call the library for more details. \n 
URL:https://www.barrettlibrary.org/event/virtual-evening-book-club-9/
END:VEVENT
BEGIN:VEVENT
DTSTART;TZID=America/New_York:20220531T103000
DTEND;TZID=America/New_York:20220531T110000
DTSTAMP:20260425T112110
CREATED:20220418T163024Z
LAST-MODIFIED:20220418T163024Z
UID:4809-1653993000-1653994800@www.barrettlibrary.org
SUMMARY:Story Time at High Acres Park
DESCRIPTION:Story Time at High Acres Park \nAges 0-5 \nTuesdays in May 10:30AM \nAll children are welcome to join us under the pavilion at High Acres Park for stories\, songs\, and games!  \nRegistration is not required. If it is raining on story time day\, please check our Facebook page or call the library for updates about cancellations.
URL:https://www.barrettlibrary.org/event/story-time-at-high-acres-park-15/
END:VEVENT
BEGIN:VEVENT
DTSTART;VALUE=DATE:20220530
DTEND;VALUE=DATE:20220531
DTSTAMP:20260425T112110
CREATED:20220528T165158Z
LAST-MODIFIED:20220528T165419Z
UID:4881-1653868800-1653955199@www.barrettlibrary.org
SUMMARY:Memorial Day: LIBRARY CLOSED
DESCRIPTION:In observance of Memorial Day\, the Library is closed on Monday\, May 30.
URL:https://www.barrettlibrary.org/event/library-closed/
END:VEVENT
BEGIN:VEVENT
DTSTART;TZID=America/New_York:20220524T103000
DTEND;TZID=America/New_York:20220524T110000
DTSTAMP:20260425T112110
CREATED:20220418T162951Z
LAST-MODIFIED:20220418T162951Z
UID:4807-1653388200-1653390000@www.barrettlibrary.org
SUMMARY:Story Time at High Acres Park
DESCRIPTION:Story Time at High Acres Park \nAges 0-5 \nTuesdays in May 10:30AM \nAll children are welcome to join us under the pavilion at High Acres Park for stories\, songs\, and games!  \nRegistration is not required. If it is raining on story time day\, please check our Facebook page or call the library for updates about cancellations.
URL:https://www.barrettlibrary.org/event/story-time-at-high-acres-park-14/
END:VEVENT
BEGIN:VEVENT
DTSTART;TZID=America/New_York:20220523T103000
DTEND;TZID=America/New_York:20220523T113000
DTSTAMP:20260425T112110
CREATED:20220504T174333Z
LAST-MODIFIED:20220504T174333Z
UID:4857-1653301800-1653305400@www.barrettlibrary.org
SUMMARY:Preschool Story Time at the Library
DESCRIPTION:Preschool Story Time at the Library \nAges 0-5 \nMondays\, May 9th\, 16th & 23rd at 10:30AM \nThe library is pleased to announce the return of storytime in the building!  \nPlease join Ms. Chelsea for stories and songs in the Weiler Family Community Room.  \nSpace is limited and sign ups are required for each three-week session. Please call the library to register for this session.
URL:https://www.barrettlibrary.org/event/preschool-story-time-at-the-library-6/
END:VEVENT
BEGIN:VEVENT
DTSTART;TZID=America/New_York:20220517T103000
DTEND;TZID=America/New_York:20220517T113000
DTSTAMP:20260425T112110
CREATED:20220418T162839Z
LAST-MODIFIED:20220418T162839Z
UID:4805-1652783400-1652787000@www.barrettlibrary.org
SUMMARY:Story Time at High Acres Park
DESCRIPTION:Story Time at High Acres Park \nAges 0-5 \nTuesdays in May 10:30AM \nAll children are welcome to join us under the pavilion at High Acres Park for stories\, songs\, and games!  \nRegistration is not required. If it is raining on story time day\, please check our Facebook page or call the library for updates about cancellations.
URL:https://www.barrettlibrary.org/event/story-time-at-high-acres-park-13/
END:VEVENT
BEGIN:VEVENT
DTSTART;TZID=America/New_York:20220516T103000
DTEND;TZID=America/New_York:20220516T113000
DTSTAMP:20260425T112110
CREATED:20220504T174250Z
LAST-MODIFIED:20220504T174250Z
UID:4855-1652697000-1652700600@www.barrettlibrary.org
SUMMARY:Preschool Story Time at the Library
DESCRIPTION:Preschool Story Time at the Library \nAges 0-5 \nMondays\, May 9th\, 16th & 23rd at 10:30AM \nThe library is pleased to announce the return of storytime in the building!  \nPlease join Ms. Chelsea for stories and songs in the Weiler Family Community Room.  \nSpace is limited and sign ups are required for each three-week session. Please call the library to register for this session.
URL:https://www.barrettlibrary.org/event/preschool-story-time-at-the-library-5/
END:VEVENT
BEGIN:VEVENT
DTSTART;TZID=America/New_York:20220512T183000
DTEND;TZID=America/New_York:20220512T193000
DTSTAMP:20260425T112110
CREATED:20220406T195718Z
LAST-MODIFIED:20220406T195718Z
UID:4781-1652380200-1652383800@www.barrettlibrary.org
SUMMARY:Virtual Writing Group
DESCRIPTION:Join our virtual writing group! We discuss the art of writing\, while coming up with fun writing exercises every meeting. Register to receive the Zoom link.
URL:https://www.barrettlibrary.org/event/virtual-writing-group-11/
END:VEVENT
BEGIN:VEVENT
DTSTART;TZID=America/New_York:20220510T103000
DTEND;TZID=America/New_York:20220510T110000
DTSTAMP:20260425T112110
CREATED:20220418T162740Z
LAST-MODIFIED:20220418T162740Z
UID:4803-1652178600-1652180400@www.barrettlibrary.org
SUMMARY:Story Time at High Acres Park
DESCRIPTION:Story Time at High Acres Park \nAges 0-5 \nTuesdays in May 10:30AM \nAll children are welcome to join us under the pavilion at High Acres Park for stories\, songs\, and games!  \nRegistration is not required. If it is raining on story time day\, please check our Facebook page or call the library for updates about cancellations.
URL:https://www.barrettlibrary.org/event/story-time-at-high-acres-park-12/
END:VEVENT
BEGIN:VEVENT
DTSTART;TZID=America/New_York:20220509T103000
DTEND;TZID=America/New_York:20220509T113000
DTSTAMP:20260425T112110
CREATED:20220504T174150Z
LAST-MODIFIED:20220504T174209Z
UID:4853-1652092200-1652095800@www.barrettlibrary.org
SUMMARY:Preschool Story Time at the Library
DESCRIPTION:Preschool Story Time at the Library \nAges 0-5 \nMondays\,May 9th\, 16th & 23rd at 10:30AM \nThe library is pleased to announce the return of storytime in the building!  \nPlease join Ms. Chelsea for stories and songs in the Weiler Family Community Room.  \nSpace is limited and sign ups are required for each three-week session. Please call the library to register for this session.
URL:https://www.barrettlibrary.org/event/preschool-story-time-at-the-library-4/
END:VEVENT
BEGIN:VEVENT
DTSTART;VALUE=DATE:20220509
DTEND;VALUE=DATE:20220510
DTSTAMP:20260425T112110
CREATED:20220406T195530Z
LAST-MODIFIED:20220406T195530Z
UID:4779-1652054400-1652140799@www.barrettlibrary.org
SUMMARY:Adult Take-Home Craft: Adult Coloring Kit
DESCRIPTION:Take a moment to relax and unwind by coloring beautiful adult coloring sheets. Bags will be available Monday\, May 9th. \n 
URL:https://www.barrettlibrary.org/event/adult-take-home-craft-adult-coloring-kit/
END:VEVENT
BEGIN:VEVENT
DTSTART;TZID=America/New_York:20220507T190000
DTEND;TZID=America/New_York:20220507T200000
DTSTAMP:20260425T112110
CREATED:20220420T183106Z
LAST-MODIFIED:20220420T183106Z
UID:4822-1651950000-1651953600@www.barrettlibrary.org
SUMMARY:Saturday Night Library: Spring Flower Zentangle
DESCRIPTION:Saturday Night Library: Spring Flower Zentangle \nAges 6-11 \nSaturday\, May 7th 7PM on Zoom \nUse watercolors\, ink\, and your imagination to design a beautiful flower! This process-art experience will help you relax as you create. Pickup supplies at the library beginning May 4th. Join us on Zoom on Saturday\, May 7th and we will paint together! Please email chelseabpfl@gmail.com to register.
URL:https://www.barrettlibrary.org/event/saturday-night-library-spring-flower-zentangle-2/
END:VEVENT
BEGIN:VEVENT
DTSTART;TZID=America/New_York:20220503T103000
DTEND;TZID=America/New_York:20220503T110000
DTSTAMP:20260425T112110
CREATED:20220418T162508Z
LAST-MODIFIED:20220418T162508Z
UID:4800-1651573800-1651575600@www.barrettlibrary.org
SUMMARY:Story Time at High Acres Park
DESCRIPTION:Story Time at High Acres Park \nAges 0-5 \nTuesdays in May 10:30AM \nAll children are welcome to join us under the pavilion at High Acres Park for stories\, songs\, and games!  \nRegistration is not required. If it is raining on story time day\, please check our Facebook page or call the library for updates about cancellations.
URL:https://www.barrettlibrary.org/event/story-time-at-high-acres-park-11/
END:VEVENT
BEGIN:VEVENT
DTSTART;VALUE=DATE:20220502
DTEND;VALUE=DATE:20220503
DTSTAMP:20260425T112110
CREATED:20220418T163128Z
LAST-MODIFIED:20220418T163128Z
UID:4811-1651449600-1651535999@www.barrettlibrary.org
SUMMARY:Cruise Into Kindergarten- TO GO!
DESCRIPTION:Cruise Into Kindergarten- TO GO! \nPick up begins May 2nd  \nThis program is on a waitlist. Please call 570-595-7171 to be added to the waiting list. \n“Shapes and Patterns” \nThis month’s activities will help you and your child explore important mathematical concepts. \nCruise into Kindergarten is an interactive story time which features stories\, music\, creative play and exploration.  \nThe activities support school readiness and the PA Pre-K Standards for literacy\, math\, science and many other skills.  \nThis is an ongoing series that runs from September 2021 through June 2022. \nEach month you will receive a to-go bag of activities that support school readiness.  \nA special virtual children’s area will also be available with links to games\, videos\, and other websites for further exploration.
URL:https://www.barrettlibrary.org/event/cruise-into-kindergarten-to-go-6/
END:VEVENT
BEGIN:VEVENT
DTSTART;VALUE=DATE:20220502
DTEND;VALUE=DATE:20220503
DTSTAMP:20260425T112110
CREATED:20220418T162350Z
LAST-MODIFIED:20220418T162350Z
UID:4798-1651449600-1651535999@www.barrettlibrary.org
SUMMARY:May Take and Make Projects for Children
DESCRIPTION:May Take and Make Projects \nApril showers brought May flowers! Something fun for kids of all ages!  \nPick-up a bag from the children’s area\, then take it home and let your creativity loose!  \nBags are available on a first-come\, first-served basis. \nAges 0-5 Coffee Filter Flowers \nAges 6-11 Magazine Flowers
URL:https://www.barrettlibrary.org/event/may-take-and-make-projects-for-children/
END:VEVENT
BEGIN:VEVENT
DTSTART;TZID=America/New_York:20220426T190000
DTEND;TZID=America/New_York:20220426T200000
DTSTAMP:20260425T112110
CREATED:20220406T195024Z
LAST-MODIFIED:20220406T195024Z
UID:4776-1650999600-1651003200@www.barrettlibrary.org
SUMMARY:Virtual Evening Book Club
DESCRIPTION:Join our virtual evening book club on Zoom. This month\, we will discuss The Good Sister by Sally Hepworth. If you’re interested in joining\, please call the library for more details. \n  \n 
URL:https://www.barrettlibrary.org/event/virtual-evening-book-club-8/
END:VEVENT
BEGIN:VEVENT
DTSTART;TZID=America/New_York:20220426T103000
DTEND;TZID=America/New_York:20220426T110000
DTSTAMP:20260425T112110
CREATED:20220316T190131Z
LAST-MODIFIED:20220316T190131Z
UID:4756-1650969000-1650970800@www.barrettlibrary.org
SUMMARY:Story Time at High Acres Park
DESCRIPTION:Story Time at High Acres Park \nAges 0-5 \nTuesdays in April 10:30AM \nAll children are welcome to join us under the pavilion at High Acres Park for stories\, songs\, and games! \nRegistration is not required. If it is raining on story time day\, please check our Facebook page or call the library for updates about cancellations.
URL:https://www.barrettlibrary.org/event/story-time-at-high-acres-park-10/
END:VEVENT
BEGIN:VEVENT
DTSTART;TZID=America/New_York:20220423T190000
DTEND;TZID=America/New_York:20220423T193000
DTSTAMP:20260425T112110
CREATED:20220316T184811Z
LAST-MODIFIED:20220316T184811Z
UID:4747-1650740400-1650742200@www.barrettlibrary.org
SUMMARY:Saturday Night Library: Reduce\, Reuse\, Recycle! 
DESCRIPTION:Saturday Night Library: Reduce\, Reuse\, Recycle!  \nAges 6-11 \nSaturday\, April 23rd 7PM \nCelebrate Earth Day with us! This interactive reader’s theater program puts you in the spotlight!  \nEach participant will be assigned a role for the short play\, “Reduce\, Reuse\, Recycle\,” which will teach us about the importance of caring for our planet!  \nDesign your set and costume on your own\, practice your lines\, and then we will all meet together on Zoom to present our show.  \nThere are lots of different parts to choose from\, from large speaking parts to a sound effects specialist!  \nThere is something for everyone\, and you will have a chance to choose your part on a first-come\, first-choice basis.  \nEmail chelseabpfl@gmail.com to register. You will receive a copy of the script upon registration.
URL:https://www.barrettlibrary.org/event/saturday-night-library-reduce-reuse-recycle/
END:VEVENT
BEGIN:VEVENT
DTSTART;VALUE=DATE:20220423
DTEND;VALUE=DATE:20220424
DTSTAMP:20260425T112110
CREATED:20220418T164517Z
LAST-MODIFIED:20220418T164517Z
UID:4819-1650672000-1650758399@www.barrettlibrary.org
SUMMARY:Earth Day Cleanup Kits
DESCRIPTION:Earth Day Cleanup Kits \nThe Sierra Club of Nevada is partnering with various community organizations to promote local clean-up events in the month of April. You may pick up a clean-up kit from the library while supplies last. Inside you will find a trash bag\, protective gloves\, a safety vest\, and information about the Sierra Club’s mission and local community clean-up events. Host your own clean-up\, join in with your community\, or just go solo! Whatever you choose\, the Earth will be cleaner thanks to you!
URL:https://www.barrettlibrary.org/event/earth-day-cleanup-kits/
END:VEVENT
BEGIN:VEVENT
DTSTART;VALUE=DATE:20220422
DTEND;VALUE=DATE:20220423
DTSTAMP:20260425T112110
CREATED:20220406T194624Z
LAST-MODIFIED:20220406T195118Z
UID:4773-1650585600-1650671999@www.barrettlibrary.org
SUMMARY:Earth Day Sunflowers
DESCRIPTION:Plant your own sunflowers to celebrate Earth Day. We will supply the materials you’ll need to brighten up your yard with gorgeous flowers. Bags will be available Friday\, April 22nd. \n 
URL:https://www.barrettlibrary.org/event/earth-day-sunflowers/
END:VEVENT
BEGIN:VEVENT
DTSTART;TZID=America/New_York:20220419T130000
DTEND;TZID=America/New_York:20220419T140000
DTSTAMP:20260425T112110
CREATED:20220406T194438Z
LAST-MODIFIED:20220406T194438Z
UID:4771-1650373200-1650376800@www.barrettlibrary.org
SUMMARY:Virtual Afternoon Book Club
DESCRIPTION:Join our virtual afternoon book club on Zoom. This month\, we will discuss The Thursday Murder Club by Richard Osman. If you’re interested in joining\, please call the library for more details.
URL:https://www.barrettlibrary.org/event/virtual-afternoon-book-club-8/
END:VEVENT
BEGIN:VEVENT
DTSTART;TZID=America/New_York:20220419T103000
DTEND;TZID=America/New_York:20220419T110000
DTSTAMP:20260425T112110
CREATED:20220316T185911Z
LAST-MODIFIED:20220316T185911Z
UID:4754-1650364200-1650366000@www.barrettlibrary.org
SUMMARY:Story Time at High Acres Park
DESCRIPTION:Story Time at High Acres Park \nAges 0-5 \nTuesdays in April 10:30AM \nAll children are welcome to join us under the pavilion at High Acres Park for stories\, songs\, and games!  \nRegistration is not required. If it is raining on story time day\, please check our Facebook page or call the library for updates about cancellations.
URL:https://www.barrettlibrary.org/event/story-time-at-high-acres-park-9/
END:VEVENT
END:VCALENDAR