BEGIN:VCALENDAR
VERSION:2.0
PRODID:-//Barrett Paradise Friendly Library - ECPv6.15.20//NONSGML v1.0//EN
CALSCALE:GREGORIAN
METHOD:PUBLISH
X-WR-CALNAME:Barrett Paradise Friendly Library
X-ORIGINAL-URL:https://www.barrettlibrary.org
X-WR-CALDESC:Events for Barrett Paradise Friendly Library
REFRESH-INTERVAL;VALUE=DURATION:PT1H
X-Robots-Tag:noindex
X-PUBLISHED-TTL:PT1H
BEGIN:VTIMEZONE
TZID:America/New_York
BEGIN:DAYLIGHT
TZOFFSETFROM:-0500
TZOFFSETTO:-0400
TZNAME:EDT
DTSTART:20220313T070000
END:DAYLIGHT
BEGIN:STANDARD
TZOFFSETFROM:-0400
TZOFFSETTO:-0500
TZNAME:EST
DTSTART:20221106T060000
END:STANDARD
BEGIN:DAYLIGHT
TZOFFSETFROM:-0500
TZOFFSETTO:-0400
TZNAME:EDT
DTSTART:20230312T070000
END:DAYLIGHT
BEGIN:STANDARD
TZOFFSETFROM:-0400
TZOFFSETTO:-0500
TZNAME:EST
DTSTART:20231105T060000
END:STANDARD
BEGIN:DAYLIGHT
TZOFFSETFROM:-0500
TZOFFSETTO:-0400
TZNAME:EDT
DTSTART:20240310T070000
END:DAYLIGHT
BEGIN:STANDARD
TZOFFSETFROM:-0400
TZOFFSETTO:-0500
TZNAME:EST
DTSTART:20241103T060000
END:STANDARD
END:VTIMEZONE
BEGIN:VEVENT
DTSTART;TZID=America/New_York:20230620T100000
DTEND;TZID=America/New_York:20230620T150000
DTSTAMP:20260425T075745
CREATED:20230522T172211Z
LAST-MODIFIED:20230522T172211Z
UID:5607-1687255200-1687273200@www.barrettlibrary.org
SUMMARY:Rep Madden Office Hours
DESCRIPTION:State Representative Maureen Madden’s staff will hold satellite office hours at the Library the first week (Wed & Thu) and third week (Mon & Tue) each month from 10am-3pm to offer constituent services. For questions about services\, please call 570-894-7905 or visit her website.
URL:https://www.barrettlibrary.org/event/rep-madden-office-hours-6/
END:VEVENT
BEGIN:VEVENT
DTSTART;TZID=America/New_York:20230617T130000
DTEND;TZID=America/New_York:20230617T160000
DTSTAMP:20260425T075745
CREATED:20230427T173900Z
LAST-MODIFIED:20230427T173900Z
UID:5561-1687006800-1687017600@www.barrettlibrary.org
SUMMARY:Pre-Lego Building Party
DESCRIPTION:Pre-Lego Building Party \nAll Ages \nSaturday\, June 17th 1PM-4PM \nChildren of all ages and the young at heart are invited to join us for a play time reminiscent of the days before Legos.  \nHave fun building with wooden blocks\, tinker toys\, and Lincoln Logs.  \nThis program is being presented in conjunction with the Barrett Township Historical Society.
URL:https://www.barrettlibrary.org/event/pre-lego-building-party/
END:VEVENT
BEGIN:VEVENT
DTSTART;TZID=America/New_York:20230615T103000
DTEND;TZID=America/New_York:20230615T111500
DTSTAMP:20260425T075745
CREATED:20230427T172505Z
LAST-MODIFIED:20230427T173550Z
UID:5548-1686825000-1686827700@www.barrettlibrary.org
SUMMARY:'I Hate Potatoes' Story Time
DESCRIPTION:Story Time at the Library \nAges 0-5 \nThursdays\, June 8th\, 15th\, 22nd\, and 29th 10:30AM-11:15AM \nPlease join us for a Special Story Time on  \nThursday\, June 15th with Kaylatime Valdeandez\, Author of I Hate Potatoes.
URL:https://www.barrettlibrary.org/event/5548/
END:VEVENT
BEGIN:VEVENT
DTSTART;TZID=America/New_York:20230614T150000
DTEND;TZID=America/New_York:20230614T153000
DTSTAMP:20260425T075745
CREATED:20230427T174022Z
LAST-MODIFIED:20230607T183459Z
UID:5563-1686754800-1686756600@www.barrettlibrary.org
SUMMARY:Shake\, Rattle\, and Read! (canceled today)
DESCRIPTION:Shake\, Rattle\, and Read! \nAges 0-5 \nWednesdays\, June 14th (canceled today) & 28th 3:00PM. \nTogether we will boost our early literacy skills with songs\, stories\, and movement. Drop-ins are welcome. 
URL:https://www.barrettlibrary.org/event/shake-rattle-and-read-3/
END:VEVENT
BEGIN:VEVENT
DTSTART;TZID=America/New_York:20230608T183000
DTEND;TZID=America/New_York:20230608T193000
DTSTAMP:20260425T075745
CREATED:20230530T154842Z
LAST-MODIFIED:20230530T154842Z
UID:5629-1686249000-1686252600@www.barrettlibrary.org
SUMMARY:Virtual Writing Group
DESCRIPTION:Join us on Zoom to discuss the art of writing while sharing work with the group.  \n 
URL:https://www.barrettlibrary.org/event/virtual-writing-group-22/
END:VEVENT
BEGIN:VEVENT
DTSTART;TZID=America/New_York:20230608T183000
DTEND;TZID=America/New_York:20230608T193000
DTSTAMP:20260425T075745
CREATED:20230427T162311Z
LAST-MODIFIED:20230427T162311Z
UID:5540-1686249000-1686252600@www.barrettlibrary.org
SUMMARY:Virtual Writing Group
DESCRIPTION:Join us on Zoom to discuss the art of writing while sharing work with the group. 
URL:https://www.barrettlibrary.org/event/virtual-writing-group-21/
END:VEVENT
BEGIN:VEVENT
DTSTART;TZID=America/New_York:20230608T113000
DTEND;TZID=America/New_York:20230608T120000
DTSTAMP:20260425T075745
CREATED:20230603T203019Z
LAST-MODIFIED:20230603T203019Z
UID:5641-1686223800-1686225600@www.barrettlibrary.org
SUMMARY:Wee Ones Wiggle
DESCRIPTION:Wee Ones Wiggle \nAges 0-5 \nThursdays\, June 8th\, 22nd\, and 29th 11:30AM-12PM (we will not meet on June 15th) \nKids need to move and be active to stay healthy. Join us for a high-energy program filled with dancing\, shaking\, and singing.
URL:https://www.barrettlibrary.org/event/wee-ones-wiggle-10/
END:VEVENT
BEGIN:VEVENT
DTSTART;TZID=America/New_York:20230608T103000
DTEND;TZID=America/New_York:20230608T111500
DTSTAMP:20260425T075745
CREATED:20230427T172417Z
LAST-MODIFIED:20230427T172417Z
UID:5546-1686220200-1686222900@www.barrettlibrary.org
SUMMARY:Story Time
DESCRIPTION:Story Time at the Library \nAges 0-5 \nThursdays\, June 8th\, 15th\, 22nd\, and 29th 10:30AM-11:15AM \nPlease join us for stories\, songs\, and games!
URL:https://www.barrettlibrary.org/event/story-time-4/
END:VEVENT
BEGIN:VEVENT
DTSTART;TZID=America/New_York:20230608T100000
DTEND;TZID=America/New_York:20230608T150000
DTSTAMP:20260425T075745
CREATED:20230522T172008Z
LAST-MODIFIED:20230522T172008Z
UID:5603-1686218400-1686236400@www.barrettlibrary.org
SUMMARY:Rep Madden Office Hours
DESCRIPTION:State Representative Maureen Madden’s staff will hold satellite office hours at the Library the first week (Wed & Thu) and third week (Mon & Tue) each month from 10am-3pm to offer constituent services. For questions about services\, please call 570-894-7905 or visit her website.
URL:https://www.barrettlibrary.org/event/rep-madden-office-hours-4/
END:VEVENT
BEGIN:VEVENT
DTSTART;TZID=America/New_York:20230607T100000
DTEND;TZID=America/New_York:20230607T150000
DTSTAMP:20260425T075745
CREATED:20230522T171920Z
LAST-MODIFIED:20230522T171920Z
UID:5601-1686132000-1686150000@www.barrettlibrary.org
SUMMARY:Rep Madden Office Hours
DESCRIPTION:State Representative Maureen Madden’s staff will hold satellite office hours at the Library the first week (Wed & Thu) and third week (Mon & Tue) each month from 10am-3pm to offer constituent services. For questions about services\, please call 570-894-7905 or visit her website.
URL:https://www.barrettlibrary.org/event/rep-madden-office-hours-3/
END:VEVENT
BEGIN:VEVENT
DTSTART;TZID=America/New_York:20230606T130000
DTEND;TZID=America/New_York:20230606T150000
DTSTAMP:20260425T075745
CREATED:20230427T161932Z
LAST-MODIFIED:20230502T192328Z
UID:5538-1686056400-1686063600@www.barrettlibrary.org
SUMMARY:Movie Day at the Library
DESCRIPTION:Movie Day is back! Come to the Library to watch a newly released movie with friends. This month we will watch The Whale\, starring Brendan Fraser.
URL:https://www.barrettlibrary.org/event/movie-day-at-the-library-6/
END:VEVENT
BEGIN:VEVENT
DTSTART;TZID=America/New_York:20230606T103000
DTEND;TZID=America/New_York:20230606T110000
DTSTAMP:20260425T075745
CREATED:20230427T172207Z
LAST-MODIFIED:20230427T172207Z
UID:5542-1686047400-1686049200@www.barrettlibrary.org
SUMMARY:Baby & Me
DESCRIPTION:Baby & Me \nAges 0-2 \nTuesdays\, June 6th & 20th 10:30am \nA special story time for our youngest patrons and their grownups.  \nJoin us for stories\, songs\, and games! 
URL:https://www.barrettlibrary.org/event/baby-me-14/
END:VEVENT
BEGIN:VEVENT
DTSTART;TZID=America/New_York:20230605T180000
DTEND;TZID=America/New_York:20230605T190000
DTSTAMP:20260425T075745
CREATED:20230427T173655Z
LAST-MODIFIED:20230427T173655Z
UID:5557-1685988000-1685991600@www.barrettlibrary.org
SUMMARY:Lego Challenges
DESCRIPTION:Lego Challenges \nAges 6-11 \nMonday\, June 5th 6PM \nCalling all LEGO fans! Join us for a fun-filled evening of LEGO challenges. We will have a variety of challenges for all levels of experience\, so everyone can participate. \nWe will have a variety of LEGO bricks and pieces available\, so you can use your imagination and create anything you can think of. This is a great opportunity for kids to have fun\, learn new skills\, and use their creativity.
URL:https://www.barrettlibrary.org/event/lego-challenges-2/
END:VEVENT
BEGIN:VEVENT
DTSTART;TZID=America/New_York:20230530T190000
DTEND;TZID=America/New_York:20230530T200000
DTSTAMP:20260425T075745
CREATED:20230427T161807Z
LAST-MODIFIED:20230427T162116Z
UID:5536-1685473200-1685476800@www.barrettlibrary.org
SUMMARY:Virtual Evening Book Club
DESCRIPTION:Join our virtual evening book club on Zoom. This month\, we will discuss Rock Paper Scissors by Alice Feeney. If you’re interested in joining\, please call the Library for more details.
URL:https://www.barrettlibrary.org/event/virtual-evening-book-club-17/
END:VEVENT
BEGIN:VEVENT
DTSTART;VALUE=DATE:20230529
DTEND;VALUE=DATE:20230530
DTSTAMP:20260425T075745
CREATED:20230517T185945Z
LAST-MODIFIED:20230517T185945Z
UID:5592-1685318400-1685404799@www.barrettlibrary.org
SUMMARY:Library Closed in observance of Memorial Day
DESCRIPTION:In observance of Memorial Day\, the Library is closed on Monday\, May 29.
URL:https://www.barrettlibrary.org/event/library-closed-in-observance-of-memorial-day/
END:VEVENT
BEGIN:VEVENT
DTSTART;TZID=America/New_York:20230525T113000
DTEND;TZID=America/New_York:20230525T120000
DTSTAMP:20260425T075745
CREATED:20230304T210449Z
LAST-MODIFIED:20230304T210449Z
UID:5435-1685014200-1685016000@www.barrettlibrary.org
SUMMARY:Wee Ones Wiggle
DESCRIPTION:Wee Ones Wiggle \nAges 0-5 \nThursdays after Story Time 11:30am-12:00pm \nKids need to move and be active to stay healthy. Join us for a high-energy program filled with dancing\, shaking\, and singing.
URL:https://www.barrettlibrary.org/event/wee-ones-wiggle-9/
END:VEVENT
BEGIN:VEVENT
DTSTART;TZID=America/New_York:20230525T103000
DTEND;TZID=America/New_York:20230525T113000
DTSTAMP:20260425T075745
CREATED:20230304T202344Z
LAST-MODIFIED:20230304T202344Z
UID:5421-1685010600-1685014200@www.barrettlibrary.org
SUMMARY:Story Time at the Library
DESCRIPTION:Story Time at the Library \nAges 0-5 \nThursdays\, May 11th\, 18th\, & 25th 10:30AM-11:30AM \nPlease join us for stories and songs in the Weiler Family Community Room.  \nSpace is limited. Registration is required.
URL:https://www.barrettlibrary.org/event/story-time-at-the-library-19/
END:VEVENT
BEGIN:VEVENT
DTSTART;TZID=America/New_York:20230524T150000
DTEND;TZID=America/New_York:20230524T154500
DTSTAMP:20260425T075745
CREATED:20230422T152238Z
LAST-MODIFIED:20230422T152238Z
UID:5522-1684940400-1684943100@www.barrettlibrary.org
SUMMARY:Shake\, Rattle\, and Read!
DESCRIPTION:Shake\, Rattle\, and Read! \nAges 0-5 \nWednesdays\, May 10th & 24th 3:00PM \nTogether we will boost our early literacy skills with songs\, stories\, and movement. Drop-ins are welcome. 
URL:https://www.barrettlibrary.org/event/shake-rattle-and-read-2/
END:VEVENT
BEGIN:VEVENT
DTSTART;TZID=America/New_York:20230522T130000
DTEND;TZID=America/New_York:20230522T140000
DTSTAMP:20260425T075745
CREATED:20230304T211059Z
LAST-MODIFIED:20230304T211059Z
UID:5439-1684760400-1684764000@www.barrettlibrary.org
SUMMARY:Block Party
DESCRIPTION:Block Parties \nAges 0-5 \nMondays\, May 8th & 22nd  1:00PM \nBuilding with blocks develops a child’s math and science skills\, and is lots of fun! \nBring your children to a block party and build\, talk\, explore and create together. \nAll you need is your imagination. Registration is required.
URL:https://www.barrettlibrary.org/event/block-party-5/
END:VEVENT
BEGIN:VEVENT
DTSTART;TZID=America/New_York:20230520T130000
DTEND;TZID=America/New_York:20230520T160000
DTSTAMP:20260425T075745
CREATED:20230502T173510Z
LAST-MODIFIED:20230518T212151Z
UID:5570-1684587600-1684598400@www.barrettlibrary.org
SUMMARY:Local Author Meet & Greet!
DESCRIPTION:Stop by the Weiler Family Community Room for an opportunity to chat with several local authors in an informal setting! These talented writers will be available all afternoon to discuss their books and answer your questions. Most will have copies of their books for sale. Our line up of authors includes John Abel\, John Cafarella\, Mary Funari\, Danny Marvin\, Suzanne McCool\, Mary Anne Moore\, and Jackie & Darryl Speicher. Their writings cover fiction and non-fiction in a variety of genres & topics such as realistic\, historical\, adventure\, paranormal\, avian\, and more! Search their names in our online catalog to view info about their books. \n  \n 
URL:https://www.barrettlibrary.org/event/local-author-meet-greet/
END:VEVENT
BEGIN:VEVENT
DTSTART;TZID=America/New_York:20230518T113000
DTEND;TZID=America/New_York:20230518T120000
DTSTAMP:20260425T075745
CREATED:20230304T202548Z
LAST-MODIFIED:20230304T202548Z
UID:5429-1684409400-1684411200@www.barrettlibrary.org
SUMMARY:Wee Ones Wiggle
DESCRIPTION:Wee Ones Wiggle \nAges 1-5 \nThursdays after Story Time 11:30am-12:00pm \nKids need to move and be active to stay healthy.  \nJoin us for a high-energy program filled with dancing\, shaking\, and singing.
URL:https://www.barrettlibrary.org/event/wee-ones-wiggle-8/
END:VEVENT
BEGIN:VEVENT
DTSTART;TZID=America/New_York:20230518T103000
DTEND;TZID=America/New_York:20230518T113000
DTSTAMP:20260425T075745
CREATED:20230304T202255Z
LAST-MODIFIED:20230304T202255Z
UID:5418-1684405800-1684409400@www.barrettlibrary.org
SUMMARY:Story Time at the Library
DESCRIPTION:Story Time at the Library \nAges 0-5 \nThursdays\, May 11th\, 18th\, & 25th 10:30AM-11:30AM \nPlease join us for stories and songs in the Weiler Family Community Room.  \nSpace is limited. Registration is required.
URL:https://www.barrettlibrary.org/event/story-time-at-the-library-18/
END:VEVENT
BEGIN:VEVENT
DTSTART;TZID=America/New_York:20230517T180000
DTEND;TZID=America/New_York:20230517T190000
DTSTAMP:20260425T075745
CREATED:20230422T155644Z
LAST-MODIFIED:20230422T155859Z
UID:5526-1684346400-1684350000@www.barrettlibrary.org
SUMMARY:Smash the Summer: Teen Journaling Program
DESCRIPTION:Smash the Summer: Teen Journaling Program \nAges 12-18 \nWednesday\, May 17th 6pm \nSummer 2023 is just around the corner! \nJoin us at the library and we will talk about our plans\, hopes\, and dreams for Summer 2023. We will begin our own Smash Journals to use in the Summer months. We will meet monthly during the summer to work on our journals together.  \nRegistration is required.
URL:https://www.barrettlibrary.org/event/smash-the-summer-teen-journaling-program/
END:VEVENT
BEGIN:VEVENT
DTSTART;TZID=America/New_York:20230517T100000
DTEND;TZID=America/New_York:20230517T150000
DTSTAMP:20260425T075745
CREATED:20230502T203404Z
LAST-MODIFIED:20230503T213223Z
UID:5578-1684317600-1684335600@www.barrettlibrary.org
SUMMARY:Rep Madden Office Hours
DESCRIPTION:PLEASE NOTE: DUE TO ELECTION DAY\, OFFICE HOURS WILL BE HELD ON WED (INSTEAD OF TUE) THIS WEEK. \nState Representative Maureen Madden’s staff will hold satellite office hours at the Library the first week (Wed & Thu) and third week (Mon & Tue) each month to offer constituent services. For questions about services\, please call 570-894-7905 or visit her website.
URL:https://www.barrettlibrary.org/event/rep-madden-office-hours-2/
END:VEVENT
BEGIN:VEVENT
DTSTART;TZID=America/New_York:20230516T130000
DTEND;TZID=America/New_York:20230516T140000
DTSTAMP:20260425T075745
CREATED:20230427T161347Z
LAST-MODIFIED:20230427T161347Z
UID:5534-1684242000-1684245600@www.barrettlibrary.org
SUMMARY:Afternoon Book Club
DESCRIPTION:Our Afternoon Book Club will now meet at the Library! An option to join with Zoom is still available\, as well. This month\, we will discuss Maisie Dobbs by Jacqueline Winspear. If you’re interested in joining\, please call the Library for more details.
URL:https://www.barrettlibrary.org/event/afternoon-book-club-2/
END:VEVENT
BEGIN:VEVENT
DTSTART;TZID=America/New_York:20230516T103000
DTEND;TZID=America/New_York:20230516T113000
DTSTAMP:20260425T075745
CREATED:20230304T201732Z
LAST-MODIFIED:20230304T201802Z
UID:5409-1684233000-1684236600@www.barrettlibrary.org
SUMMARY:Baby & Me
DESCRIPTION:Baby & Me \nAges 0-2 \nTuesdays\, May 2nd & 16th \nA special story time for our youngest patrons and their grownups.  \nJoin us for stories\, songs\, and games!  \nRegistration is required.
URL:https://www.barrettlibrary.org/event/baby-me-13/
END:VEVENT
BEGIN:VEVENT
DTSTART;TZID=America/New_York:20230515T100000
DTEND;TZID=America/New_York:20230515T150000
DTSTAMP:20260425T075745
CREATED:20230502T203222Z
LAST-MODIFIED:20230502T203222Z
UID:5576-1684144800-1684162800@www.barrettlibrary.org
SUMMARY:Rep Madden Office Hours
DESCRIPTION:State Representative Maureen Madden’s staff will hold satellite office hours at the Library the first week (Wed & Thu) and third week (Mon & Tue) each month to offer constituent services. For questions about services\, please call 570-894-7905 or visit her website.
URL:https://www.barrettlibrary.org/event/rep-madden-office-hours/
END:VEVENT
BEGIN:VEVENT
DTSTART;TZID=America/New_York:20230511T183000
DTEND;TZID=America/New_York:20230511T193000
DTSTAMP:20260425T075745
CREATED:20230427T161118Z
LAST-MODIFIED:20230427T161118Z
UID:5532-1683829800-1683833400@www.barrettlibrary.org
SUMMARY:Virtual Writing Group
DESCRIPTION:Join us on Zoom to discuss the art of writing while sharing work with the group. 
URL:https://www.barrettlibrary.org/event/virtual-writing-group-20/
END:VEVENT
BEGIN:VEVENT
DTSTART;TZID=America/New_York:20230511T113000
DTEND;TZID=America/New_York:20230511T120000
DTSTAMP:20260425T075745
CREATED:20230304T202435Z
LAST-MODIFIED:20230304T202435Z
UID:5426-1683804600-1683806400@www.barrettlibrary.org
SUMMARY:Wee Ones Wiggle
DESCRIPTION:Wee Ones Wiggle \nAges 0-5 \nThursdays after Story Time 11:30am-12:00pm \nKids need to move and be active to stay healthy. Join us for a high-energy program filled with dancing\, shaking\, and singing.
URL:https://www.barrettlibrary.org/event/wee-ones-wiggle-7/
END:VEVENT
BEGIN:VEVENT
DTSTART;TZID=America/New_York:20230511T103000
DTEND;TZID=America/New_York:20230511T113000
DTSTAMP:20260425T075745
CREATED:20230304T202049Z
LAST-MODIFIED:20230304T202120Z
UID:5413-1683801000-1683804600@www.barrettlibrary.org
SUMMARY:Story Time at the Library
DESCRIPTION:Story Time at the Library \nAges 0-5 \nThursdays\, May 11th\, 18th\, & 25th 10:30AM-11:30AM \nPlease join us for stories and songs in the Weiler Family Community Room.  \nSpace is limited and registration is required.
URL:https://www.barrettlibrary.org/event/story-time-at-the-library-17/
END:VEVENT
END:VCALENDAR