BEGIN:VCALENDAR
VERSION:2.0
PRODID:-//Barrett Paradise Friendly Library - ECPv6.15.20//NONSGML v1.0//EN
CALSCALE:GREGORIAN
METHOD:PUBLISH
X-WR-CALNAME:Barrett Paradise Friendly Library
X-ORIGINAL-URL:https://www.barrettlibrary.org
X-WR-CALDESC:Events for Barrett Paradise Friendly Library
REFRESH-INTERVAL;VALUE=DURATION:PT1H
X-Robots-Tag:noindex
X-PUBLISHED-TTL:PT1H
BEGIN:VTIMEZONE
TZID:America/New_York
BEGIN:DAYLIGHT
TZOFFSETFROM:-0500
TZOFFSETTO:-0400
TZNAME:EDT
DTSTART:20220313T070000
END:DAYLIGHT
BEGIN:STANDARD
TZOFFSETFROM:-0400
TZOFFSETTO:-0500
TZNAME:EST
DTSTART:20221106T060000
END:STANDARD
BEGIN:DAYLIGHT
TZOFFSETFROM:-0500
TZOFFSETTO:-0400
TZNAME:EDT
DTSTART:20230312T070000
END:DAYLIGHT
BEGIN:STANDARD
TZOFFSETFROM:-0400
TZOFFSETTO:-0500
TZNAME:EST
DTSTART:20231105T060000
END:STANDARD
BEGIN:DAYLIGHT
TZOFFSETFROM:-0500
TZOFFSETTO:-0400
TZNAME:EDT
DTSTART:20240310T070000
END:DAYLIGHT
BEGIN:STANDARD
TZOFFSETFROM:-0400
TZOFFSETTO:-0500
TZNAME:EST
DTSTART:20241103T060000
END:STANDARD
END:VTIMEZONE
BEGIN:VEVENT
DTSTART;TZID=America/New_York:20230914T183000
DTEND;TZID=America/New_York:20230914T193000
DTSTAMP:20260425T123721
CREATED:20230830T174626Z
LAST-MODIFIED:20230830T174626Z
UID:5894-1694716200-1694719800@www.barrettlibrary.org
SUMMARY:Virtual Writing Group
DESCRIPTION:Join us on Zoom to discuss the art of writing while sharing work with the group. Call the Library for more information.
URL:https://www.barrettlibrary.org/event/virtual-writing-group-25/
END:VEVENT
BEGIN:VEVENT
DTSTART;TZID=America/New_York:20230914T101500
DTEND;TZID=America/New_York:20230914T110000
DTSTAMP:20260425T123721
CREATED:20230828T221309Z
LAST-MODIFIED:20230828T221309Z
UID:5864-1694686500-1694689200@www.barrettlibrary.org
SUMMARY:Library Story Time
DESCRIPTION:Library Story Time \nAges 0-5 \nThursdays\, September 14th & 28th  at 10:15AM \nJoin us in the children’s area for stories\, songs\, crafts\, and more!
URL:https://www.barrettlibrary.org/event/library-story-time/
END:VEVENT
BEGIN:VEVENT
DTSTART;TZID=America/New_York:20230913T180000
DTEND;TZID=America/New_York:20230913T190000
DTSTAMP:20260425T123721
CREATED:20230828T221953Z
LAST-MODIFIED:20230828T221953Z
UID:5870-1694628000-1694631600@www.barrettlibrary.org
SUMMARY:Knots & Bonds - Friendship Bracelets for Teens
DESCRIPTION:Knots & Bonds – Friendship Bracelets \nTeens 12-17 \nWednesday\, September 13th 6pm \nKnots and Bonds is a friendship bracelet making program for teens.  \nIn this program\, teens will learn the basics of friendship bracelet making\, including how to tie different knots and how to create their own unique designs.
URL:https://www.barrettlibrary.org/event/knots-bonds-friendship-bracelets-for-teens/
END:VEVENT
BEGIN:VEVENT
DTSTART;VALUE=DATE:20230909
DTEND;VALUE=DATE:20230910
DTSTAMP:20260425T123721
CREATED:20230828T222745Z
LAST-MODIFIED:20230906T214301Z
UID:5876-1694217600-1694303999@www.barrettlibrary.org
SUMMARY:Tale on the Trail at Ice Lake - On That Day by Andrea Patel
DESCRIPTION:Tale on the Trail at Ice Lake \nVisit the Barrett Township Community Park at Ice Lake to embark on this family reading adventure!  \nFollow the trail behind the pavilion and turn right. Enjoy a picture book as you stroll along the path.  \nThe path is about 0.12 miles from beginning to end\, and then you can continue around the lake or turn around to return to the pavilion.  \nThe trail is mostly flat\, but rough and rocky. Very young children may need help or prefer to ride in a stroller.  \nThis month\, look for the book On That Day by Andrea Patel.  \nThis beautiful book commemorates all of the lives that were changed forever on September 11\, 2001.
URL:https://www.barrettlibrary.org/event/tale-on-the-trail-at-ice-lake-the-bus-for-us-by-suzanne-bloom/
END:VEVENT
BEGIN:VEVENT
DTSTART;TZID=America/New_York:20230907T100000
DTEND;TZID=America/New_York:20230907T150000
DTSTAMP:20260425T123721
CREATED:20230906T155747Z
LAST-MODIFIED:20230906T155747Z
UID:5912-1694080800-1694098800@www.barrettlibrary.org
SUMMARY:Rep Madden Office Hours
DESCRIPTION:State Representative Maureen Madden’s staff will hold satellite office hours at the Library the first week (Wed & Thu) and third week (Mon & Tue) each month from 10am-3pm to offer constituent services. For questions about services\, please call 570-894-7905 or visit her website.
URL:https://www.barrettlibrary.org/event/rep-madden-office-hours-16/
END:VEVENT
BEGIN:VEVENT
DTSTART;TZID=America/New_York:20230906T163000
DTEND;TZID=America/New_York:20230906T173000
DTSTAMP:20260425T123721
CREATED:20230828T221559Z
LAST-MODIFIED:20230828T221804Z
UID:5868-1694017800-1694021400@www.barrettlibrary.org
SUMMARY:Preschool Play Date
DESCRIPTION:Preschool Play Date \nAges 2-5 \nWednesday\, September 6th 4:30pm \nCome to the library for stories\, songs\, and games to play with friends!  \nThere will be a short story time\, followed by time for you to explore activities with your children and their peers. \n 
URL:https://www.barrettlibrary.org/event/preschool-play-date/
END:VEVENT
BEGIN:VEVENT
DTSTART;TZID=America/New_York:20230906T100000
DTEND;TZID=America/New_York:20230906T150000
DTSTAMP:20260425T123721
CREATED:20230906T154941Z
LAST-MODIFIED:20230906T155706Z
UID:5910-1693994400-1694012400@www.barrettlibrary.org
SUMMARY:Rep Madden Office Hours
DESCRIPTION:State Representative Maureen Madden’s staff will hold satellite office hours at the Library the first week (Wed & Thu) and third week (Mon & Tue) each month from 10am-3pm to offer constituent services. For questions about services\, please call 570-894-7905 or visit her website.
URL:https://www.barrettlibrary.org/event/rep-madden-office-hours-15/
END:VEVENT
BEGIN:VEVENT
DTSTART;TZID=America/New_York:20230905T130000
DTEND;TZID=America/New_York:20230905T150000
DTSTAMP:20260425T123721
CREATED:20230801T143130Z
LAST-MODIFIED:20230801T143130Z
UID:5843-1693918800-1693926000@www.barrettlibrary.org
SUMMARY:Movie Day at the Library
DESCRIPTION:Come to the Library to watch a newly released movie with friends. This month we will watch King Richard\, starring Will Smith. \n 
URL:https://www.barrettlibrary.org/event/movie-day-at-the-library-9/
END:VEVENT
BEGIN:VEVENT
DTSTART;TZID=America/New_York:20230905T101500
DTEND;TZID=America/New_York:20230905T104500
DTSTAMP:20260425T123721
CREATED:20230828T220707Z
LAST-MODIFIED:20230828T220707Z
UID:5860-1693908900-1693910700@www.barrettlibrary.org
SUMMARY:Baby & Me
DESCRIPTION:Baby & Me \nAges 0-2 \nTuesdays\, September 5th & 19th  at 10:15AM \nA special story time for our youngest patrons and their grownups.  \nJoin us for stories\, songs\, and games! 
URL:https://www.barrettlibrary.org/event/baby-me-16/
END:VEVENT
BEGIN:VEVENT
DTSTART;VALUE=DATE:20230904
DTEND;VALUE=DATE:20230905
DTSTAMP:20260425T123721
CREATED:20230829T143648Z
LAST-MODIFIED:20230829T143648Z
UID:5891-1693785600-1693871999@www.barrettlibrary.org
SUMMARY:LIBRARY CLOSED for Labor Day
DESCRIPTION:In observance of Labor Day\, the Library is CLOSED on Monday\, September 4.
URL:https://www.barrettlibrary.org/event/library-closed-for-labor-day-2/
END:VEVENT
BEGIN:VEVENT
DTSTART;TZID=America/New_York:20230829T190000
DTEND;TZID=America/New_York:20230829T200000
DTSTAMP:20260425T123721
CREATED:20230801T142843Z
LAST-MODIFIED:20230801T142843Z
UID:5841-1693335600-1693339200@www.barrettlibrary.org
SUMMARY:Virtual Evening Book Club
DESCRIPTION:Join our virtual evening book club on Zoom. This month\, we will discuss Little Fires Everywhere by Celeste Ng. If you’re interested in joining\, please call the Library for more details. \n 
URL:https://www.barrettlibrary.org/event/virtual-evening-book-club-20/
END:VEVENT
BEGIN:VEVENT
DTSTART;TZID=America/New_York:20230824T103000
DTEND;TZID=America/New_York:20230824T111500
DTSTAMP:20260425T123721
CREATED:20230726T232643Z
LAST-MODIFIED:20230726T232643Z
UID:5823-1692873000-1692875700@www.barrettlibrary.org
SUMMARY:Eye Spy Story Time with special guests from Sights for Hope
DESCRIPTION:Eye Spy Story Time with special guests from Sights for Hope  \nAges 0-5 \nThursday\, August 24th 10:30am \nJoin us for a special story time with Ms. Angela\, Monroe County’s Prevention Specialist with Sights for Hope (formerly the Center for Vision Loss) \nMs. Angela will share stories and tips for keeping your eyes healthy\, and free vision screenings will be available for everyone. Please call 570-595-7171 to register. \n \n 
URL:https://www.barrettlibrary.org/event/eye-spy-story-time-with-special-guests-from-sights-for-hope-2/
END:VEVENT
BEGIN:VEVENT
DTSTART;TZID=America/New_York:20230823T180000
DTEND;TZID=America/New_York:20230823T190000
DTSTAMP:20260425T123721
CREATED:20230802T224130Z
LAST-MODIFIED:20230811T164418Z
UID:5852-1692813600-1692817200@www.barrettlibrary.org
SUMMARY:Cardboard Cat Castles (new date)
DESCRIPTION:Cardboard Cat Castles \nAll Ages \nWednesday\, August 23rd 6PM \nCome to the library for some fairy-tale-themed building fun! Use our supplies to build a castle for your cat\, or other small pet.  \nFamilies and adults are welcome.  \nAdults will use the sharp tools.  \nPlease call 570-595-7171 to register. 
URL:https://www.barrettlibrary.org/event/cardboard-cat-castles/
END:VEVENT
BEGIN:VEVENT
DTSTART;TZID=America/New_York:20230823T150000
DTEND;TZID=America/New_York:20230823T153000
DTSTAMP:20260425T123721
CREATED:20230724T233218Z
LAST-MODIFIED:20230724T233218Z
UID:5805-1692802800-1692804600@www.barrettlibrary.org
SUMMARY:Wee Ones Wiggle
DESCRIPTION:Wee Ones Wiggle \nAges 0-5 \nKids need to move and be active to stay healthy. Join us for a high-energy program filled with dancing\, shaking\, and singing.
URL:https://www.barrettlibrary.org/event/wee-ones-wiggle-20/
END:VEVENT
BEGIN:VEVENT
DTSTART;TZID=America/New_York:20230822T103000
DTEND;TZID=America/New_York:20230822T110000
DTSTAMP:20260425T123721
CREATED:20230724T231859Z
LAST-MODIFIED:20230724T231859Z
UID:5789-1692700200-1692702000@www.barrettlibrary.org
SUMMARY:Baby & Me Story Time
DESCRIPTION:Baby & Me Story Time \nAges 0-2 \nTuesdays\, August 1st\, 8th\, 15th\, and 22nd  \nA special story time for our youngest patrons and their grownups.  \nJoin us for stories\, songs\, and games!
URL:https://www.barrettlibrary.org/event/baby-me-story-time-7/
END:VEVENT
BEGIN:VEVENT
DTSTART;TZID=America/New_York:20230822T100000
DTEND;TZID=America/New_York:20230822T150000
DTSTAMP:20260425T123721
CREATED:20230731T150348Z
LAST-MODIFIED:20230731T150359Z
UID:5833-1692698400-1692716400@www.barrettlibrary.org
SUMMARY:Rep Madden Office Hours
DESCRIPTION:State Representative Maureen Madden’s staff will hold satellite office hours at the Library the first week (Wed & Thu) and third week (Mon & Tue) each month from 10am-3pm to offer constituent services. For questions about services\, please call 570-894-7905 or visit her website.
URL:https://www.barrettlibrary.org/event/rep-madden-office-hours-14/
END:VEVENT
BEGIN:VEVENT
DTSTART;TZID=America/New_York:20230821T100000
DTEND;TZID=America/New_York:20230821T150000
DTSTAMP:20260425T123721
CREATED:20230731T150307Z
LAST-MODIFIED:20230731T150307Z
UID:5831-1692612000-1692630000@www.barrettlibrary.org
SUMMARY:Rep Madden Office Hours
DESCRIPTION:State Representative Maureen Madden’s staff will hold satellite office hours at the Library the first week (Wed & Thu) and third week (Mon & Tue) each month from 10am-3pm to offer constituent services. For questions about services\, please call 570-894-7905 or visit her website.
URL:https://www.barrettlibrary.org/event/rep-madden-office-hours-13/
END:VEVENT
BEGIN:VEVENT
DTSTART;TZID=America/New_York:20230817T113000
DTEND;TZID=America/New_York:20230817T123000
DTSTAMP:20260425T123721
CREATED:20230724T232548Z
LAST-MODIFIED:20230802T222811Z
UID:5796-1692271800-1692275400@www.barrettlibrary.org
SUMMARY:All Together Now: Summer Reading Prize Party **Invitation Only**
DESCRIPTION:All Together Now: Summer Reading Prize Party  \n\nThursday\, August 17th 11:30am \nJoin us in the Weiler Family Community Room as we celebrate the end of our summer reading program with bingo\, pizza\, and icecream! \n*You must complete a Summer Reading Bingo Card to be invited to this party! See Ms. Chelsea or Ms. Jennifer for more information.
URL:https://www.barrettlibrary.org/event/all-together-now-summer-reading-prize-party-ages-0-5-invitation-only/
END:VEVENT
BEGIN:VEVENT
DTSTART;TZID=America/New_York:20230816T180000
DTEND;TZID=America/New_York:20230816T190000
DTSTAMP:20260425T123721
CREATED:20230726T221543Z
LAST-MODIFIED:20230726T221944Z
UID:5814-1692208800-1692212400@www.barrettlibrary.org
SUMMARY:Fairy Tale Family Game Night
DESCRIPTION:Fairy Tale Family Game Night \nAll Ages \nWednesday\, August 16th 6PM \nJoin us in the Weiler Room for interactive stories and fairy-tale games!
URL:https://www.barrettlibrary.org/event/fairy-tale-family-game-night/
END:VEVENT
BEGIN:VEVENT
DTSTART;TZID=America/New_York:20230816T150000
DTEND;TZID=America/New_York:20230816T153000
DTSTAMP:20260425T123721
CREATED:20230724T233127Z
LAST-MODIFIED:20230724T233127Z
UID:5803-1692198000-1692199800@www.barrettlibrary.org
SUMMARY:Wee Ones Wiggle
DESCRIPTION:Wee Ones Wiggle \nAges 0-5 \nWednesdays in August at 3PM \nKids need to move and be active to stay healthy. Join us for a high-energy program filled with dancing\, shaking\, and singing.
URL:https://www.barrettlibrary.org/event/wee-ones-wiggle-19/
END:VEVENT
BEGIN:VEVENT
DTSTART;TZID=America/New_York:20230815T130000
DTEND;TZID=America/New_York:20230815T140000
DTSTAMP:20260425T123721
CREATED:20230801T142755Z
LAST-MODIFIED:20230801T142755Z
UID:5839-1692104400-1692108000@www.barrettlibrary.org
SUMMARY:Afternoon Book Club
DESCRIPTION:Our Afternoon Book Club now meets at the Library! An option to join with Zoom is still available\, as well. This month\, we will discuss Eleanor Oliphant is Completely Fine by Gail Honeyman. If you’re interested in joining\, please call the Library for more details.
URL:https://www.barrettlibrary.org/event/afternoon-book-club-5/
END:VEVENT
BEGIN:VEVENT
DTSTART;TZID=America/New_York:20230815T103000
DTEND;TZID=America/New_York:20230815T110000
DTSTAMP:20260425T123721
CREATED:20230724T231817Z
LAST-MODIFIED:20230724T231817Z
UID:5787-1692095400-1692097200@www.barrettlibrary.org
SUMMARY:Baby & Me Story Time
DESCRIPTION:Baby & Me Story Time \nAges 0-2 \nTuesdays\, August 1st\, 8th\, 15th\, and 22nd  \nA special story time for our youngest patrons and their grownups.  \nJoin us for stories\, songs\, and games!
URL:https://www.barrettlibrary.org/event/baby-me-story-time-6/
END:VEVENT
BEGIN:VEVENT
DTSTART;TZID=America/New_York:20230810T183000
DTEND;TZID=America/New_York:20230810T193000
DTSTAMP:20260425T123721
CREATED:20230801T142705Z
LAST-MODIFIED:20230810T164421Z
UID:5837-1691692200-1691695800@www.barrettlibrary.org
SUMMARY:(POSTPONED) Virtual Writing Group
DESCRIPTION:Join us on Zoom to discuss the art of writing while sharing work with the group. 
URL:https://www.barrettlibrary.org/event/virtual-writing-group-24/
END:VEVENT
BEGIN:VEVENT
DTSTART;TZID=America/New_York:20230810T140000
DTEND;TZID=America/New_York:20230810T150000
DTSTAMP:20260425T123721
CREATED:20230726T205527Z
LAST-MODIFIED:20230726T205536Z
UID:5810-1691676000-1691679600@www.barrettlibrary.org
SUMMARY:All Together Now – Elementary Summer Reading 2023
DESCRIPTION:Summer Reading 2023 \nAll Together Now into the Land of Stories…. \nThursdays August 3rd & August 10th  \nAges 6-11 2PM \nJoin us for our Children’s Summer Reading Program where we will explore different stories from around the world.  \nEach week we will read a different fairy tale followed by activities related to the story.
URL:https://www.barrettlibrary.org/event/all-together-now-elementary-summer-reading-2023-6/
END:VEVENT
BEGIN:VEVENT
DTSTART;TZID=America/New_York:20230810T103000
DTEND;TZID=America/New_York:20230810T113000
DTSTAMP:20260425T123721
CREATED:20230724T232407Z
LAST-MODIFIED:20230724T232407Z
UID:5794-1691663400-1691667000@www.barrettlibrary.org
SUMMARY:Fairy Tale Story Time
DESCRIPTION:Fairy Tale Story Time \nAges 0-5 \nThursdays\, August  3rd & 10th \nJoin us for our Children’s Summer Reading Program where we will explore different stories from around the world. Each week we will read a different fairy tale followed by activities related to the story. \nWe will have crafts\, games\, S.T.E.M. projects\, and more! \nRegistration is encouraged. Please call 570-595-7171 to register.
URL:https://www.barrettlibrary.org/event/fairy-tale-story-time-6/
END:VEVENT
BEGIN:VEVENT
DTSTART;TZID=America/New_York:20230810T100000
DTEND;TZID=America/New_York:20230810T150000
DTSTAMP:20260425T123721
CREATED:20230731T150223Z
LAST-MODIFIED:20230731T150223Z
UID:5829-1691661600-1691679600@www.barrettlibrary.org
SUMMARY:Rep Madden Office Hours
DESCRIPTION:State Representative Maureen Madden’s staff will hold satellite office hours at the Library the first week (Wed & Thu) and third week (Mon & Tue) each month from 10am-3pm to offer constituent services. For questions about services\, please call 570-894-7905 or visit her website.
URL:https://www.barrettlibrary.org/event/rep-madden-office-hours-12/
END:VEVENT
BEGIN:VEVENT
DTSTART;TZID=America/New_York:20230809T180000
DTEND;TZID=America/New_York:20230809T190000
DTSTAMP:20260425T123721
CREATED:20230726T231722Z
LAST-MODIFIED:20230802T180746Z
UID:5821-1691604000-1691607600@www.barrettlibrary.org
SUMMARY:Twisted Tales: Teen Video Production Group (canceled)
DESCRIPTION:Twisted Tales: Video Production (canceled) \nAges 12-18 \nWednesday\, August 9th 6PM \nThe teen summer reading program continues with the second in-person meeting of the Summer. \nIn this meeting we will check-in with our video’s progress and complete the finishing touches!
URL:https://www.barrettlibrary.org/event/twisted-tales-teen-video-production-group/
END:VEVENT
BEGIN:VEVENT
DTSTART;TZID=America/New_York:20230809T150000
DTEND;TZID=America/New_York:20230809T153000
DTSTAMP:20260425T123721
CREATED:20230724T233042Z
LAST-MODIFIED:20230724T233042Z
UID:5801-1691593200-1691595000@www.barrettlibrary.org
SUMMARY:Wee Ones Wiggle
DESCRIPTION:Wee Ones Wiggle \nAges 0-5 \nWednesdays in August at 3PM \nKids need to move and be active to stay healthy. Join us for a high-energy program filled with dancing\, shaking\, and singing.
URL:https://www.barrettlibrary.org/event/wee-ones-wiggle-18/
END:VEVENT
BEGIN:VEVENT
DTSTART;TZID=America/New_York:20230809T100000
DTEND;TZID=America/New_York:20230809T150000
DTSTAMP:20260425T123721
CREATED:20230731T150133Z
LAST-MODIFIED:20230731T150133Z
UID:5827-1691575200-1691593200@www.barrettlibrary.org
SUMMARY:Rep Madden Office Hours
DESCRIPTION:State Representative Maureen Madden’s staff will hold satellite office hours at the Library the first week (Wed & Thu) and third week (Mon & Tue) each month from 10am-3pm to offer constituent services. For questions about services\, please call 570-894-7905 or visit her website.
URL:https://www.barrettlibrary.org/event/rep-madden-office-hours-11/
END:VEVENT
BEGIN:VEVENT
DTSTART;TZID=America/New_York:20230808T103000
DTEND;TZID=America/New_York:20230808T110000
DTSTAMP:20260425T123721
CREATED:20230724T215141Z
LAST-MODIFIED:20230724T215141Z
UID:5784-1691490600-1691492400@www.barrettlibrary.org
SUMMARY:Baby & Me Story Time
DESCRIPTION:Baby & Me Story Time \nAges 0-2 \nTuesdays\, August 1st\, 8th\, 15th\, and 22nd  \nA special story time for our youngest patrons and their grownups.  \nJoin us for stories\, songs\, and games!
URL:https://www.barrettlibrary.org/event/baby-me-story-time-5/
END:VEVENT
END:VCALENDAR