BEGIN:VCALENDAR
VERSION:2.0
PRODID:-//Barrett Paradise Friendly Library - ECPv6.15.20//NONSGML v1.0//EN
CALSCALE:GREGORIAN
METHOD:PUBLISH
X-WR-CALNAME:Barrett Paradise Friendly Library
X-ORIGINAL-URL:https://www.barrettlibrary.org
X-WR-CALDESC:Events for Barrett Paradise Friendly Library
REFRESH-INTERVAL;VALUE=DURATION:PT1H
X-Robots-Tag:noindex
X-PUBLISHED-TTL:PT1H
BEGIN:VTIMEZONE
TZID:America/New_York
BEGIN:DAYLIGHT
TZOFFSETFROM:-0500
TZOFFSETTO:-0400
TZNAME:EDT
DTSTART:20220313T070000
END:DAYLIGHT
BEGIN:STANDARD
TZOFFSETFROM:-0400
TZOFFSETTO:-0500
TZNAME:EST
DTSTART:20221106T060000
END:STANDARD
BEGIN:DAYLIGHT
TZOFFSETFROM:-0500
TZOFFSETTO:-0400
TZNAME:EDT
DTSTART:20230312T070000
END:DAYLIGHT
BEGIN:STANDARD
TZOFFSETFROM:-0400
TZOFFSETTO:-0500
TZNAME:EST
DTSTART:20231105T060000
END:STANDARD
BEGIN:DAYLIGHT
TZOFFSETFROM:-0500
TZOFFSETTO:-0400
TZNAME:EDT
DTSTART:20240310T070000
END:DAYLIGHT
BEGIN:STANDARD
TZOFFSETFROM:-0400
TZOFFSETTO:-0500
TZNAME:EST
DTSTART:20241103T060000
END:STANDARD
END:VTIMEZONE
BEGIN:VEVENT
DTSTART;TZID=America/New_York:20230816T180000
DTEND;TZID=America/New_York:20230816T190000
DTSTAMP:20260425T101239
CREATED:20230726T221543Z
LAST-MODIFIED:20230726T221944Z
UID:5814-1692208800-1692212400@www.barrettlibrary.org
SUMMARY:Fairy Tale Family Game Night
DESCRIPTION:Fairy Tale Family Game Night \nAll Ages \nWednesday\, August 16th 6PM \nJoin us in the Weiler Room for interactive stories and fairy-tale games!
URL:https://www.barrettlibrary.org/event/fairy-tale-family-game-night/
END:VEVENT
BEGIN:VEVENT
DTSTART;TZID=America/New_York:20230816T150000
DTEND;TZID=America/New_York:20230816T153000
DTSTAMP:20260425T101239
CREATED:20230724T233127Z
LAST-MODIFIED:20230724T233127Z
UID:5803-1692198000-1692199800@www.barrettlibrary.org
SUMMARY:Wee Ones Wiggle
DESCRIPTION:Wee Ones Wiggle \nAges 0-5 \nWednesdays in August at 3PM \nKids need to move and be active to stay healthy. Join us for a high-energy program filled with dancing\, shaking\, and singing.
URL:https://www.barrettlibrary.org/event/wee-ones-wiggle-19/
END:VEVENT
BEGIN:VEVENT
DTSTART;TZID=America/New_York:20230815T130000
DTEND;TZID=America/New_York:20230815T140000
DTSTAMP:20260425T101239
CREATED:20230801T142755Z
LAST-MODIFIED:20230801T142755Z
UID:5839-1692104400-1692108000@www.barrettlibrary.org
SUMMARY:Afternoon Book Club
DESCRIPTION:Our Afternoon Book Club now meets at the Library! An option to join with Zoom is still available\, as well. This month\, we will discuss Eleanor Oliphant is Completely Fine by Gail Honeyman. If you’re interested in joining\, please call the Library for more details.
URL:https://www.barrettlibrary.org/event/afternoon-book-club-5/
END:VEVENT
BEGIN:VEVENT
DTSTART;TZID=America/New_York:20230815T103000
DTEND;TZID=America/New_York:20230815T110000
DTSTAMP:20260425T101239
CREATED:20230724T231817Z
LAST-MODIFIED:20230724T231817Z
UID:5787-1692095400-1692097200@www.barrettlibrary.org
SUMMARY:Baby & Me Story Time
DESCRIPTION:Baby & Me Story Time \nAges 0-2 \nTuesdays\, August 1st\, 8th\, 15th\, and 22nd  \nA special story time for our youngest patrons and their grownups.  \nJoin us for stories\, songs\, and games!
URL:https://www.barrettlibrary.org/event/baby-me-story-time-6/
END:VEVENT
BEGIN:VEVENT
DTSTART;TZID=America/New_York:20230810T183000
DTEND;TZID=America/New_York:20230810T193000
DTSTAMP:20260425T101239
CREATED:20230801T142705Z
LAST-MODIFIED:20230810T164421Z
UID:5837-1691692200-1691695800@www.barrettlibrary.org
SUMMARY:(POSTPONED) Virtual Writing Group
DESCRIPTION:Join us on Zoom to discuss the art of writing while sharing work with the group. 
URL:https://www.barrettlibrary.org/event/virtual-writing-group-24/
END:VEVENT
BEGIN:VEVENT
DTSTART;TZID=America/New_York:20230810T140000
DTEND;TZID=America/New_York:20230810T150000
DTSTAMP:20260425T101239
CREATED:20230726T205527Z
LAST-MODIFIED:20230726T205536Z
UID:5810-1691676000-1691679600@www.barrettlibrary.org
SUMMARY:All Together Now – Elementary Summer Reading 2023
DESCRIPTION:Summer Reading 2023 \nAll Together Now into the Land of Stories…. \nThursdays August 3rd & August 10th  \nAges 6-11 2PM \nJoin us for our Children’s Summer Reading Program where we will explore different stories from around the world.  \nEach week we will read a different fairy tale followed by activities related to the story.
URL:https://www.barrettlibrary.org/event/all-together-now-elementary-summer-reading-2023-6/
END:VEVENT
BEGIN:VEVENT
DTSTART;TZID=America/New_York:20230810T103000
DTEND;TZID=America/New_York:20230810T113000
DTSTAMP:20260425T101239
CREATED:20230724T232407Z
LAST-MODIFIED:20230724T232407Z
UID:5794-1691663400-1691667000@www.barrettlibrary.org
SUMMARY:Fairy Tale Story Time
DESCRIPTION:Fairy Tale Story Time \nAges 0-5 \nThursdays\, August  3rd & 10th \nJoin us for our Children’s Summer Reading Program where we will explore different stories from around the world. Each week we will read a different fairy tale followed by activities related to the story. \nWe will have crafts\, games\, S.T.E.M. projects\, and more! \nRegistration is encouraged. Please call 570-595-7171 to register.
URL:https://www.barrettlibrary.org/event/fairy-tale-story-time-6/
END:VEVENT
BEGIN:VEVENT
DTSTART;TZID=America/New_York:20230810T100000
DTEND;TZID=America/New_York:20230810T150000
DTSTAMP:20260425T101239
CREATED:20230731T150223Z
LAST-MODIFIED:20230731T150223Z
UID:5829-1691661600-1691679600@www.barrettlibrary.org
SUMMARY:Rep Madden Office Hours
DESCRIPTION:State Representative Maureen Madden’s staff will hold satellite office hours at the Library the first week (Wed & Thu) and third week (Mon & Tue) each month from 10am-3pm to offer constituent services. For questions about services\, please call 570-894-7905 or visit her website.
URL:https://www.barrettlibrary.org/event/rep-madden-office-hours-12/
END:VEVENT
BEGIN:VEVENT
DTSTART;TZID=America/New_York:20230809T180000
DTEND;TZID=America/New_York:20230809T190000
DTSTAMP:20260425T101239
CREATED:20230726T231722Z
LAST-MODIFIED:20230802T180746Z
UID:5821-1691604000-1691607600@www.barrettlibrary.org
SUMMARY:Twisted Tales: Teen Video Production Group (canceled)
DESCRIPTION:Twisted Tales: Video Production (canceled) \nAges 12-18 \nWednesday\, August 9th 6PM \nThe teen summer reading program continues with the second in-person meeting of the Summer. \nIn this meeting we will check-in with our video’s progress and complete the finishing touches!
URL:https://www.barrettlibrary.org/event/twisted-tales-teen-video-production-group/
END:VEVENT
BEGIN:VEVENT
DTSTART;TZID=America/New_York:20230809T150000
DTEND;TZID=America/New_York:20230809T153000
DTSTAMP:20260425T101239
CREATED:20230724T233042Z
LAST-MODIFIED:20230724T233042Z
UID:5801-1691593200-1691595000@www.barrettlibrary.org
SUMMARY:Wee Ones Wiggle
DESCRIPTION:Wee Ones Wiggle \nAges 0-5 \nWednesdays in August at 3PM \nKids need to move and be active to stay healthy. Join us for a high-energy program filled with dancing\, shaking\, and singing.
URL:https://www.barrettlibrary.org/event/wee-ones-wiggle-18/
END:VEVENT
BEGIN:VEVENT
DTSTART;TZID=America/New_York:20230809T100000
DTEND;TZID=America/New_York:20230809T150000
DTSTAMP:20260425T101239
CREATED:20230731T150133Z
LAST-MODIFIED:20230731T150133Z
UID:5827-1691575200-1691593200@www.barrettlibrary.org
SUMMARY:Rep Madden Office Hours
DESCRIPTION:State Representative Maureen Madden’s staff will hold satellite office hours at the Library the first week (Wed & Thu) and third week (Mon & Tue) each month from 10am-3pm to offer constituent services. For questions about services\, please call 570-894-7905 or visit her website.
URL:https://www.barrettlibrary.org/event/rep-madden-office-hours-11/
END:VEVENT
BEGIN:VEVENT
DTSTART;TZID=America/New_York:20230808T103000
DTEND;TZID=America/New_York:20230808T110000
DTSTAMP:20260425T101239
CREATED:20230724T215141Z
LAST-MODIFIED:20230724T215141Z
UID:5784-1691490600-1691492400@www.barrettlibrary.org
SUMMARY:Baby & Me Story Time
DESCRIPTION:Baby & Me Story Time \nAges 0-2 \nTuesdays\, August 1st\, 8th\, 15th\, and 22nd  \nA special story time for our youngest patrons and their grownups.  \nJoin us for stories\, songs\, and games!
URL:https://www.barrettlibrary.org/event/baby-me-story-time-5/
END:VEVENT
BEGIN:VEVENT
DTSTART;TZID=America/New_York:20230804T103000
DTEND;TZID=America/New_York:20230804T113000
DTSTAMP:20260425T101239
CREATED:20230724T212239Z
LAST-MODIFIED:20230724T212239Z
UID:5778-1691145000-1691148600@www.barrettlibrary.org
SUMMARY:Story Time at Ice Lake
DESCRIPTION:Story Time in the Park \nAges 0-5 \nFriday\, August 4th 10:30AM \nJoin us under the pavilion at Ice Lake for stories\, songs\, and a walk through the woods!
URL:https://www.barrettlibrary.org/event/story-time-at-ice-lake-22/
END:VEVENT
BEGIN:VEVENT
DTSTART;TZID=America/New_York:20230803T140000
DTEND;TZID=America/New_York:20230803T150000
DTSTAMP:20260425T101239
CREATED:20230726T205413Z
LAST-MODIFIED:20230726T205413Z
UID:5807-1691071200-1691074800@www.barrettlibrary.org
SUMMARY:All Together Now – Elementary Summer Reading 2023
DESCRIPTION:Summer Reading 2023 \nAll Together Now into the Land of Stories…. \nThursdays August 3rd & August 10th  \nAges 6-11 2PM-3:15PM \nJoin us for our Children’s Summer Reading Program where we will explore different stories from around the world.  \nEach week we will read a different fairy tale followed by activities related to the story.
URL:https://www.barrettlibrary.org/event/all-together-now-elementary-summer-reading-2023-5/
END:VEVENT
BEGIN:VEVENT
DTSTART;TZID=America/New_York:20230803T103000
DTEND;TZID=America/New_York:20230803T113000
DTSTAMP:20260425T101239
CREATED:20230724T232325Z
LAST-MODIFIED:20230724T232325Z
UID:5791-1691058600-1691062200@www.barrettlibrary.org
SUMMARY:Fairy Tale Story Time
DESCRIPTION:Fairy Tale Story Time \nAges 0-5 \nThursdays\, August  3rd & 10th \nJoin us for our Children’s Summer Reading Program where we will explore different stories from around the world. Each week we will read a different fairy tale followed by activities related to the story. \nWe will have crafts\, games\, S.T.E.M. projects\, and more! \nRegistration is encouraged. Please call 570-595-7171 to register.
URL:https://www.barrettlibrary.org/event/fairy-tale-story-time-5/
END:VEVENT
BEGIN:VEVENT
DTSTART;TZID=America/New_York:20230802T150000
DTEND;TZID=America/New_York:20230802T153000
DTSTAMP:20260425T101239
CREATED:20230724T233005Z
LAST-MODIFIED:20230724T233005Z
UID:5798-1690988400-1690990200@www.barrettlibrary.org
SUMMARY:Wee Ones Wiggle
DESCRIPTION:Wee Ones Wiggle \nAges 0-5 \nWednesdays in August at 3PM \nKids need to move and be active to stay healthy. Join us for a high-energy program filled with dancing\, shaking\, and singing. \n \n 
URL:https://www.barrettlibrary.org/event/wee-ones-wiggle-17/
END:VEVENT
BEGIN:VEVENT
DTSTART;TZID=America/New_York:20230801T130000
DTEND;TZID=America/New_York:20230801T150000
DTSTAMP:20260425T101239
CREATED:20230629T154846Z
LAST-MODIFIED:20230629T154846Z
UID:5723-1690894800-1690902000@www.barrettlibrary.org
SUMMARY:Movie Day at the Library
DESCRIPTION:Come to the Library to watch a newly released movie with friends. This month we will watch Women Talking\, starring Roona Mara and Claire Foy.
URL:https://www.barrettlibrary.org/event/movie-day-at-the-library-8/
END:VEVENT
BEGIN:VEVENT
DTSTART;TZID=America/New_York:20230801T103000
DTEND;TZID=America/New_York:20230801T110000
DTSTAMP:20260425T101239
CREATED:20230724T215106Z
LAST-MODIFIED:20230724T215106Z
UID:5781-1690885800-1690887600@www.barrettlibrary.org
SUMMARY:Baby & Me Story Time
DESCRIPTION:Baby & Me Story Time \nAges 0-2 \nTuesdays\, August 1st\, 8th\, 15th\, and 22nd  \nA special story time for our youngest patrons and their grownups.  \nJoin us for stories\, songs\, and games!
URL:https://www.barrettlibrary.org/event/baby-me-story-time-4/
END:VEVENT
BEGIN:VEVENT
DTSTART;TZID=America/New_York:20230727T140000
DTEND;TZID=America/New_York:20230727T151500
DTSTAMP:20260425T101239
CREATED:20230621T201335Z
LAST-MODIFIED:20230621T201335Z
UID:5712-1690466400-1690470900@www.barrettlibrary.org
SUMMARY:All Together Now -  Elementary Summer Reading 2023
DESCRIPTION:All Together Now –  Elementary Summer Reading 2023 \nAll Together Now into the Land of Stories…. \nAges 6-11 2PM-3:15PM \nThe program will be held at the library on Thursdays from July 6th- August 10th  \nJoin us for our Children’s Summer Reading Program  \nwhere we will explore different stories from around the world.  \nEach week we will read a different fairy tale followed by activities related to the story. \n We will have crafts\, games\, S.T.E.M. projects\, and more! \nSpace is limited. Please register by calling 570-595-7171
URL:https://www.barrettlibrary.org/event/all-together-now-elementary-summer-reading-2023-4/
END:VEVENT
BEGIN:VEVENT
DTSTART;TZID=America/New_York:20230727T103000
DTEND;TZID=America/New_York:20230727T114500
DTSTAMP:20260425T101239
CREATED:20230621T173228Z
LAST-MODIFIED:20230621T173228Z
UID:5681-1690453800-1690458300@www.barrettlibrary.org
SUMMARY:Fairy Tale Story Time
DESCRIPTION:Fairy Tale Story Time \nAges 0-5 \nThursdays in July 10:30AM \nJoin us for our Children’s Summer Reading Program where we will explore different stories from around the world. \nEach week we will read a different fairy tale followed by activities related to the story. \nWe will have crafts\, games\, S.T.E.M. projects\, and more! \n Registration is encouraged.  \nPlease call 570-595-7171 to register.
URL:https://www.barrettlibrary.org/event/fairy-tale-story-time-4/
END:VEVENT
BEGIN:VEVENT
DTSTART;TZID=America/New_York:20230726T170000
DTEND;TZID=America/New_York:20230726T190000
DTSTAMP:20260425T101239
CREATED:20230702T204806Z
LAST-MODIFIED:20230702T212107Z
UID:5760-1690390800-1690398000@www.barrettlibrary.org
SUMMARY:Pocono Page Turners: Pocono Mountains Music Festival's Book Club Event
DESCRIPTION:The Library is pleased to host Pocono Page Turners\, The Pocono Mountains Music Festival’s Book Club Event\, on Wed.\, July 26\, at 5pm\, in the Weiler Family Community Room. Featuring local author Susan Moore Jordan’s novel The Case of the ‘Carousel’ Killer\, the event includes discussion with the author\, performances by local vocalists\, and selections from the book performed by local actors! The Pocono-based mystery is set at The Pocono Playhouse in 1966\, with scenes at Buck Hill and other familiar locations. For more information about this event\, please go to PMMF’s website: https://www.poconofest.org/pocono-page-turners
URL:https://www.barrettlibrary.org/event/pocono-page-turners-pocono-mountains-music-festivals-book-club-event/
END:VEVENT
BEGIN:VEVENT
DTSTART;TZID=America/New_York:20230726T150000
DTEND;TZID=America/New_York:20230726T153000
DTSTAMP:20260425T101239
CREATED:20230621T174948Z
LAST-MODIFIED:20230621T174948Z
UID:5695-1690383600-1690385400@www.barrettlibrary.org
SUMMARY:Wee Ones Wiggle
DESCRIPTION:Wee Ones Wiggle \nAges 0-5 \nWednesdays in July 3PM  \nKids need to move and be active to stay healthy.  \nJoin us for a high-energy program filled with dancing\, shaking\, and singing.  \nDrop-ins are welcome!
URL:https://www.barrettlibrary.org/event/wee-ones-wiggle-16/
END:VEVENT
BEGIN:VEVENT
DTSTART;TZID=America/New_York:20230725T190000
DTEND;TZID=America/New_York:20230725T200000
DTSTAMP:20260425T101239
CREATED:20230629T154452Z
LAST-MODIFIED:20230629T154452Z
UID:5721-1690311600-1690315200@www.barrettlibrary.org
SUMMARY:Virtual Evening Book Club
DESCRIPTION:Join our virtual evening book club on Zoom. This month\, we will discuss The Case of the ‘Carousel’ Killer by Susan Moore Jordan. If you’re interested in joining\, please call the Library for more details.
URL:https://www.barrettlibrary.org/event/virtual-evening-book-club-19/
END:VEVENT
BEGIN:VEVENT
DTSTART;TZID=America/New_York:20230725T103000
DTEND;TZID=America/New_York:20230725T110000
DTSTAMP:20260425T101239
CREATED:20230621T172014Z
LAST-MODIFIED:20230621T172014Z
UID:5669-1690281000-1690282800@www.barrettlibrary.org
SUMMARY:Baby & Me Story Time
DESCRIPTION:Baby & Me Story Time \nAges 0-2 \nTuesdays in July 10:30AM (the library is closed Tuesday\, 7/4) \nA special story time for our youngest patrons and their grownups. Join us for stories\, songs\, and games!
URL:https://www.barrettlibrary.org/event/baby-me-story-time-3/
END:VEVENT
BEGIN:VEVENT
DTSTART;TZID=America/New_York:20230720T140000
DTEND;TZID=America/New_York:20230720T151500
DTSTAMP:20260425T101239
CREATED:20230621T201252Z
LAST-MODIFIED:20230621T201252Z
UID:5710-1689861600-1689866100@www.barrettlibrary.org
SUMMARY:All Together Now -  Elementary Summer Reading 2023
DESCRIPTION:All Together Now –  Elementary Summer Reading 2023 \nAll Together Now into the Land of Stories…. \nAges 6-11 2PM-3:15PM \nThe program will be held at the library on Thursdays from July 6th- August 10th  \nJoin us for our Children’s Summer Reading Program  \nwhere we will explore different stories from around the world.  \nEach week we will read a different fairy tale followed by activities related to the story. \n We will have crafts\, games\, S.T.E.M. projects\, and more! \nSpace is limited. Please register by calling 570-595-7171
URL:https://www.barrettlibrary.org/event/all-together-now-elementary-summer-reading-2023-3/
END:VEVENT
BEGIN:VEVENT
DTSTART;TZID=America/New_York:20230720T103000
DTEND;TZID=America/New_York:20230720T114500
DTSTAMP:20260425T101239
CREATED:20230621T173051Z
LAST-MODIFIED:20230621T173051Z
UID:5679-1689849000-1689853500@www.barrettlibrary.org
SUMMARY:Fairy Tale Story Time
DESCRIPTION:Fairy Tale Story Time \nAges 0-5 \nThursdays in July 10:30AM \nJoin us for our Children’s Summer Reading Program where we will explore different stories from around the world. \nEach week we will read a different fairy tale followed by activities related to the story. \nWe will have crafts\, games\, S.T.E.M. projects\, and more! \n Registration is encouraged.  \nPlease call 570-595-7171 to register.
URL:https://www.barrettlibrary.org/event/fairy-tale-story-time-3/
END:VEVENT
BEGIN:VEVENT
DTSTART;TZID=America/New_York:20230719T180000
DTEND;TZID=America/New_York:20230719T191500
DTSTAMP:20260425T101239
CREATED:20230621T175331Z
LAST-MODIFIED:20230621T175331Z
UID:5697-1689789600-1689794100@www.barrettlibrary.org
SUMMARY:Fairy Tale S.T.E.A.M.
DESCRIPTION:Fairy Tale S.T.E.A.M. \nAges 6-11 \nWednesday\, July 19th 6PM \nCome to the library for some fairy-tale-themed S.T.E.A.M. projects that encourage the use of problem-solving skills and creativity. \nRegistration ir required. Please call 570-595-7171 to register.
URL:https://www.barrettlibrary.org/event/fairy-tale-s-t-e-a-m/
END:VEVENT
BEGIN:VEVENT
DTSTART;TZID=America/New_York:20230719T150000
DTEND;TZID=America/New_York:20230719T153000
DTSTAMP:20260425T101239
CREATED:20230621T174906Z
LAST-MODIFIED:20230621T174906Z
UID:5692-1689778800-1689780600@www.barrettlibrary.org
SUMMARY:Wee Ones Wiggle
DESCRIPTION:Wee Ones Wiggle \nAges 0-5 \nWednesdays in July 3PM  \nKids need to move and be active to stay healthy.  \nJoin us for a high-energy program filled with dancing\, shaking\, and singing.  \nDrop-ins are welcome!
URL:https://www.barrettlibrary.org/event/wee-ones-wiggle-15/
END:VEVENT
BEGIN:VEVENT
DTSTART;TZID=America/New_York:20230718T130000
DTEND;TZID=America/New_York:20230718T140000
DTSTAMP:20260425T101239
CREATED:20230629T154346Z
LAST-MODIFIED:20230629T154346Z
UID:5719-1689685200-1689688800@www.barrettlibrary.org
SUMMARY:Afternoon Book Club
DESCRIPTION:Our Afternoon Book Club now meets at the Library! An option to join with Zoom is still available\, as well. This month\, we will discuss The Case of the ‘Carousel’ Killer by Susan Moore Jordan. If you’re interested in joining\, please call the Library for more details.
URL:https://www.barrettlibrary.org/event/afternoon-book-club-4/
END:VEVENT
BEGIN:VEVENT
DTSTART;TZID=America/New_York:20230718T103000
DTEND;TZID=America/New_York:20230718T113000
DTSTAMP:20260425T101239
CREATED:20230621T171904Z
LAST-MODIFIED:20230621T171904Z
UID:5667-1689676200-1689679800@www.barrettlibrary.org
SUMMARY:Baby & Me Story Time
DESCRIPTION:Baby & Me Story Time \nAges 0-2 \nTuesdays in July 10:30AM (the library is closed Tuesday\, 7/4) \nA special story time for our youngest patrons and their grownups. Join us for stories\, songs\, and games!
URL:https://www.barrettlibrary.org/event/baby-me-story-time-2/
END:VEVENT
END:VCALENDAR