BEGIN:VCALENDAR
VERSION:2.0
PRODID:-//Barrett Paradise Friendly Library - ECPv6.15.20//NONSGML v1.0//EN
CALSCALE:GREGORIAN
METHOD:PUBLISH
X-WR-CALNAME:Barrett Paradise Friendly Library
X-ORIGINAL-URL:https://www.barrettlibrary.org
X-WR-CALDESC:Events for Barrett Paradise Friendly Library
REFRESH-INTERVAL;VALUE=DURATION:PT1H
X-Robots-Tag:noindex
X-PUBLISHED-TTL:PT1H
BEGIN:VTIMEZONE
TZID:America/New_York
BEGIN:DAYLIGHT
TZOFFSETFROM:-0500
TZOFFSETTO:-0400
TZNAME:EDT
DTSTART:20210314T070000
END:DAYLIGHT
BEGIN:STANDARD
TZOFFSETFROM:-0400
TZOFFSETTO:-0500
TZNAME:EST
DTSTART:20211107T060000
END:STANDARD
BEGIN:DAYLIGHT
TZOFFSETFROM:-0500
TZOFFSETTO:-0400
TZNAME:EDT
DTSTART:20220313T070000
END:DAYLIGHT
BEGIN:STANDARD
TZOFFSETFROM:-0400
TZOFFSETTO:-0500
TZNAME:EST
DTSTART:20221106T060000
END:STANDARD
BEGIN:DAYLIGHT
TZOFFSETFROM:-0500
TZOFFSETTO:-0400
TZNAME:EDT
DTSTART:20230312T070000
END:DAYLIGHT
BEGIN:STANDARD
TZOFFSETFROM:-0400
TZOFFSETTO:-0500
TZNAME:EST
DTSTART:20231105T060000
END:STANDARD
END:VTIMEZONE
BEGIN:VEVENT
DTSTART;VALUE=DATE:20221017
DTEND;VALUE=DATE:20221018
DTSTAMP:20260425T112128
CREATED:20221001T175248Z
LAST-MODIFIED:20221001T175248Z
UID:5046-1665964800-1666051199@www.barrettlibrary.org
SUMMARY:Adult Take-Home Craft: Macramé Feathers
DESCRIPTION:Show off your macramé talents with an easy\, fun craft. We supply all the materials. You must register for this craft. \n 
URL:https://www.barrettlibrary.org/event/adult-take-home-craft-macrame-feathers/
END:VEVENT
BEGIN:VEVENT
DTSTART;TZID=America/New_York:20221013T183000
DTEND;TZID=America/New_York:20221013T193000
DTSTAMP:20260425T112128
CREATED:20221001T175101Z
LAST-MODIFIED:20221001T175101Z
UID:5044-1665685800-1665689400@www.barrettlibrary.org
SUMMARY:Virtual Writing Group
DESCRIPTION:Join us on Zoom to discuss the art of writing while sharing work with the group.  \n 
URL:https://www.barrettlibrary.org/event/virtual-writing-group-13/
END:VEVENT
BEGIN:VEVENT
DTSTART;TZID=America/New_York:20221013T103000
DTEND;TZID=America/New_York:20221013T113000
DTSTAMP:20260425T112128
CREATED:20220906T154852Z
LAST-MODIFIED:20220906T154852Z
UID:5007-1665657000-1665660600@www.barrettlibrary.org
SUMMARY:Story Time at the Library
DESCRIPTION:Story Time at the Library \nAges 0-5 \nThursday\, October 6th -Thursday\, October 20th \n10:30AM-11:30AM \nPlease join us for stories and songs in the Weiler Family Community Room.  \nSpace is limited and sign ups are required for this three-week session. \nPlease call the library to register for this series.
URL:https://www.barrettlibrary.org/event/story-time-at-the-library-6/
END:VEVENT
BEGIN:VEVENT
DTSTART;TZID=America/New_York:20221012T130000
DTEND;TZID=America/New_York:20221012T140000
DTSTAMP:20260425T112128
CREATED:20221001T174833Z
LAST-MODIFIED:20221001T174833Z
UID:5037-1665579600-1665583200@www.barrettlibrary.org
SUMMARY:Shakespeare Group
DESCRIPTION:The Bard is back! Join Pat Williams for this weekly literary experience discussing Shakespeare and/or other topics of interest to the group. Please contact Pat or call the Library if you’re interested in attending. 
URL:https://www.barrettlibrary.org/event/shakespeare-group-5/
END:VEVENT
BEGIN:VEVENT
DTSTART;TZID=America/New_York:20221011T103000
DTEND;TZID=America/New_York:20221011T110000
DTSTAMP:20260425T112128
CREATED:20220906T154312Z
LAST-MODIFIED:20220906T154312Z
UID:5000-1665484200-1665486000@www.barrettlibrary.org
SUMMARY:Story Time at Ice Lake
DESCRIPTION:Story Time at Ice Lake \nAges 0-5 \nTuesdays in October 10:30AM-11AM \nAll children are welcome to join us under the pavilion at The Barrett Township Community Park at Ice Lake for stories\, songs\, and games! Registration is not required. If it is raining on story time day\, please check our facebook page or call the library for updates about cancellations.
URL:https://www.barrettlibrary.org/event/story-time-at-ice-lake-19/
END:VEVENT
BEGIN:VEVENT
DTSTART;TZID=America/New_York:20221006T103000
DTEND;TZID=America/New_York:20221006T113000
DTSTAMP:20260425T112128
CREATED:20220906T154657Z
LAST-MODIFIED:20220906T154657Z
UID:5005-1665052200-1665055800@www.barrettlibrary.org
SUMMARY:Story Time at the Library
DESCRIPTION:Story Time at the Library \nAges 0-5 \nThursday\, October 6th -Thursday\, October 20th \n10:30AM-11:30AM \nPlease join us for stories and songs in the Weiler Family Community Room. Space is limited and sign ups are required for this three-week session. \nPlease call the library to register for this series.
URL:https://www.barrettlibrary.org/event/story-time-at-the-library-5/
END:VEVENT
BEGIN:VEVENT
DTSTART;TZID=America/New_York:20221005T130000
DTEND;TZID=America/New_York:20221005T140000
DTSTAMP:20260425T112128
CREATED:20221001T174747Z
LAST-MODIFIED:20221001T174747Z
UID:5035-1664974800-1664978400@www.barrettlibrary.org
SUMMARY:Shakespeare Group
DESCRIPTION:The Bard is back! Join Pat Williams for this weekly literary experience discussing Shakespeare and/or other topics of interest to the group. Please contact Pat or call the Library if you’re interested in attending. 
URL:https://www.barrettlibrary.org/event/shakespeare-group-4/
END:VEVENT
BEGIN:VEVENT
DTSTART;TZID=America/New_York:20221004T103000
DTEND;TZID=America/New_York:20221004T110000
DTSTAMP:20260425T112128
CREATED:20220906T154041Z
LAST-MODIFIED:20221004T142111Z
UID:4998-1664879400-1664881200@www.barrettlibrary.org
SUMMARY:Story Time at Ice Lake  ***canceled today due to rain***
DESCRIPTION:  \n****canceled today due to rain**** \nStory Time at Ice Lake \nAges 0-5 \nTuesdays in October 10:30AM-11AM \nAll children are welcome to join us under the pavilion at The Barrett Township Community Park at Ice Lake for stories\, songs\, and games!  \nRegistration is not required. If it is raining on story time day\, please check our Facebook page or call the library for updates about cancellations.
URL:https://www.barrettlibrary.org/event/story-time-at-ice-lake-18/
END:VEVENT
BEGIN:VEVENT
DTSTART;VALUE=DATE:20221001
DTEND;VALUE=DATE:20221101
DTSTAMP:20260425T112128
CREATED:20220906T155410Z
LAST-MODIFIED:20220906T155410Z
UID:5018-1664582400-1667260799@www.barrettlibrary.org
SUMMARY:Tale on the Trail at Ice Lake
DESCRIPTION:Tale on the Trail at Ice Lake \nVisit the Barrett Township Community Park at Ice Lake to embark on this family reading adventure!  \nFollow the trail behind the pavilion and turn right. Enjoy a picture book as you stroll along the path. \nThe path is about 0.12 miles from beginning to end\, and then you can continue around the lake or turn around to return to the pavilion.  \nThe trail is mostly flat\, but rough and rocky. Very young children may need help or prefer to ride in a stroller.  \nLook out for the book\, “Big Pumpkin” by Erica Silverman.
URL:https://www.barrettlibrary.org/event/tale-on-the-trail-at-ice-lake-2/
END:VEVENT
BEGIN:VEVENT
DTSTART;TZID=America/New_York:20220929T103000
DTEND;TZID=America/New_York:20220929T113000
DTSTAMP:20260425T112128
CREATED:20220830T195614Z
LAST-MODIFIED:20220830T195614Z
UID:4986-1664447400-1664451000@www.barrettlibrary.org
SUMMARY:Story Time at the Library
DESCRIPTION:Story Time at the Library \nAges 0-5  \nThursdays\, September 8th -Thursday\, September 29th \n10:30AM-11:30AM \nPlease join us for stories and songs in the Weiler Family Community Room.  \nSpace is limited and registration is required for this four-week session. \nPlease call the library to register for this series.
URL:https://www.barrettlibrary.org/event/story-time-at-the-library-4/
END:VEVENT
BEGIN:VEVENT
DTSTART;TZID=America/New_York:20220928T180000
DTEND;TZID=America/New_York:20220928T184500
DTSTAMP:20260425T112128
CREATED:20220830T200127Z
LAST-MODIFIED:20220830T200127Z
UID:4990-1664388000-1664390700@www.barrettlibrary.org
SUMMARY:Peace Out (teens)
DESCRIPTION:Peace Out \nAges 12-17  \nWednesday \, September 28th 6:00PM  \nBack-to-school often means back to the stress of a busy schedule.  \nCome to the library\, relax with friends\, share some laughs\, and learn some simple techniques for remaining peaceful in this crazy time.
URL:https://www.barrettlibrary.org/event/peace-out-teens/
END:VEVENT
BEGIN:VEVENT
DTSTART;TZID=America/New_York:20220928T130000
DTEND;TZID=America/New_York:20220928T140000
DTSTAMP:20260425T112128
CREATED:20220913T172204Z
LAST-MODIFIED:20220913T172204Z
UID:5025-1664370000-1664373600@www.barrettlibrary.org
SUMMARY:Shakespeare Group
DESCRIPTION:The Bard is back! Join Pat Williams for this weekly literary experience discussing Shakespeare and/or other topics of interest to the group. Please contact Pat or call the Library if you’re interested in attending.
URL:https://www.barrettlibrary.org/event/shakespeare-group-3/
END:VEVENT
BEGIN:VEVENT
DTSTART;TZID=America/New_York:20220927T190000
DTEND;TZID=America/New_York:20220927T200000
DTSTAMP:20260425T112128
CREATED:20220913T172925Z
LAST-MODIFIED:20220913T172925Z
UID:5033-1664305200-1664308800@www.barrettlibrary.org
SUMMARY:Virtual Evening Book Club
DESCRIPTION:Join our virtual evening book club on Zoom. This month\, we will discuss The Lost Apothecary by Sarah Penner. If you’re interested in joining\, please call the Library for more details.
URL:https://www.barrettlibrary.org/event/virtual-evening-book-club-12/
END:VEVENT
BEGIN:VEVENT
DTSTART;TZID=America/New_York:20220927T103000
DTEND;TZID=America/New_York:20220927T110000
DTSTAMP:20260425T112128
CREATED:20220830T194241Z
LAST-MODIFIED:20220830T194241Z
UID:4978-1664274600-1664276400@www.barrettlibrary.org
SUMMARY:Story Time at Ice Lake
DESCRIPTION:Story Time at Ice Lake \nAges 0-5 \nTuesdays in September 10:30AM-11AM \nAll children are welcome to join us under the pavilion at The Barrett Township Community Park at Ice Lake for stories\, songs\, and games!  \nRegistration is not required. If it is raining on story time day\, please check our Facebook page or call the library for updates about cancellations.
URL:https://www.barrettlibrary.org/event/story-time-at-ice-lake-17/
END:VEVENT
BEGIN:VEVENT
DTSTART;TZID=America/New_York:20220922T103000
DTEND;TZID=America/New_York:20220922T110000
DTSTAMP:20260425T112128
CREATED:20220830T195404Z
LAST-MODIFIED:20220830T195404Z
UID:4984-1663842600-1663844400@www.barrettlibrary.org
SUMMARY:Story Time at the Library
DESCRIPTION:Story Time at the Library \nAges 0-5  \nThursdays\, September 8th -Thursday\, September 29th \n10:30AM-11:30AM \nPlease join us for stories and songs in the Weiler Family Community Room.  \nSpace is limited and registration is required for this four-week session. \nPlease call the library to register for this series.
URL:https://www.barrettlibrary.org/event/story-time-at-the-library-3/
END:VEVENT
BEGIN:VEVENT
DTSTART;TZID=America/New_York:20220921T180000
DTEND;TZID=America/New_York:20220921T184500
DTSTAMP:20260425T112128
CREATED:20220830T195943Z
LAST-MODIFIED:20220830T195943Z
UID:4988-1663783200-1663785900@www.barrettlibrary.org
SUMMARY:Peace Out
DESCRIPTION:Peace Out \nAges 6-11  \nWednesday\, September 21st 6:00PM \nBack-to-school often means back to the stress of a busy schedule.  \nCome to the library\, relax with friends\, share some laughs\, and learn some simple techniques for remaining peaceful in this crazy time.
URL:https://www.barrettlibrary.org/event/peace-out/
END:VEVENT
BEGIN:VEVENT
DTSTART;TZID=America/New_York:20220921T130000
DTEND;TZID=America/New_York:20220921T140000
DTSTAMP:20260425T112128
CREATED:20220913T171751Z
LAST-MODIFIED:20220913T171751Z
UID:5023-1663765200-1663768800@www.barrettlibrary.org
SUMMARY:Shakespeare Group
DESCRIPTION:The Bard is back! Join Pat Williams for this weekly literary experience discussing Shakespeare and/or other topics of interest to the group. Please contact Pat or call the Library if you’re interested in attending.
URL:https://www.barrettlibrary.org/event/shakespeare-group-2/
END:VEVENT
BEGIN:VEVENT
DTSTART;TZID=America/New_York:20220920T130000
DTEND;TZID=America/New_York:20220920T140000
DTSTAMP:20260425T112128
CREATED:20220913T172759Z
LAST-MODIFIED:20220913T172759Z
UID:5031-1663678800-1663682400@www.barrettlibrary.org
SUMMARY:Virtual Afternoon Book Club
DESCRIPTION:Join our virtual afternoon book club on Zoom. This month\, we will discuss The Rosie Project by Graeme Simsion. If you’re interested in joining\, please call the Library for more details.
URL:https://www.barrettlibrary.org/event/virtual-afternoon-book-club-12/
END:VEVENT
BEGIN:VEVENT
DTSTART;TZID=America/New_York:20220920T103000
DTEND;TZID=America/New_York:20220920T110000
DTSTAMP:20260425T112128
CREATED:20220830T194141Z
LAST-MODIFIED:20220830T194141Z
UID:4976-1663669800-1663671600@www.barrettlibrary.org
SUMMARY:Story Time at Ice Lake
DESCRIPTION:Story Time at Ice Lake \nAges 0-5 \nTuesdays in September 10:30AM-11AM \nAll children are welcome to join us under the pavilion at The Barrett Township Community Park at Ice Lake for stories\, songs\, and games!  \nRegistration is not required. If it is raining on story time day\, please check our Facebook page or call the library for updates about cancellations.
URL:https://www.barrettlibrary.org/event/story-time-at-ice-lake-16/
END:VEVENT
BEGIN:VEVENT
DTSTART;VALUE=DATE:20220919
DTEND;VALUE=DATE:20220920
DTSTAMP:20260425T112128
CREATED:20220913T172621Z
LAST-MODIFIED:20220913T172621Z
UID:5029-1663545600-1663631999@www.barrettlibrary.org
SUMMARY:Adult Take-Home Craft: Dish Scrubber Pumpkins
DESCRIPTION:Add some fun décor to your kitchen with a dish scrubber pumpkin. We will supply all the materials. Pickup begins Monday\, September 19. You must register for this craft.
URL:https://www.barrettlibrary.org/event/adult-take-home-craft-dish-scrubber-pumpkins/
END:VEVENT
BEGIN:VEVENT
DTSTART;TZID=America/New_York:20220915T183000
DTEND;TZID=America/New_York:20220915T193000
DTSTAMP:20260425T112128
CREATED:20220913T172334Z
LAST-MODIFIED:20220913T172334Z
UID:5027-1663266600-1663270200@www.barrettlibrary.org
SUMMARY:Virtual Writing Group
DESCRIPTION:Join us on Zoom to discuss the art of writing while sharing work with the group. Contact Lynn to receive the link.
URL:https://www.barrettlibrary.org/event/virtual-writing-group-12/
END:VEVENT
BEGIN:VEVENT
DTSTART;TZID=America/New_York:20220915T103000
DTEND;TZID=America/New_York:20220915T113000
DTSTAMP:20260425T112128
CREATED:20220830T195001Z
LAST-MODIFIED:20220830T195001Z
UID:4982-1663237800-1663241400@www.barrettlibrary.org
SUMMARY:Story Time at the Library
DESCRIPTION:Story Time at the Library \nAges 0-5  \nThursdays\, September 8th -Thursday\, September 29th \n10:30AM-11:30AM \nPlease join us for stories and songs in the Weiler Family Community Room.  \nSpace is limited and registration is required for this four-week session. \nPlease call the library to register for this series.
URL:https://www.barrettlibrary.org/event/story-time-at-the-library-2/
END:VEVENT
BEGIN:VEVENT
DTSTART;TZID=America/New_York:20220914T130000
DTEND;TZID=America/New_York:20220914T140000
DTSTAMP:20260425T112128
CREATED:20220913T171102Z
LAST-MODIFIED:20220913T171102Z
UID:5021-1663160400-1663164000@www.barrettlibrary.org
SUMMARY:Shakespeare Group
DESCRIPTION:The Bard is back! Join Pat Williams for this weekly literary experience discussing Shakespeare and/or other topics of interest to the group. Please contact Pat or call the Library if you’re interested in attending.
URL:https://www.barrettlibrary.org/event/shakespeare-group/
END:VEVENT
BEGIN:VEVENT
DTSTART;TZID=America/New_York:20220913T103000
DTEND;TZID=America/New_York:20220913T110000
DTSTAMP:20260425T112128
CREATED:20220830T193953Z
LAST-MODIFIED:20220830T193953Z
UID:4974-1663065000-1663066800@www.barrettlibrary.org
SUMMARY:Story Time at Ice Lake
DESCRIPTION:Story Time at Ice Lake \nAges 0-5 \nTuesdays in September 10:30AM-11AM \nAll children are welcome to join us under the pavilion at The Barrett Township Community Park at Ice Lake for stories\, songs\, and games!  \nRegistration is not required. If it is raining on story time day\, please check our Facebook page or call the library for updates about cancellations.
URL:https://www.barrettlibrary.org/event/story-time-at-ice-lake-15/
END:VEVENT
BEGIN:VEVENT
DTSTART;TZID=America/New_York:20220908T103000
DTEND;TZID=America/New_York:20220908T113000
DTSTAMP:20260425T112128
CREATED:20220830T194755Z
LAST-MODIFIED:20220830T194755Z
UID:4980-1662633000-1662636600@www.barrettlibrary.org
SUMMARY:Story Time at the Library
DESCRIPTION:Story Time at the Library \nAges 0-5  \nThursdays\, September 8th -Thursday\, September 29th \n10:30AM-11:30AM \nPlease join us for stories and songs in the Weiler Family Community Room.  \nSpace is limited and registration is required for this four-week session. \nPlease call the library to register for this series.
URL:https://www.barrettlibrary.org/event/story-time-at-the-library/
END:VEVENT
BEGIN:VEVENT
DTSTART;TZID=America/New_York:20220906T103000
DTEND;TZID=America/New_York:20220906T110000
DTSTAMP:20260425T112128
CREATED:20220830T193829Z
LAST-MODIFIED:20220906T140022Z
UID:4970-1662460200-1662462000@www.barrettlibrary.org
SUMMARY:Story Time at Ice Lake (canceled today due to rain)
DESCRIPTION:Story Time at Ice Lake \nAges 0-5 \nTuesdays in September 10:30AM-11AM \nAll children are welcome to join us under the pavilion at The Barrett Township Community Park at Ice Lake for stories\, songs\, and games!  \nRegistration is not required. If it is raining on story time day\, please check our Facebook page or call the library for updates about cancellations.
URL:https://www.barrettlibrary.org/event/story-time-at-ice-lake-14/
END:VEVENT
BEGIN:VEVENT
DTSTART;VALUE=DATE:20220905
DTEND;VALUE=DATE:20220906
DTSTAMP:20260425T112128
CREATED:20220901T161143Z
LAST-MODIFIED:20220901T161143Z
UID:4995-1662336000-1662422399@www.barrettlibrary.org
SUMMARY:Library Closed for Labor Day
DESCRIPTION:In observance of Labor Day\, the Library will be closed on Monday\, September 5.
URL:https://www.barrettlibrary.org/event/library-closed-for-labor-day/
END:VEVENT
BEGIN:VEVENT
DTSTART;VALUE=DATE:20220901
DTEND;VALUE=DATE:20221001
DTSTAMP:20260425T112128
CREATED:20220830T200719Z
LAST-MODIFIED:20220830T201819Z
UID:4992-1661990400-1664582399@www.barrettlibrary.org
SUMMARY:Tale on the Trail at Ice Lake
DESCRIPTION:Tale on the Trail at Ice Lake \nVisit the Barrett Township Community Park at Ice Lake to embark on this family reading adventure!  \nFollow the trail behind the pavilion and turn right. Enjoy a picture book as you stroll along the path.  \nThe path is about 0.12 miles from beginning to end\, and then you can continue around the lake or turn around to return to the pavilion.  \nThe trail is mostly flat\, but rough and rocky. Very young children may need help or prefer to ride in a stroller.  \nLook out for the books\, “On This Day” by Andrea Patel. This lovely picture book was written as a tribute to the victim’s  \nof the terrorist attacks on September 11\, 2001 and “Wonder Walkers” by Micha Archer.
URL:https://www.barrettlibrary.org/event/tale-on-the-trail-at-ice-lake/
END:VEVENT
BEGIN:VEVENT
DTSTART;TZID=America/New_York:20220830T190000
DTEND;TZID=America/New_York:20220830T200000
DTSTAMP:20260425T112128
CREATED:20220803T200550Z
LAST-MODIFIED:20220803T200550Z
UID:4960-1661886000-1661889600@www.barrettlibrary.org
SUMMARY:Virtual Evening Book Club
DESCRIPTION:Join our virtual evening book club on Zoom. This month\, we will discuss The Vanishing Half by Brit Bennett. If you’re interested in joining\, please call the Library for more details. \n 
URL:https://www.barrettlibrary.org/event/virtual-evening-book-club-11/
END:VEVENT
BEGIN:VEVENT
DTSTART;TZID=America/New_York:20220830T103000
DTEND;TZID=America/New_York:20220830T110000
DTSTAMP:20260425T112128
CREATED:20220711T185837Z
LAST-MODIFIED:20220711T185837Z
UID:4942-1661855400-1661857200@www.barrettlibrary.org
SUMMARY:Story Time at Ice Lake
DESCRIPTION:Story Time at Ice Lake \nAges 0-5 \nTuesdays August 10:30AM-11AM \nAll children are welcome to join us under the pavilion at The Barrett Township Community Park at Ice Lake for stories\, songs\, and games! Visit with therapy dog Stanley and his owner Roseanne. \nRegistration is not required. If it is raining on story time day\, please check our Facebook page or call the library for updates about cancellations.
URL:https://www.barrettlibrary.org/event/story-time-at-ice-lake-13/
END:VEVENT
END:VCALENDAR