BEGIN:VCALENDAR
VERSION:2.0
PRODID:-//Barrett Paradise Friendly Library - ECPv6.15.20//NONSGML v1.0//EN
CALSCALE:GREGORIAN
METHOD:PUBLISH
X-WR-CALNAME:Barrett Paradise Friendly Library
X-ORIGINAL-URL:https://www.barrettlibrary.org
X-WR-CALDESC:Events for Barrett Paradise Friendly Library
REFRESH-INTERVAL;VALUE=DURATION:PT1H
X-Robots-Tag:noindex
X-PUBLISHED-TTL:PT1H
BEGIN:VTIMEZONE
TZID:America/New_York
BEGIN:DAYLIGHT
TZOFFSETFROM:-0500
TZOFFSETTO:-0400
TZNAME:EDT
DTSTART:20220313T070000
END:DAYLIGHT
BEGIN:STANDARD
TZOFFSETFROM:-0400
TZOFFSETTO:-0500
TZNAME:EST
DTSTART:20221106T060000
END:STANDARD
BEGIN:DAYLIGHT
TZOFFSETFROM:-0500
TZOFFSETTO:-0400
TZNAME:EDT
DTSTART:20230312T070000
END:DAYLIGHT
BEGIN:STANDARD
TZOFFSETFROM:-0400
TZOFFSETTO:-0500
TZNAME:EST
DTSTART:20231105T060000
END:STANDARD
BEGIN:DAYLIGHT
TZOFFSETFROM:-0500
TZOFFSETTO:-0400
TZNAME:EDT
DTSTART:20240310T070000
END:DAYLIGHT
BEGIN:STANDARD
TZOFFSETFROM:-0400
TZOFFSETTO:-0500
TZNAME:EST
DTSTART:20241103T060000
END:STANDARD
END:VTIMEZONE
BEGIN:VEVENT
DTSTART;TZID=America/New_York:20230720T140000
DTEND;TZID=America/New_York:20230720T151500
DTSTAMP:20260425T123622
CREATED:20230621T201252Z
LAST-MODIFIED:20230621T201252Z
UID:5710-1689861600-1689866100@www.barrettlibrary.org
SUMMARY:All Together Now -  Elementary Summer Reading 2023
DESCRIPTION:All Together Now –  Elementary Summer Reading 2023 \nAll Together Now into the Land of Stories…. \nAges 6-11 2PM-3:15PM \nThe program will be held at the library on Thursdays from July 6th- August 10th  \nJoin us for our Children’s Summer Reading Program  \nwhere we will explore different stories from around the world.  \nEach week we will read a different fairy tale followed by activities related to the story. \n We will have crafts\, games\, S.T.E.M. projects\, and more! \nSpace is limited. Please register by calling 570-595-7171
URL:https://www.barrettlibrary.org/event/all-together-now-elementary-summer-reading-2023-3/
END:VEVENT
BEGIN:VEVENT
DTSTART;TZID=America/New_York:20230720T103000
DTEND;TZID=America/New_York:20230720T114500
DTSTAMP:20260425T123622
CREATED:20230621T173051Z
LAST-MODIFIED:20230621T173051Z
UID:5679-1689849000-1689853500@www.barrettlibrary.org
SUMMARY:Fairy Tale Story Time
DESCRIPTION:Fairy Tale Story Time \nAges 0-5 \nThursdays in July 10:30AM \nJoin us for our Children’s Summer Reading Program where we will explore different stories from around the world. \nEach week we will read a different fairy tale followed by activities related to the story. \nWe will have crafts\, games\, S.T.E.M. projects\, and more! \n Registration is encouraged.  \nPlease call 570-595-7171 to register.
URL:https://www.barrettlibrary.org/event/fairy-tale-story-time-3/
END:VEVENT
BEGIN:VEVENT
DTSTART;TZID=America/New_York:20230719T180000
DTEND;TZID=America/New_York:20230719T191500
DTSTAMP:20260425T123622
CREATED:20230621T175331Z
LAST-MODIFIED:20230621T175331Z
UID:5697-1689789600-1689794100@www.barrettlibrary.org
SUMMARY:Fairy Tale S.T.E.A.M.
DESCRIPTION:Fairy Tale S.T.E.A.M. \nAges 6-11 \nWednesday\, July 19th 6PM \nCome to the library for some fairy-tale-themed S.T.E.A.M. projects that encourage the use of problem-solving skills and creativity. \nRegistration ir required. Please call 570-595-7171 to register.
URL:https://www.barrettlibrary.org/event/fairy-tale-s-t-e-a-m/
END:VEVENT
BEGIN:VEVENT
DTSTART;TZID=America/New_York:20230719T150000
DTEND;TZID=America/New_York:20230719T153000
DTSTAMP:20260425T123622
CREATED:20230621T174906Z
LAST-MODIFIED:20230621T174906Z
UID:5692-1689778800-1689780600@www.barrettlibrary.org
SUMMARY:Wee Ones Wiggle
DESCRIPTION:Wee Ones Wiggle \nAges 0-5 \nWednesdays in July 3PM  \nKids need to move and be active to stay healthy.  \nJoin us for a high-energy program filled with dancing\, shaking\, and singing.  \nDrop-ins are welcome!
URL:https://www.barrettlibrary.org/event/wee-ones-wiggle-15/
END:VEVENT
BEGIN:VEVENT
DTSTART;TZID=America/New_York:20230718T130000
DTEND;TZID=America/New_York:20230718T140000
DTSTAMP:20260425T123622
CREATED:20230629T154346Z
LAST-MODIFIED:20230629T154346Z
UID:5719-1689685200-1689688800@www.barrettlibrary.org
SUMMARY:Afternoon Book Club
DESCRIPTION:Our Afternoon Book Club now meets at the Library! An option to join with Zoom is still available\, as well. This month\, we will discuss The Case of the ‘Carousel’ Killer by Susan Moore Jordan. If you’re interested in joining\, please call the Library for more details.
URL:https://www.barrettlibrary.org/event/afternoon-book-club-4/
END:VEVENT
BEGIN:VEVENT
DTSTART;TZID=America/New_York:20230718T103000
DTEND;TZID=America/New_York:20230718T113000
DTSTAMP:20260425T123622
CREATED:20230621T171904Z
LAST-MODIFIED:20230621T171904Z
UID:5667-1689676200-1689679800@www.barrettlibrary.org
SUMMARY:Baby & Me Story Time
DESCRIPTION:Baby & Me Story Time \nAges 0-2 \nTuesdays in July 10:30AM (the library is closed Tuesday\, 7/4) \nA special story time for our youngest patrons and their grownups. Join us for stories\, songs\, and games!
URL:https://www.barrettlibrary.org/event/baby-me-story-time-2/
END:VEVENT
BEGIN:VEVENT
DTSTART;TZID=America/New_York:20230718T100000
DTEND;TZID=America/New_York:20230718T150000
DTSTAMP:20260425T123622
CREATED:20230630T211610Z
LAST-MODIFIED:20230630T211610Z
UID:5747-1689674400-1689692400@www.barrettlibrary.org
SUMMARY:Rep Madden Office Hours
DESCRIPTION:State Representative Maureen Madden’s staff will hold satellite office hours at the Library the first week (Wed & Thu) and third week (Mon & Tue) each month from 10am-3pm to offer constituent services. For questions about services\, please call 570-894-7905 or visit her website.
URL:https://www.barrettlibrary.org/event/rep-madden-office-hours-10/
END:VEVENT
BEGIN:VEVENT
DTSTART;TZID=America/New_York:20230717T100000
DTEND;TZID=America/New_York:20230717T150000
DTSTAMP:20260425T123622
CREATED:20230630T211458Z
LAST-MODIFIED:20230630T211458Z
UID:5745-1689588000-1689606000@www.barrettlibrary.org
SUMMARY:Rep Madden Office Hours
DESCRIPTION:State Representative Maureen Madden’s staff will hold satellite office hours at the Library the first week (Wed & Thu) and third week (Mon & Tue) each month from 10am-3pm to offer constituent services. For questions about services\, please call 570-894-7905 or visit her website.
URL:https://www.barrettlibrary.org/event/rep-madden-office-hours-9/
END:VEVENT
BEGIN:VEVENT
DTSTART;TZID=America/New_York:20230715T140000
DTEND;TZID=America/New_York:20230715T160000
DTSTAMP:20260425T123622
CREATED:20230702T195818Z
LAST-MODIFIED:20230702T195818Z
UID:5757-1689429600-1689436800@www.barrettlibrary.org
SUMMARY:Artist Reception: Joyce Love
DESCRIPTION:Stop by and view the beautiful artwork on display in the Weiler Family Community Room: “Flowers Here and There\,” original watercolors inspired by nature and masterfully created by local artist Joyce Love. Join us for the Artist Reception on Sat\, July 15\, 2-4pm. All are welcome. Light refreshments.
URL:https://www.barrettlibrary.org/event/artist-reception-joyce-love/
END:VEVENT
BEGIN:VEVENT
DTSTART;TZID=America/New_York:20230713T183000
DTEND;TZID=America/New_York:20230713T183000
DTSTAMP:20260425T123622
CREATED:20230629T154227Z
LAST-MODIFIED:20230629T154227Z
UID:5717-1689273000-1689273000@www.barrettlibrary.org
SUMMARY:Virtual Writing Group
DESCRIPTION:Join us on Zoom to discuss the art of writing while sharing work with the group.
URL:https://www.barrettlibrary.org/event/virtual-writing-group-23/
END:VEVENT
BEGIN:VEVENT
DTSTART;TZID=America/New_York:20230713T140000
DTEND;TZID=America/New_York:20230713T151500
DTSTAMP:20260425T123622
CREATED:20230621T201217Z
LAST-MODIFIED:20230621T201217Z
UID:5708-1689256800-1689261300@www.barrettlibrary.org
SUMMARY:All Together Now -  Elementary Summer Reading 2023
DESCRIPTION:All Together Now –  Elementary Summer Reading 2023 \nAll Together Now into the Land of Stories…. \nAges 6-11 2PM-3:15PM \nThe program will be held at the library on Thursdays from July 6th- August 10th  \nJoin us for our Children’s Summer Reading Program  \nwhere we will explore different stories from around the world.  \nEach week we will read a different fairy tale followed by activities related to the story. \n We will have crafts\, games\, S.T.E.M. projects\, and more! \nSpace is limited. Please register by calling 570-595-7171
URL:https://www.barrettlibrary.org/event/all-together-now-elementary-summer-reading-2023-2/
END:VEVENT
BEGIN:VEVENT
DTSTART;TZID=America/New_York:20230713T103000
DTEND;TZID=America/New_York:20230713T114500
DTSTAMP:20260425T123622
CREATED:20230621T172847Z
LAST-MODIFIED:20230621T172847Z
UID:5677-1689244200-1689248700@www.barrettlibrary.org
SUMMARY:Fairy Tale Story Time
DESCRIPTION:Fairy Tale Story Time \nAges 0-5 \nThursdays in July 10:30AM \nJoin us for our Children’s Summer Reading Program where we will explore different stories from around the world. \nEach week we will read a different fairy tale followed by activities related to the story. \nWe will have crafts\, games\, S.T.E.M. projects\, and more! \n Registration is encouraged.  \nPlease call 570-595-7171 to register.
URL:https://www.barrettlibrary.org/event/fairy-tale-story-time-2/
END:VEVENT
BEGIN:VEVENT
DTSTART;TZID=America/New_York:20230712T180000
DTEND;TZID=America/New_York:20230712T190000
DTSTAMP:20260425T123622
CREATED:20230621T175635Z
LAST-MODIFIED:20230621T190105Z
UID:5700-1689184800-1689188400@www.barrettlibrary.org
SUMMARY:Twisted Tales: Video Production Group for Teens
DESCRIPTION:Twisted Tales: Video Production \nAges 12-18 \nWednesday\, July 12th 6PM \nTeens are invited to join our Twisted Tales video production group.  \nDuring this meeting we will pick a classic fairytale to reimagine and recreate into a short video.  \nThe group will meet virtually and in-person throughout the Summer. We need all types of talent!
URL:https://www.barrettlibrary.org/event/twisted-tales-video-production-group-for-teens/
END:VEVENT
BEGIN:VEVENT
DTSTART;TZID=America/New_York:20230712T150000
DTEND;TZID=America/New_York:20230712T153000
DTSTAMP:20260425T123622
CREATED:20230621T174829Z
LAST-MODIFIED:20230621T174829Z
UID:5690-1689174000-1689175800@www.barrettlibrary.org
SUMMARY:Wee Ones Wiggle
DESCRIPTION:Wee Ones Wiggle \nAges 0-5 \nWednesdays in July 3PM  \nKids need to move and be active to stay healthy.  \nJoin us for a high-energy program filled with dancing\, shaking\, and singing.  \nDrop-ins are welcome!
URL:https://www.barrettlibrary.org/event/wee-ones-wiggle-14/
END:VEVENT
BEGIN:VEVENT
DTSTART;TZID=America/New_York:20230711T163000
DTEND;TZID=America/New_York:20230711T203000
DTSTAMP:20260425T123622
CREATED:20230701T202906Z
LAST-MODIFIED:20230701T202906Z
UID:5755-1689093000-1689107400@www.barrettlibrary.org
SUMMARY:Concert in the Park
DESCRIPTION:Come stop by our table at Barrett Township’s Concert in the Park. We will have a scavenger hunt for the kids\, library card sign ups\, and more! \nFor more information about the event and tickets please visit the Rotary’s website at https://rotaryclubofthepoconomountains.com/concert-in-the-park/ \n  \n  \n  \n 
URL:https://www.barrettlibrary.org/event/concert-in-the-park/
END:VEVENT
BEGIN:VEVENT
DTSTART;TZID=America/New_York:20230711T130000
DTEND;TZID=America/New_York:20230711T150000
DTSTAMP:20260425T123622
CREATED:20230530T155159Z
LAST-MODIFIED:20230530T155159Z
UID:5635-1689080400-1689087600@www.barrettlibrary.org
SUMMARY:Movie Day at the Library
DESCRIPTION:Movie Day is back! Come to the Library to watch a newly released movie with friends. This month we will watch Tar\, starring Cate Blanchet. \n 
URL:https://www.barrettlibrary.org/event/movie-day-at-the-library-7/
END:VEVENT
BEGIN:VEVENT
DTSTART;TZID=America/New_York:20230711T103000
DTEND;TZID=America/New_York:20230711T110000
DTSTAMP:20260425T123622
CREATED:20230621T170402Z
LAST-MODIFIED:20230621T170519Z
UID:5663-1689071400-1689073200@www.barrettlibrary.org
SUMMARY:Baby & Me Story Time
DESCRIPTION:Baby & Me Story Time \nAges 0-2 \nTuesdays in July 10:30AM (the library is closed Tuesday\, 7/4) \nA special story time for our youngest patrons and their grownups.  \nJoin us for stories\, songs\, and games! 
URL:https://www.barrettlibrary.org/event/baby-me-story-time/
END:VEVENT
BEGIN:VEVENT
DTSTART;TZID=America/New_York:20230707T103000
DTEND;TZID=America/New_York:20230707T113000
DTSTAMP:20260425T123622
CREATED:20230621T170206Z
LAST-MODIFIED:20230621T170206Z
UID:5660-1688725800-1688729400@www.barrettlibrary.org
SUMMARY:Story Time at Ice Lake
DESCRIPTION:  \nStory Time at Ice Lake \nAges 0-5 \nFriday\, July 7th 10:30AM \nJoin us under the pavilion at High Acres for stories\, songs\,  \nand a walk through the woods! \nIn case of severe weather\, story time will be canceled. \nLook for updates on our website & Facebook pages\, or call 570-595-7171
URL:https://www.barrettlibrary.org/event/story-time-at-ice-lake-21/
END:VEVENT
BEGIN:VEVENT
DTSTART;TZID=America/New_York:20230706T140000
DTEND;TZID=America/New_York:20230706T151500
DTSTAMP:20260425T123622
CREATED:20230621T200924Z
LAST-MODIFIED:20230621T200924Z
UID:5704-1688652000-1688656500@www.barrettlibrary.org
SUMMARY:All Together Now - Elementary Summer Reading 2023
DESCRIPTION:All Together Now – Summer Reading 2023 \nAll Together Now into the Land of Stories…. \nAges 6-11 2PM-3:15PM \nThe program will be held at the library on Thursdays from July 6th- August 10th  \nJoin us for our Children’s Summer Reading Program  \nwhere we will explore different stories from around the world.  \nEach week we will read a different fairy tale followed by activities related to the story. \n We will have crafts\, games\, S.T.E.M. projects\, and more! \nSpace is limited. Please register by calling 570-595-7171
URL:https://www.barrettlibrary.org/event/all-together-now-elementary-summer-reading-2023/
END:VEVENT
BEGIN:VEVENT
DTSTART;TZID=America/New_York:20230706T103000
DTEND;TZID=America/New_York:20230706T114500
DTSTAMP:20260425T123622
CREATED:20230621T172506Z
LAST-MODIFIED:20230621T172546Z
UID:5671-1688639400-1688643900@www.barrettlibrary.org
SUMMARY:Fairy Tale Story Time
DESCRIPTION:Fairy Tale Story Time \nAges 0-5 \nThursdays in July 10:30AM \nJoin us for our Children’s Summer Reading Program where we will explore different stories from around the world. \nEach week we will read a different fairy tale followed by activities related to the story. \nWe will have crafts\, games\, S.T.E.M. projects\, and more! \n Registration is encouraged.  \nPlease call 570-595-7171 to register.
URL:https://www.barrettlibrary.org/event/fairy-tale-story-time/
END:VEVENT
BEGIN:VEVENT
DTSTART;TZID=America/New_York:20230706T100000
DTEND;TZID=America/New_York:20230706T150000
DTSTAMP:20260425T123622
CREATED:20230630T211354Z
LAST-MODIFIED:20230630T211354Z
UID:5743-1688637600-1688655600@www.barrettlibrary.org
SUMMARY:Rep Madden Office Hours
DESCRIPTION:State Representative Maureen Madden’s staff will hold satellite office hours at the Library the first week (Wed & Thu) and third week (Mon & Tue) each month from 10am-3pm to offer constituent services. For questions about services\, please call 570-894-7905 or visit her website.
URL:https://www.barrettlibrary.org/event/rep-madden-office-hours-8/
END:VEVENT
BEGIN:VEVENT
DTSTART;TZID=America/New_York:20230705T150000
DTEND;TZID=America/New_York:20230705T153000
DTSTAMP:20260425T123622
CREATED:20230621T174710Z
LAST-MODIFIED:20230621T174710Z
UID:5687-1688569200-1688571000@www.barrettlibrary.org
SUMMARY:Wee Ones Wiggle
DESCRIPTION:  \nWee Ones Wiggle \nAges 0-5 \nWednesdays in July 3PM  \nKids need to move and be active to stay healthy.  \nJoin us for a high-energy program filled with dancing\, shaking\, and singing.  \nDrop-ins are welcome!
URL:https://www.barrettlibrary.org/event/wee-ones-wiggle-13/
END:VEVENT
BEGIN:VEVENT
DTSTART;TZID=America/New_York:20230705T100000
DTEND;TZID=America/New_York:20230705T150000
DTSTAMP:20260425T123622
CREATED:20230630T211246Z
LAST-MODIFIED:20230630T211246Z
UID:5741-1688551200-1688569200@www.barrettlibrary.org
SUMMARY:Rep Madden Office Hours
DESCRIPTION:State Representative Maureen Madden’s staff will hold satellite office hours at the Library the first week (Wed & Thu) and third week (Mon & Tue) each month from 10am-3pm to offer constituent services. For questions about services\, please call 570-894-7905 or visit her website.
URL:https://www.barrettlibrary.org/event/rep-madden-office-hours-7/
END:VEVENT
BEGIN:VEVENT
DTSTART;VALUE=DATE:20230705
DTEND;VALUE=DATE:20230706
DTSTAMP:20260425T123622
CREATED:20230629T154942Z
LAST-MODIFIED:20230629T154942Z
UID:5725-1688515200-1688601599@www.barrettlibrary.org
SUMMARY:Adult Reading Program: All Together Now
DESCRIPTION:Adults can join the summer reading fun\, too! Starting July 5\, grab a summer reading Bingo card from the Library and play for a chance to win a prize. The cards are full of fun reading challenges and summer activities. You can enter up to six Bingos into the raffle. When you’ve achieved your goal\, return your card or email a photo to Lynn at l.vromanbpfl@gmail.com by Thursday\, August 31.
URL:https://www.barrettlibrary.org/event/adult-reading-program-all-together-now/
END:VEVENT
BEGIN:VEVENT
DTSTART;VALUE=DATE:20230704
DTEND;VALUE=DATE:20230705
DTSTAMP:20260425T123622
CREATED:20230621T174244Z
LAST-MODIFIED:20230621T174254Z
UID:5684-1688428800-1688515199@www.barrettlibrary.org
SUMMARY:Library Closed for Independence Day
DESCRIPTION:  \nThe Library will be closed Tuesday\, 7/4\, in observance of the Independence Day holiday. \nVisit www.BarrettLibrary.org to access many of our e-resources from home! \n \n 
URL:https://www.barrettlibrary.org/event/library-closed-for-independence-day/
END:VEVENT
BEGIN:VEVENT
DTSTART;VALUE=DATE:20230702
DTEND;VALUE=DATE:20230703
DTSTAMP:20260425T123622
CREATED:20230621T201539Z
LAST-MODIFIED:20230621T201539Z
UID:5714-1688256000-1688342399@www.barrettlibrary.org
SUMMARY:Tale on the Trail at Ice Lake
DESCRIPTION:Tale on the Trail at Ice Lake \nVisit the Barrett Township Community Park at Ice Lake to embark on this family reading adventure! Follow the trail behind the pavilion and turn right. Enjoy a picture book as you stroll along the path. The path is about 0.12 miles from beginning to end\, and then you can continue around the lake or turn around to return to the pavilion. The trail is mostly flat\, but rough and rocky. Very young children may need help or prefer to ride in a stroller. \nThis trail can be enjoyed anytime the park is open. New books will be featured regularly.
URL:https://www.barrettlibrary.org/event/tale-on-the-trail-at-ice-lake-4/
END:VEVENT
BEGIN:VEVENT
DTSTART;TZID=America/New_York:20230629T113000
DTEND;TZID=America/New_York:20230629T120000
DTSTAMP:20260425T123622
CREATED:20230603T203850Z
LAST-MODIFIED:20230603T203850Z
UID:5646-1688038200-1688040000@www.barrettlibrary.org
SUMMARY:Wee Ones Wiggle
DESCRIPTION:Wee Ones Wiggle \nAges 0-5 \nThursdays\, June 8th\, 22nd\, and 29th 11:30AM-12PM (we will not meet on June 15th) \nKids need to move and be active to stay healthy. Join us for a high-energy program filled with dancing\, shaking\, and singing.
URL:https://www.barrettlibrary.org/event/wee-ones-wiggle-12/
END:VEVENT
BEGIN:VEVENT
DTSTART;TZID=America/New_York:20230629T103000
DTEND;TZID=America/New_York:20230629T111500
DTSTAMP:20260425T123622
CREATED:20230427T173409Z
LAST-MODIFIED:20230427T173409Z
UID:5553-1688034600-1688037300@www.barrettlibrary.org
SUMMARY:Story Time at the Library
DESCRIPTION:Story Time at the Library \nAges 0-5 \nThursdays\, June 8th\, 15th\, 22nd\, and 29th 10:30AM-11:15AM \nPlease join us for stories\, songs\, and games!
URL:https://www.barrettlibrary.org/event/story-time-at-the-library-21/
END:VEVENT
BEGIN:VEVENT
DTSTART;TZID=America/New_York:20230628T180000
DTEND;TZID=America/New_York:20230628T190000
DTSTAMP:20260425T123622
CREATED:20230610T173132Z
LAST-MODIFIED:20230610T173132Z
UID:5652-1687975200-1687978800@www.barrettlibrary.org
SUMMARY:Qigong with Richard Roche
DESCRIPTION:Come to the Library for a relaxing\, informative Qigong class with Richie Roche. Qigong is a mind\, body\, and spirit internal art with many mental and physical health benefits. Richie will cover some principles of Qigong and guide you through basic movements. Registration is required for this class\, as space is limited.
URL:https://www.barrettlibrary.org/event/qigong-with-richard-roche/
END:VEVENT
BEGIN:VEVENT
DTSTART;TZID=America/New_York:20230628T150000
DTEND;TZID=America/New_York:20230628T153000
DTSTAMP:20260425T123622
CREATED:20230427T174057Z
LAST-MODIFIED:20230427T174057Z
UID:5565-1687964400-1687966200@www.barrettlibrary.org
SUMMARY:Shake\, Rattle\, and Read!
DESCRIPTION:Shake\, Rattle\, and Read! \nAges 0-5 \nWednesdays\, June 14th & 28th 3:00PM. \nTogether we will boost our early literacy skills with songs\, stories\, and movement. Drop-ins are welcome. 
URL:https://www.barrettlibrary.org/event/shake-rattle-and-read-4/
END:VEVENT
END:VCALENDAR