BEGIN:VCALENDAR
VERSION:2.0
PRODID:-//Barrett Paradise Friendly Library - ECPv6.15.20//NONSGML v1.0//EN
CALSCALE:GREGORIAN
METHOD:PUBLISH
X-WR-CALNAME:Barrett Paradise Friendly Library
X-ORIGINAL-URL:https://www.barrettlibrary.org
X-WR-CALDESC:Events for Barrett Paradise Friendly Library
REFRESH-INTERVAL;VALUE=DURATION:PT1H
X-Robots-Tag:noindex
X-PUBLISHED-TTL:PT1H
BEGIN:VTIMEZONE
TZID:America/New_York
BEGIN:DAYLIGHT
TZOFFSETFROM:-0500
TZOFFSETTO:-0400
TZNAME:EDT
DTSTART:20230312T070000
END:DAYLIGHT
BEGIN:STANDARD
TZOFFSETFROM:-0400
TZOFFSETTO:-0500
TZNAME:EST
DTSTART:20231105T060000
END:STANDARD
BEGIN:DAYLIGHT
TZOFFSETFROM:-0500
TZOFFSETTO:-0400
TZNAME:EDT
DTSTART:20240310T070000
END:DAYLIGHT
BEGIN:STANDARD
TZOFFSETFROM:-0400
TZOFFSETTO:-0500
TZNAME:EST
DTSTART:20241103T060000
END:STANDARD
BEGIN:DAYLIGHT
TZOFFSETFROM:-0500
TZOFFSETTO:-0400
TZNAME:EDT
DTSTART:20250309T070000
END:DAYLIGHT
BEGIN:STANDARD
TZOFFSETFROM:-0400
TZOFFSETTO:-0500
TZNAME:EST
DTSTART:20251102T060000
END:STANDARD
BEGIN:DAYLIGHT
TZOFFSETFROM:-0500
TZOFFSETTO:-0400
TZNAME:EDT
DTSTART:20260308T070000
END:DAYLIGHT
BEGIN:STANDARD
TZOFFSETFROM:-0400
TZOFFSETTO:-0500
TZNAME:EST
DTSTART:20261101T060000
END:STANDARD
END:VTIMEZONE
BEGIN:VEVENT
DTSTART;TZID=America/New_York:20250108T180000
DTEND;TZID=America/New_York:20250108T193000
DTSTAMP:20260424T074326
CREATED:20241214T210419Z
LAST-MODIFIED:20241214T210419Z
UID:6922-1736359200-1736364600@www.barrettlibrary.org
SUMMARY:Keyboarding Classes
DESCRIPTION:Join music teacher Michael Capone at the Library for a six-week series on the basics of keyboarding and music reading. Keyboards and headphones provided for use at the Library. Space is limited; registration is required by calling the Library\, 570-595-7171. \nWednesdays\, January 8 – February 12 \nAges 8 – 12: 6:00 pm – 6:45 pm \nAges 13 – Adult: 6:45 pm – 7:30 pm
URL:https://www.barrettlibrary.org/event/keyboarding-classes/
END:VEVENT
BEGIN:VEVENT
DTSTART;TZID=America/New_York:20250107T130000
DTEND;TZID=America/New_York:20250107T150000
DTSTAMP:20260424T074326
CREATED:20241207T153053Z
LAST-MODIFIED:20241207T153053Z
UID:6906-1736254800-1736262000@www.barrettlibrary.org
SUMMARY:Movie Day at the Library
DESCRIPTION:Come to the Library the first Tuesday of each month to watch a newly released movie with friends. This month we will watch Twisters\, starring Glen Powell. Rated PG-13. \n  \nHaunted by a devastating encounter with a tornado\, Kate Cooper gets lured back to the open plains by her friend\, Javi\, to test a groundbreaking new tracking system. She soon crosses paths with Tyler Owens\, a charming but reckless social-media superstar who thrives on posting his storm-chasing adventures. As storm season intensifies\, Kate\, Tyler and their competing teams find themselves in a fight for their lives as multiple systems converge over central Oklahoma. \n 
URL:https://www.barrettlibrary.org/event/movie-day-at-the-library-25/
END:VEVENT
BEGIN:VEVENT
DTSTART;TZID=America/New_York:20250107T103000
DTEND;TZID=America/New_York:20250107T110000
DTSTAMP:20260424T074326
CREATED:20241216T235854Z
LAST-MODIFIED:20241216T235854Z
UID:6939-1736245800-1736247600@www.barrettlibrary.org
SUMMARY:Baby & Me
DESCRIPTION:Baby & Me \nAges 0-2 \nTuesdays in January 10:30am \nA special story time for our youngest patrons and their grownups.  \nJoin us for stories\, songs\, and games! 
URL:https://www.barrettlibrary.org/event/baby-me-61/
END:VEVENT
BEGIN:VEVENT
DTSTART;TZID=America/New_York:20250106T180000
DTEND;TZID=America/New_York:20250106T190000
DTSTAMP:20260424T074326
CREATED:20241217T003324Z
LAST-MODIFIED:20241217T003324Z
UID:6958-1736186400-1736190000@www.barrettlibrary.org
SUMMARY:Family Science - Candy House Construction
DESCRIPTION:Family Science – Candy House Construction  \nFamily Program \nMonday\, January 6th 6pm \nJoin us in the library for an evening of sweet construction. \n Each family will work together to build a candy house. \n Registration is required.
URL:https://www.barrettlibrary.org/event/family-science-candy-house-construction/
END:VEVENT
BEGIN:VEVENT
DTSTART;TZID=America/New_York:20250106T100000
DTEND;TZID=America/New_York:20250106T110000
DTSTAMP:20260424T074326
CREATED:20250102T173519Z
LAST-MODIFIED:20250102T173519Z
UID:7001-1736157600-1736161200@www.barrettlibrary.org
SUMMARY:Mindful Meditation & Yoga
DESCRIPTION:Danielle Lane will guide you through relaxing meditation and light yoga to start your day. This weekly class will replace the Friday yoga classes. Space is limited: please register each week by calling the Library\, 570-595-7171.
URL:https://www.barrettlibrary.org/event/mindful-meditation-yoga/
END:VEVENT
BEGIN:VEVENT
DTSTART;TZID=America/New_York:20250102T103000
DTEND;TZID=America/New_York:20250102T113000
DTSTAMP:20260424T074326
CREATED:20241217T000721Z
LAST-MODIFIED:20241217T000721Z
UID:6956-1735813800-1735817400@www.barrettlibrary.org
SUMMARY:Library Story Time
DESCRIPTION:Library Story Time \nAges 0-5 \nThursdays in January 10:30am \nJoin us in the children’s area for stories\, songs\, crafts\, and more!
URL:https://www.barrettlibrary.org/event/library-story-time-37/
END:VEVENT
BEGIN:VEVENT
DTSTART;VALUE=DATE:20250101
DTEND;VALUE=DATE:20250102
DTSTAMP:20260424T074326
CREATED:20241221T174543Z
LAST-MODIFIED:20241221T174543Z
UID:6983-1735689600-1735775999@www.barrettlibrary.org
SUMMARY:CLOSED FOR NEW YEAR HOLIDAY
DESCRIPTION:
URL:https://www.barrettlibrary.org/event/closed-for-new-year-holiday-2/
END:VEVENT
BEGIN:VEVENT
DTSTART;VALUE=DATE:20241231
DTEND;VALUE=DATE:20250101
DTSTAMP:20260424T074326
CREATED:20241221T174509Z
LAST-MODIFIED:20241221T174509Z
UID:6981-1735603200-1735689599@www.barrettlibrary.org
SUMMARY:CLOSED FOR NEW YEAR HOLIDAY
DESCRIPTION:
URL:https://www.barrettlibrary.org/event/closed-for-new-year-holiday/
END:VEVENT
BEGIN:VEVENT
DTSTART;TZID=America/New_York:20241227T110000
DTEND;TZID=America/New_York:20241227T120000
DTSTAMP:20260424T074326
CREATED:20241207T152218Z
LAST-MODIFIED:20241210T170908Z
UID:6902-1735297200-1735300800@www.barrettlibrary.org
SUMMARY:Healing Yoga
DESCRIPTION:Danielle Lane will guide you through a soothing\, mindful yoga experience which may include meditation\, sound bowls\, music\, and other elements. Appropriate for all levels. Space is limited: please register for each session. \n 
URL:https://www.barrettlibrary.org/event/healing-yoga-26/
END:VEVENT
BEGIN:VEVENT
DTSTART;TZID=America/New_York:20241226T103000
DTEND;TZID=America/New_York:20241226T113000
DTSTAMP:20260424T074326
CREATED:20241121T173308Z
LAST-MODIFIED:20241121T173308Z
UID:6870-1735209000-1735212600@www.barrettlibrary.org
SUMMARY:Library Story Time
DESCRIPTION:Library Story Time \nAges 0-5 \nThursdays in December 10:30am \nJoin us in the children’s area for stories\, songs\, crafts\, and more!
URL:https://www.barrettlibrary.org/event/library-story-time-32/
END:VEVENT
BEGIN:VEVENT
DTSTART;VALUE=DATE:20241225
DTEND;VALUE=DATE:20241226
DTSTAMP:20260424T074326
CREATED:20241221T174418Z
LAST-MODIFIED:20241221T174418Z
UID:6979-1735084800-1735171199@www.barrettlibrary.org
SUMMARY:CLOSED FOR CHRISTMAS
DESCRIPTION:
URL:https://www.barrettlibrary.org/event/closed-for-christmas-2/
END:VEVENT
BEGIN:VEVENT
DTSTART;VALUE=DATE:20241224
DTEND;VALUE=DATE:20241225
DTSTAMP:20260424T074326
CREATED:20241221T174345Z
LAST-MODIFIED:20241221T174345Z
UID:6977-1734998400-1735084799@www.barrettlibrary.org
SUMMARY:CLOSED FOR CHRISTMAS
DESCRIPTION:
URL:https://www.barrettlibrary.org/event/closed-for-christmas/
END:VEVENT
BEGIN:VEVENT
DTSTART;TZID=America/New_York:20241219T103000
DTEND;TZID=America/New_York:20241219T113000
DTSTAMP:20260424T074326
CREATED:20241121T171952Z
LAST-MODIFIED:20241219T132459Z
UID:6868-1734604200-1734607800@www.barrettlibrary.org
SUMMARY:Library Story Time (cancelled 12/19)
DESCRIPTION:Library Story Time \nAges 0-5 \nThursdays in December 10:30am \nJoin us in the children’s area for stories\, songs\, crafts\, and more!
URL:https://www.barrettlibrary.org/event/library-story-time-31/
END:VEVENT
BEGIN:VEVENT
DTSTART;TZID=America/New_York:20241217T103000
DTEND;TZID=America/New_York:20241217T110000
DTSTAMP:20260424T074326
CREATED:20241121T164337Z
LAST-MODIFIED:20241121T164337Z
UID:6862-1734431400-1734433200@www.barrettlibrary.org
SUMMARY:Baby & Me
DESCRIPTION:Baby & Me \nAges 0-2 \nTuesdays in December 10:30am \nA special story time for our youngest patrons and their grownups.  \nJoin us for stories\, songs\, and games!
URL:https://www.barrettlibrary.org/event/baby-me-60/
END:VEVENT
BEGIN:VEVENT
DTSTART;VALUE=DATE:20241216
DTEND;VALUE=DATE:20241217
DTSTAMP:20260424T074326
CREATED:20241216T130307Z
LAST-MODIFIED:20241216T130307Z
UID:6936-1734307200-1734393599@www.barrettlibrary.org
SUMMARY:DELAYED OPENING: 11am
DESCRIPTION:Due to the weather\, the Library will open an hour late today. We’re open until 8pm tonight. Be safe out there!
URL:https://www.barrettlibrary.org/event/delayed-opening-11am/
END:VEVENT
BEGIN:VEVENT
DTSTART;VALUE=DATE:20241216
DTEND;VALUE=DATE:20241217
DTSTAMP:20260424T074326
CREATED:20241207T152350Z
LAST-MODIFIED:20241207T152350Z
UID:6904-1734307200-1734393599@www.barrettlibrary.org
SUMMARY:Adult Take-Home Kit: DIY Pop-Up Book
DESCRIPTION:Create your own story with the entire family by making your very own pop-up book! You must register to receive a kit. Supplies will be available for pickup beginning Monday\, December 16. 
URL:https://www.barrettlibrary.org/event/adult-take-home-kit-diy-pop-up-book/
END:VEVENT
BEGIN:VEVENT
DTSTART;TZID=America/New_York:20241212T103000
DTEND;TZID=America/New_York:20241212T113000
DTSTAMP:20260424T074326
CREATED:20241121T171906Z
LAST-MODIFIED:20241121T171906Z
UID:6866-1733999400-1734003000@www.barrettlibrary.org
SUMMARY:Library Story Time
DESCRIPTION:Library Story Time \nAges 0-5 \nThursdays in December 10:30am \nJoin us in the children’s area for stories\, songs\, crafts\, and more!
URL:https://www.barrettlibrary.org/event/library-story-time-30/
END:VEVENT
BEGIN:VEVENT
DTSTART;TZID=America/New_York:20241210T103000
DTEND;TZID=America/New_York:20241210T110000
DTSTAMP:20260424T074326
CREATED:20241121T164213Z
LAST-MODIFIED:20241121T164213Z
UID:6860-1733826600-1733828400@www.barrettlibrary.org
SUMMARY:Baby & Me
DESCRIPTION:  \nBaby & Me \nAges 0-2 \nTuesdays in December 10:30am \nA special story time for our youngest patrons and their grownups.  \nJoin us for stories\, songs\, and games!
URL:https://www.barrettlibrary.org/event/baby-me-59/
END:VEVENT
BEGIN:VEVENT
DTSTART;TZID=America/New_York:20241209T180000
DTEND;TZID=America/New_York:20241209T190000
DTSTAMP:20260424T074326
CREATED:20241121T173353Z
LAST-MODIFIED:20241121T173353Z
UID:6872-1733767200-1733770800@www.barrettlibrary.org
SUMMARY:Teen Holiday Gathering
DESCRIPTION:Teen Holiday Gathering \nTeens Ages 12-17 \nMonday\, December 9th 6pm \nJoin us for holiday games\, snacks\, and prizes! Registration required.
URL:https://www.barrettlibrary.org/event/teen-holiday-gathering-2/
END:VEVENT
BEGIN:VEVENT
DTSTART;TZID=America/New_York:20241209T180000
DTEND;TZID=America/New_York:20241209T190000
DTSTAMP:20260424T074326
CREATED:20241121T163940Z
LAST-MODIFIED:20241121T163940Z
UID:6855-1733767200-1733770800@www.barrettlibrary.org
SUMMARY:Teen Holiday Gathering
DESCRIPTION:Teen Holiday Gathering \nTeens Ages 12-17 \nMonday\, December 9th 6pm \nJoin us for holiday games\, snacks\, and prizes!  \nRegistration required.
URL:https://www.barrettlibrary.org/event/teen-holiday-gathering/
END:VEVENT
BEGIN:VEVENT
DTSTART;VALUE=DATE:20241207
DTEND;VALUE=DATE:20241208
DTSTAMP:20260424T074326
CREATED:20241104T215355Z
LAST-MODIFIED:20241104T215355Z
UID:6849-1733529600-1733615999@www.barrettlibrary.org
SUMMARY:Basket Raffle Ends!
DESCRIPTION:Check back soon for details.
URL:https://www.barrettlibrary.org/event/basket-raffle-ends/
END:VEVENT
BEGIN:VEVENT
DTSTART;TZID=America/New_York:20241206T110000
DTEND;TZID=America/New_York:20241206T120000
DTSTAMP:20260424T074326
CREATED:20241207T152140Z
LAST-MODIFIED:20241207T152140Z
UID:6900-1733482800-1733486400@www.barrettlibrary.org
SUMMARY:Healing Yoga
DESCRIPTION:Danielle Lane will guide you through a soothing\, mindful yoga experience which may include meditation\, sound bowls\, music\, and other elements. Appropriate for all levels. Space is limited: please register for each session. \n 
URL:https://www.barrettlibrary.org/event/healing-yoga-25/
END:VEVENT
BEGIN:VEVENT
DTSTART;TZID=America/New_York:20241205T103000
DTEND;TZID=America/New_York:20241205T111500
DTSTAMP:20260424T074326
CREATED:20241121T171817Z
LAST-MODIFIED:20241121T171817Z
UID:6864-1733394600-1733397300@www.barrettlibrary.org
SUMMARY:Library Story Time
DESCRIPTION:Library Story Time \nAges 0-5 \nThursdays in December 10:30am \nJoin us in the children’s area for stories\, songs\, crafts\, and more!
URL:https://www.barrettlibrary.org/event/library-story-time-29/
END:VEVENT
BEGIN:VEVENT
DTSTART;TZID=America/New_York:20241203T130000
DTEND;TZID=America/New_York:20241203T150000
DTSTAMP:20260424T074326
CREATED:20241003T155226Z
LAST-MODIFIED:20241003T155226Z
UID:6798-1733230800-1733238000@www.barrettlibrary.org
SUMMARY:Movie Day at the Library
DESCRIPTION:Come to the Library the first Tuesday of each month to watch a newly released movie with friends. This month we will watch Ordinary Angels\, starring Hilary Swank. \nA struggling hairdresser finds a renewed sense of purpose when she meets a widowed father working hard to care for his two daughters. With his youngest critically ill and waiting for a liver transplant\, the fierce woman single-handedly rallies an entire community to help. Rated PG. \n 
URL:https://www.barrettlibrary.org/event/movie-day-at-the-library-24/
END:VEVENT
BEGIN:VEVENT
DTSTART;TZID=America/New_York:20241203T103000
DTEND;TZID=America/New_York:20241203T110000
DTSTAMP:20260424T074326
CREATED:20241121T164136Z
LAST-MODIFIED:20241121T164136Z
UID:6858-1733221800-1733223600@www.barrettlibrary.org
SUMMARY:Baby & Me
DESCRIPTION:  \nBaby & Me \nAges 0-2 \nTuesdays in December 10:30am \nA special story time for our youngest patrons and their grownups.  \nJoin us for stories\, songs\, and games!
URL:https://www.barrettlibrary.org/event/baby-me-58/
END:VEVENT
BEGIN:VEVENT
DTSTART;TZID=America/New_York:20241202T180000
DTEND;TZID=America/New_York:20241202T190000
DTSTAMP:20260424T074326
CREATED:20241121T161952Z
LAST-MODIFIED:20241121T162425Z
UID:6853-1733162400-1733166000@www.barrettlibrary.org
SUMMARY:Family Science - Do You Wanna Build a Snowman?
DESCRIPTION:Family Science – Do You Wanna Build a Snowman? \nFamily Program \nMonday\, December 2nd 6pm \nJoin us in the library for a fun science program.  \nWe will make fake snow and try to build our own snowmen.  \nRegistration is required.
URL:https://www.barrettlibrary.org/event/family-science-do-you-wanna-build-a-snowman/
END:VEVENT
BEGIN:VEVENT
DTSTART;VALUE=DATE:20241128
DTEND;VALUE=DATE:20241129
DTSTAMP:20260424T074326
CREATED:20241018T154548Z
LAST-MODIFIED:20241018T154548Z
UID:6816-1732752000-1732838399@www.barrettlibrary.org
SUMMARY:Library Closed -  Happy Thanksgiving
DESCRIPTION:The library will be closed all day on Thursday\, November 28th in observance of the Thanksgiving Holiday. \nHappy Thanksgiving!
URL:https://www.barrettlibrary.org/event/library-closed-happy-thanksgiving/
END:VEVENT
BEGIN:VEVENT
DTSTART;VALUE=DATE:20241127
DTEND;VALUE=DATE:20241128
DTSTAMP:20260424T074326
CREATED:20241104T214840Z
LAST-MODIFIED:20241104T215152Z
UID:6842-1732665600-1732751999@www.barrettlibrary.org
SUMMARY:5PM Early Closing Today
DESCRIPTION:The Library closes at 5pm today.
URL:https://www.barrettlibrary.org/event/library-closes-at-5pm/
END:VEVENT
BEGIN:VEVENT
DTSTART;TZID=America/New_York:20241126T190000
DTEND;TZID=America/New_York:20241126T200000
DTSTAMP:20260424T074326
CREATED:20241023T151612Z
LAST-MODIFIED:20241023T151612Z
UID:6836-1732647600-1732651200@www.barrettlibrary.org
SUMMARY:Virtual Evening Book Club
DESCRIPTION:Join our virtual Evening Book Club on Zoom. This month we will discuss Apples Never Fall Liane Moriarty . If you’re interested in joining\, please contact the Library for more details.
URL:https://www.barrettlibrary.org/event/virtual-evening-book-club-30/
END:VEVENT
BEGIN:VEVENT
DTSTART;TZID=America/New_York:20241126T103000
DTEND;TZID=America/New_York:20241126T110000
DTSTAMP:20260424T074326
CREATED:20241018T153818Z
LAST-MODIFIED:20241121T164029Z
UID:6808-1732617000-1732618800@www.barrettlibrary.org
SUMMARY:Baby & Me (canceled today)
DESCRIPTION:Baby & Me \nAges 0-2 \nTuesdays in November 10:30am \nA special story time for our youngest patrons and their grownups.  \nJoin us for stories\, songs\, and games!
URL:https://www.barrettlibrary.org/event/baby-me-57/
END:VEVENT
END:VCALENDAR