BEGIN:VCALENDAR
VERSION:2.0
PRODID:-//Barrett Paradise Friendly Library - ECPv6.15.20//NONSGML v1.0//EN
CALSCALE:GREGORIAN
METHOD:PUBLISH
X-WR-CALNAME:Barrett Paradise Friendly Library
X-ORIGINAL-URL:https://www.barrettlibrary.org
X-WR-CALDESC:Events for Barrett Paradise Friendly Library
REFRESH-INTERVAL;VALUE=DURATION:PT1H
X-Robots-Tag:noindex
X-PUBLISHED-TTL:PT1H
BEGIN:VTIMEZONE
TZID:America/New_York
BEGIN:DAYLIGHT
TZOFFSETFROM:-0500
TZOFFSETTO:-0400
TZNAME:EDT
DTSTART:20190310T070000
END:DAYLIGHT
BEGIN:STANDARD
TZOFFSETFROM:-0400
TZOFFSETTO:-0500
TZNAME:EST
DTSTART:20191103T060000
END:STANDARD
BEGIN:DAYLIGHT
TZOFFSETFROM:-0500
TZOFFSETTO:-0400
TZNAME:EDT
DTSTART:20200308T070000
END:DAYLIGHT
BEGIN:STANDARD
TZOFFSETFROM:-0400
TZOFFSETTO:-0500
TZNAME:EST
DTSTART:20201101T060000
END:STANDARD
BEGIN:DAYLIGHT
TZOFFSETFROM:-0500
TZOFFSETTO:-0400
TZNAME:EDT
DTSTART:20210314T070000
END:DAYLIGHT
BEGIN:STANDARD
TZOFFSETFROM:-0400
TZOFFSETTO:-0500
TZNAME:EST
DTSTART:20211107T060000
END:STANDARD
END:VTIMEZONE
BEGIN:VEVENT
DTSTART;TZID=America/New_York:20200821T110000
DTEND;TZID=America/New_York:20200821T123000
DTSTAMP:20260424T190337
CREATED:20200815T203726Z
LAST-MODIFIED:20200815T204438Z
UID:4282-1598007600-1598013000@www.barrettlibrary.org
SUMMARY:The Three Bears: Read the Story\, Dance the Story\, Art the Story
DESCRIPTION:Veteran Broadway dancer Conny Andres was not able to visit us in the library this year\, but instead she has crafted an exciting dance class especially for her friends in the Poconos. Join us on Zoom where we will participate in the dance class together! Watch with us as Conny reads the story of the Three Bears and then leads us through movement activities that will allow us to retell the story. Then\, Pam Burke\, an art teacher from New Jersey\, will lead us through a special art experience. If you would like to attend this dance class on Zoom\, please let us know via email so that we can send you the link to participate.
URL:https://www.barrettlibrary.org/event/the-three-bears-read-the-story-dance-the-story-art-the-story/
LOCATION:Zoom
END:VEVENT
END:VCALENDAR