BEGIN:VCALENDAR
VERSION:2.0
PRODID:-//Barrett Paradise Friendly Library - ECPv6.15.20//NONSGML v1.0//EN
CALSCALE:GREGORIAN
METHOD:PUBLISH
X-WR-CALNAME:Barrett Paradise Friendly Library
X-ORIGINAL-URL:https://www.barrettlibrary.org
X-WR-CALDESC:Events for Barrett Paradise Friendly Library
REFRESH-INTERVAL;VALUE=DURATION:PT1H
X-Robots-Tag:noindex
X-PUBLISHED-TTL:PT1H
BEGIN:VTIMEZONE
TZID:America/New_York
BEGIN:DAYLIGHT
TZOFFSETFROM:-0500
TZOFFSETTO:-0400
TZNAME:EDT
DTSTART:20210314T070000
END:DAYLIGHT
BEGIN:STANDARD
TZOFFSETFROM:-0400
TZOFFSETTO:-0500
TZNAME:EST
DTSTART:20211107T060000
END:STANDARD
BEGIN:DAYLIGHT
TZOFFSETFROM:-0500
TZOFFSETTO:-0400
TZNAME:EDT
DTSTART:20220313T070000
END:DAYLIGHT
BEGIN:STANDARD
TZOFFSETFROM:-0400
TZOFFSETTO:-0500
TZNAME:EST
DTSTART:20221106T060000
END:STANDARD
BEGIN:DAYLIGHT
TZOFFSETFROM:-0500
TZOFFSETTO:-0400
TZNAME:EDT
DTSTART:20230312T070000
END:DAYLIGHT
BEGIN:STANDARD
TZOFFSETFROM:-0400
TZOFFSETTO:-0500
TZNAME:EST
DTSTART:20231105T060000
END:STANDARD
END:VTIMEZONE
BEGIN:VEVENT
DTSTART;TZID=America/New_York:20220920T130000
DTEND;TZID=America/New_York:20220920T140000
DTSTAMP:20260425T114451
CREATED:20220913T172759Z
LAST-MODIFIED:20220913T172759Z
UID:5031-1663678800-1663682400@www.barrettlibrary.org
SUMMARY:Virtual Afternoon Book Club
DESCRIPTION:Join our virtual afternoon book club on Zoom. This month\, we will discuss The Rosie Project by Graeme Simsion. If you’re interested in joining\, please call the Library for more details.
URL:https://www.barrettlibrary.org/event/virtual-afternoon-book-club-12/
END:VEVENT
BEGIN:VEVENT
DTSTART;TZID=America/New_York:20220920T103000
DTEND;TZID=America/New_York:20220920T110000
DTSTAMP:20260425T114451
CREATED:20220830T194141Z
LAST-MODIFIED:20220830T194141Z
UID:4976-1663669800-1663671600@www.barrettlibrary.org
SUMMARY:Story Time at Ice Lake
DESCRIPTION:Story Time at Ice Lake \nAges 0-5 \nTuesdays in September 10:30AM-11AM \nAll children are welcome to join us under the pavilion at The Barrett Township Community Park at Ice Lake for stories\, songs\, and games!  \nRegistration is not required. If it is raining on story time day\, please check our Facebook page or call the library for updates about cancellations.
URL:https://www.barrettlibrary.org/event/story-time-at-ice-lake-16/
END:VEVENT
BEGIN:VEVENT
DTSTART;VALUE=DATE:20220919
DTEND;VALUE=DATE:20220920
DTSTAMP:20260425T114451
CREATED:20220913T172621Z
LAST-MODIFIED:20220913T172621Z
UID:5029-1663545600-1663631999@www.barrettlibrary.org
SUMMARY:Adult Take-Home Craft: Dish Scrubber Pumpkins
DESCRIPTION:Add some fun décor to your kitchen with a dish scrubber pumpkin. We will supply all the materials. Pickup begins Monday\, September 19. You must register for this craft.
URL:https://www.barrettlibrary.org/event/adult-take-home-craft-dish-scrubber-pumpkins/
END:VEVENT
BEGIN:VEVENT
DTSTART;TZID=America/New_York:20220915T183000
DTEND;TZID=America/New_York:20220915T193000
DTSTAMP:20260425T114451
CREATED:20220913T172334Z
LAST-MODIFIED:20220913T172334Z
UID:5027-1663266600-1663270200@www.barrettlibrary.org
SUMMARY:Virtual Writing Group
DESCRIPTION:Join us on Zoom to discuss the art of writing while sharing work with the group. Contact Lynn to receive the link.
URL:https://www.barrettlibrary.org/event/virtual-writing-group-12/
END:VEVENT
BEGIN:VEVENT
DTSTART;TZID=America/New_York:20220915T103000
DTEND;TZID=America/New_York:20220915T113000
DTSTAMP:20260425T114451
CREATED:20220830T195001Z
LAST-MODIFIED:20220830T195001Z
UID:4982-1663237800-1663241400@www.barrettlibrary.org
SUMMARY:Story Time at the Library
DESCRIPTION:Story Time at the Library \nAges 0-5  \nThursdays\, September 8th -Thursday\, September 29th \n10:30AM-11:30AM \nPlease join us for stories and songs in the Weiler Family Community Room.  \nSpace is limited and registration is required for this four-week session. \nPlease call the library to register for this series.
URL:https://www.barrettlibrary.org/event/story-time-at-the-library-2/
END:VEVENT
BEGIN:VEVENT
DTSTART;TZID=America/New_York:20220914T130000
DTEND;TZID=America/New_York:20220914T140000
DTSTAMP:20260425T114451
CREATED:20220913T171102Z
LAST-MODIFIED:20220913T171102Z
UID:5021-1663160400-1663164000@www.barrettlibrary.org
SUMMARY:Shakespeare Group
DESCRIPTION:The Bard is back! Join Pat Williams for this weekly literary experience discussing Shakespeare and/or other topics of interest to the group. Please contact Pat or call the Library if you’re interested in attending.
URL:https://www.barrettlibrary.org/event/shakespeare-group/
END:VEVENT
BEGIN:VEVENT
DTSTART;TZID=America/New_York:20220913T103000
DTEND;TZID=America/New_York:20220913T110000
DTSTAMP:20260425T114451
CREATED:20220830T193953Z
LAST-MODIFIED:20220830T193953Z
UID:4974-1663065000-1663066800@www.barrettlibrary.org
SUMMARY:Story Time at Ice Lake
DESCRIPTION:Story Time at Ice Lake \nAges 0-5 \nTuesdays in September 10:30AM-11AM \nAll children are welcome to join us under the pavilion at The Barrett Township Community Park at Ice Lake for stories\, songs\, and games!  \nRegistration is not required. If it is raining on story time day\, please check our Facebook page or call the library for updates about cancellations.
URL:https://www.barrettlibrary.org/event/story-time-at-ice-lake-15/
END:VEVENT
BEGIN:VEVENT
DTSTART;TZID=America/New_York:20220908T103000
DTEND;TZID=America/New_York:20220908T113000
DTSTAMP:20260425T114451
CREATED:20220830T194755Z
LAST-MODIFIED:20220830T194755Z
UID:4980-1662633000-1662636600@www.barrettlibrary.org
SUMMARY:Story Time at the Library
DESCRIPTION:Story Time at the Library \nAges 0-5  \nThursdays\, September 8th -Thursday\, September 29th \n10:30AM-11:30AM \nPlease join us for stories and songs in the Weiler Family Community Room.  \nSpace is limited and registration is required for this four-week session. \nPlease call the library to register for this series.
URL:https://www.barrettlibrary.org/event/story-time-at-the-library/
END:VEVENT
BEGIN:VEVENT
DTSTART;TZID=America/New_York:20220906T103000
DTEND;TZID=America/New_York:20220906T110000
DTSTAMP:20260425T114451
CREATED:20220830T193829Z
LAST-MODIFIED:20220906T140022Z
UID:4970-1662460200-1662462000@www.barrettlibrary.org
SUMMARY:Story Time at Ice Lake (canceled today due to rain)
DESCRIPTION:Story Time at Ice Lake \nAges 0-5 \nTuesdays in September 10:30AM-11AM \nAll children are welcome to join us under the pavilion at The Barrett Township Community Park at Ice Lake for stories\, songs\, and games!  \nRegistration is not required. If it is raining on story time day\, please check our Facebook page or call the library for updates about cancellations.
URL:https://www.barrettlibrary.org/event/story-time-at-ice-lake-14/
END:VEVENT
BEGIN:VEVENT
DTSTART;VALUE=DATE:20220905
DTEND;VALUE=DATE:20220906
DTSTAMP:20260425T114451
CREATED:20220901T161143Z
LAST-MODIFIED:20220901T161143Z
UID:4995-1662336000-1662422399@www.barrettlibrary.org
SUMMARY:Library Closed for Labor Day
DESCRIPTION:In observance of Labor Day\, the Library will be closed on Monday\, September 5.
URL:https://www.barrettlibrary.org/event/library-closed-for-labor-day/
END:VEVENT
BEGIN:VEVENT
DTSTART;VALUE=DATE:20220901
DTEND;VALUE=DATE:20221001
DTSTAMP:20260425T114451
CREATED:20220830T200719Z
LAST-MODIFIED:20220830T201819Z
UID:4992-1661990400-1664582399@www.barrettlibrary.org
SUMMARY:Tale on the Trail at Ice Lake
DESCRIPTION:Tale on the Trail at Ice Lake \nVisit the Barrett Township Community Park at Ice Lake to embark on this family reading adventure!  \nFollow the trail behind the pavilion and turn right. Enjoy a picture book as you stroll along the path.  \nThe path is about 0.12 miles from beginning to end\, and then you can continue around the lake or turn around to return to the pavilion.  \nThe trail is mostly flat\, but rough and rocky. Very young children may need help or prefer to ride in a stroller.  \nLook out for the books\, “On This Day” by Andrea Patel. This lovely picture book was written as a tribute to the victim’s  \nof the terrorist attacks on September 11\, 2001 and “Wonder Walkers” by Micha Archer.
URL:https://www.barrettlibrary.org/event/tale-on-the-trail-at-ice-lake/
END:VEVENT
BEGIN:VEVENT
DTSTART;TZID=America/New_York:20220830T190000
DTEND;TZID=America/New_York:20220830T200000
DTSTAMP:20260425T114451
CREATED:20220803T200550Z
LAST-MODIFIED:20220803T200550Z
UID:4960-1661886000-1661889600@www.barrettlibrary.org
SUMMARY:Virtual Evening Book Club
DESCRIPTION:Join our virtual evening book club on Zoom. This month\, we will discuss The Vanishing Half by Brit Bennett. If you’re interested in joining\, please call the Library for more details. \n 
URL:https://www.barrettlibrary.org/event/virtual-evening-book-club-11/
END:VEVENT
BEGIN:VEVENT
DTSTART;TZID=America/New_York:20220830T103000
DTEND;TZID=America/New_York:20220830T110000
DTSTAMP:20260425T114451
CREATED:20220711T185837Z
LAST-MODIFIED:20220711T185837Z
UID:4942-1661855400-1661857200@www.barrettlibrary.org
SUMMARY:Story Time at Ice Lake
DESCRIPTION:Story Time at Ice Lake \nAges 0-5 \nTuesdays August 10:30AM-11AM \nAll children are welcome to join us under the pavilion at The Barrett Township Community Park at Ice Lake for stories\, songs\, and games! Visit with therapy dog Stanley and his owner Roseanne. \nRegistration is not required. If it is raining on story time day\, please check our Facebook page or call the library for updates about cancellations.
URL:https://www.barrettlibrary.org/event/story-time-at-ice-lake-13/
END:VEVENT
BEGIN:VEVENT
DTSTART;TZID=America/New_York:20220829T080000
DTEND;TZID=America/New_York:20220829T170000
DTSTAMP:20260425T114451
CREATED:20220705T225944Z
LAST-MODIFIED:20220705T225944Z
UID:4917-1661760000-1661792400@www.barrettlibrary.org
SUMMARY:Preschool Story Time at the Library
DESCRIPTION:Preschool Story Time at the Library \nAges 0-5\nMondays\, August 8th\, 15th\, 22nd & 29th\n10:30AM\nPlease join Ms. Chelsea for stories and songs in the Weiler Family Community Room. Space is\nlimited and sign ups are required for this four-week session.\nPlease call the library to register for this session.
URL:https://www.barrettlibrary.org/event/preschool-story-time-at-the-library-10/
END:VEVENT
BEGIN:VEVENT
DTSTART;TZID=America/New_York:20220827T190000
DTEND;TZID=America/New_York:20220827T200000
DTSTAMP:20260425T114452
CREATED:20220711T191246Z
LAST-MODIFIED:20220711T191246Z
UID:4946-1661626800-1661630400@www.barrettlibrary.org
SUMMARY:Saturday Night Library: TikTok on the Block
DESCRIPTION:Saturday Night Library: TikTok on the Block \nSaturday\, August 27th 7PM on Zoom. \nPickup supplies beginning August 25th.  \nLet’s end the Summer together with a virtual Block Party.  \nThere will be games\, snacks\, and dancing. Pickup a party kit at the library and join us on Zoom as we celebrate the end of summer and attempt some dance challenges.   \nPlease email ChelseaBPFL@gmail.com to register for this virtual program.
URL:https://www.barrettlibrary.org/event/saturday-night-library-tiktok-on-the-block-2/
END:VEVENT
BEGIN:VEVENT
DTSTART;TZID=America/New_York:20220823T103000
DTEND;TZID=America/New_York:20220823T110000
DTSTAMP:20260425T114452
CREATED:20220711T182757Z
LAST-MODIFIED:20220711T182757Z
UID:4940-1661250600-1661252400@www.barrettlibrary.org
SUMMARY:Story Time at Ice Lake
DESCRIPTION:Story Time at Ice Lake \nAges 0-5 \nTuesdays in July and August 10:30AM-11AM \nAll children are welcome to join us under the pavilion at The Barrett Township Community Park at Ice Lake for stories\, songs\, and games!  \nVisit with therapy dog Stanley and his owner Roseanne. \nRegistration is not required. If it is raining on story time day\, please check our Facebook page or call the library for updates about cancellations.
URL:https://www.barrettlibrary.org/event/story-time-at-ice-lake-12/
END:VEVENT
BEGIN:VEVENT
DTSTART;TZID=America/New_York:20220822T103000
DTEND;TZID=America/New_York:20220822T113000
DTSTAMP:20260425T114452
CREATED:20220705T225646Z
LAST-MODIFIED:20220822T125451Z
UID:4915-1661164200-1661167800@www.barrettlibrary.org
SUMMARY:Preschool Story Time at the Library (canceled today)
DESCRIPTION:Story time is canceled today! See you next week.
URL:https://www.barrettlibrary.org/event/preschool-story-time-at-the-library-9/
END:VEVENT
BEGIN:VEVENT
DTSTART;TZID=America/New_York:20220816T130000
DTEND;TZID=America/New_York:20220816T140000
DTSTAMP:20260425T114452
CREATED:20220803T200448Z
LAST-MODIFIED:20220803T200448Z
UID:4958-1660654800-1660658400@www.barrettlibrary.org
SUMMARY:Virtual Afternoon Book Club
DESCRIPTION:Join our virtual afternoon book club on Zoom. This month\, we will discuss The Good Sister by Sally Hepworth. If you’re interested in joining\, please call the Library for more details. \n 
URL:https://www.barrettlibrary.org/event/virtual-afternoon-book-club-11/
END:VEVENT
BEGIN:VEVENT
DTSTART;TZID=America/New_York:20220816T103000
DTEND;TZID=America/New_York:20220816T110000
DTSTAMP:20260425T114452
CREATED:20220711T180727Z
LAST-MODIFIED:20220711T180727Z
UID:4938-1660645800-1660647600@www.barrettlibrary.org
SUMMARY:Story Time at Ice Lake
DESCRIPTION:  \nStory Time at Ice Lake \nAges 0-5 \nTuesdays in July and August 10:30AM-11AM \nAll children are welcome to join us under the pavilion at The Barrett Township Community Park at Ice Lake for stories\, songs\, and games! Visit with therapy dog Stanley and his owner Roseanne. \nRegistration is not required. If it is raining on story time day\, please check our Facebook page or call the library for updates about cancellations.
URL:https://www.barrettlibrary.org/event/story-time-at-ice-lake-11/
END:VEVENT
BEGIN:VEVENT
DTSTART;TZID=America/New_York:20220815T103000
DTEND;TZID=America/New_York:20220815T113000
DTSTAMP:20260425T114452
CREATED:20220705T223336Z
LAST-MODIFIED:20220705T223336Z
UID:4913-1660559400-1660563000@www.barrettlibrary.org
SUMMARY:Preschool Story Time at the Library
DESCRIPTION:Preschool Story Time at the Library\nAges 0-5\nMondays\, August 8th\, 15th\, 22nd & 29th\n10:30AM\nPlease join Ms. Chelsea for stories and songs in the Weiler Family Community Room. Space is limited and sign ups are required for this four-week session.\nPlease call the library to register.
URL:https://www.barrettlibrary.org/event/preschool-story-time-at-the-library-8/
END:VEVENT
BEGIN:VEVENT
DTSTART;VALUE=DATE:20220815
DTEND;VALUE=DATE:20220816
DTSTAMP:20260425T114452
CREATED:20220803T200340Z
LAST-MODIFIED:20220803T200340Z
UID:4956-1660521600-1660607999@www.barrettlibrary.org
SUMMARY:Adult Take-Home Craft: Pressed Flower Lanterns
DESCRIPTION:Make your own pressed flower lantern. This beautiful candle holder is easy to make and adds brightness to your home. We supply all the materials. You must register for this craft. \n 
URL:https://www.barrettlibrary.org/event/adult-take-home-craft-pressed-flower-lanterns/
END:VEVENT
BEGIN:VEVENT
DTSTART;TZID=America/New_York:20220809T103000
DTEND;TZID=America/New_York:20220809T110000
DTSTAMP:20260425T114452
CREATED:20220711T180606Z
LAST-MODIFIED:20220711T180606Z
UID:4936-1660041000-1660042800@www.barrettlibrary.org
SUMMARY:Story Time at Ice Lake
DESCRIPTION:Story Time at Ice Lake \nAges 0-5 \nTuesdays in August 10:30AM-11AM \nAll children are welcome to join us under the pavilion at The Barrett Township Community Park at Ice Lake for stories\, songs\, and games!  \nRegistration is not required. If it is raining on story time day\, please check our Facebook page or call the library for updates about cancellations.
URL:https://www.barrettlibrary.org/event/story-time-at-ice-lake-10/
END:VEVENT
BEGIN:VEVENT
DTSTART;TZID=America/New_York:20220808T103000
DTEND;TZID=America/New_York:20220808T110000
DTSTAMP:20260425T114452
CREATED:20220705T223001Z
LAST-MODIFIED:20220705T223001Z
UID:4911-1659954600-1659956400@www.barrettlibrary.org
SUMMARY:Preschool Story Time at the Library
DESCRIPTION:Preschool Story Time at the Library\nAges 0-5\nMondays\, August 8th\, 15th\, 22nd & 29th\n10:30AM\nPlease join Ms. Chelsea for stories and songs in the Weiler Family Community Room. Space is limited and sign ups are required for this four-week session.\nPlease call the library to register.
URL:https://www.barrettlibrary.org/event/preschool-story-time-at-the-library-7/
END:VEVENT
BEGIN:VEVENT
DTSTART;TZID=America/New_York:20220806T180000
DTEND;TZID=America/New_York:20220806T220000
DTSTAMP:20260425T114452
CREATED:20220705T214051Z
LAST-MODIFIED:20220705T214051Z
UID:4896-1659808800-1659823200@www.barrettlibrary.org
SUMMARY:LOL Comedy Night Benefit for the Library!
DESCRIPTION:On Saturday\, August 6th\, the Barrett Paradise Friendly Library will host our 2022 L.O.L. Comedy Night at Buck Hill Falls’ Tennis Tea. This Library benefit includes dinner & a glass of wine\, a live auction\, a silent auction\, and a hilarious evening of entertainment with comedians from New York City. \nBarrett! Paradise! Everyone! All welcome for an evening of belly-laughs to support Barrett Paradise Friendly Library! Call or stop by the Library to reserve your seats\n(570-595-7171) or follow the QR code above or this link to reserve online. Seating is limited! RSVP by August 1\, 2022.
URL:https://www.barrettlibrary.org/event/lol-comedy-night-benefit-for-the-library/
END:VEVENT
BEGIN:VEVENT
DTSTART;TZID=America/New_York:20220802T103000
DTEND;TZID=America/New_York:20220802T110000
DTSTAMP:20260425T114452
CREATED:20220711T180517Z
LAST-MODIFIED:20220711T180517Z
UID:4934-1659436200-1659438000@www.barrettlibrary.org
SUMMARY:Story Time at Ice Lake
DESCRIPTION:Story Time at Ice Lake \nAges 0-5 \nTuesdays in August 10:30AM-11AM \nAll children are welcome to join us under the pavilion at The Barrett Township Community Park at Ice Lake for stories\, songs\, and games!  \nRegistration is not required. If it is raining on story time day\, please check our Facebook page or call the library for updates about cancellations.
URL:https://www.barrettlibrary.org/event/story-time-at-ice-lake-9/
END:VEVENT
BEGIN:VEVENT
DTSTART;TZID=America/New_York:20220726T190000
DTEND;TZID=America/New_York:20220726T200000
DTSTAMP:20260425T114452
CREATED:20220628T151317Z
LAST-MODIFIED:20220628T151317Z
UID:4889-1658862000-1658865600@www.barrettlibrary.org
SUMMARY:Virtual Evening Book Club
DESCRIPTION:Join our virtual evening book club on Zoom. This month\, we will discuss Britt-Marie Was Here by Fredrik Backman. If you’re interested in joining\, please call the library for more details. \n  \n 
URL:https://www.barrettlibrary.org/event/virtual-evening-book-club-10/
END:VEVENT
BEGIN:VEVENT
DTSTART;TZID=America/New_York:20220726T103000
DTEND;TZID=America/New_York:20220726T110000
DTSTAMP:20260425T114452
CREATED:20220705T220940Z
LAST-MODIFIED:20220705T221040Z
UID:4909-1658831400-1658833200@www.barrettlibrary.org
SUMMARY:Story Time at Ice Lake
DESCRIPTION:Story Time at Ice Lake \nAges 0-5 \nTuesdays in July 10:30AM-11AM \nAll children are welcome to join us under the pavilion at The Barrett Township Community Park at Ice Lake for stories\, songs\, and games!  \nRegistration is not required. If it is raining on story time day\, please check our Facebook page or call the library for updates about cancellations.
URL:https://www.barrettlibrary.org/event/story-time-at-ice-lake-8/
END:VEVENT
BEGIN:VEVENT
DTSTART;TZID=America/New_York:20220719T130000
DTEND;TZID=America/New_York:20220719T140000
DTSTAMP:20260425T114452
CREATED:20220628T151122Z
LAST-MODIFIED:20220628T151122Z
UID:4887-1658235600-1658239200@www.barrettlibrary.org
SUMMARY:Virtual Afternoon Book Club
DESCRIPTION:Join our virtual afternoon book club on Zoom. This month\, we will discuss The Midnight Library by Matt Haig. If you’re interested in joining\, please call the library for more details. \n 
URL:https://www.barrettlibrary.org/event/virtual-afternoon-book-club-10/
END:VEVENT
BEGIN:VEVENT
DTSTART;TZID=America/New_York:20220719T103000
DTEND;TZID=America/New_York:20220719T110000
DTSTAMP:20260425T114452
CREATED:20220705T220844Z
LAST-MODIFIED:20220705T220844Z
UID:4907-1658226600-1658228400@www.barrettlibrary.org
SUMMARY:Story Time at Ice Lake
DESCRIPTION:Story Time at Ice Lake \nAges 0-5 \nTuesdays in July 10:30AM-11AM \nAll children are welcome to join us under the pavilion at The Barrett Township Community Park at Ice Lake for stories\, songs\, and games!  \nRegistration is not required. If it is raining on story time day\, please check our Facebook page or call the library for updates about cancellations.
URL:https://www.barrettlibrary.org/event/story-time-at-ice-lake-7/
END:VEVENT
BEGIN:VEVENT
DTSTART;TZID=America/New_York:20220712T103000
DTEND;TZID=America/New_York:20220712T110000
DTSTAMP:20260425T114452
CREATED:20220705T220704Z
LAST-MODIFIED:20220705T220704Z
UID:4905-1657621800-1657623600@www.barrettlibrary.org
SUMMARY:Story Time at Ice Lake
DESCRIPTION:Story Time at Ice Lake \nAges 0-5 \nTuesdays in July 10:30AM-11AM \nAll children are welcome to join us under the pavilion at The Barrett Township Community Park at Ice Lake for stories\, songs\, and games!  \nRegistration is not required. If it is raining on story time day\, please check our Facebook page or call the library for updates about cancellations.
URL:https://www.barrettlibrary.org/event/story-time-at-ice-lake-6/
END:VEVENT
END:VCALENDAR