BEGIN:VCALENDAR
VERSION:2.0
PRODID:-//Barrett Paradise Friendly Library - ECPv6.15.20//NONSGML v1.0//EN
CALSCALE:GREGORIAN
METHOD:PUBLISH
X-WR-CALNAME:Barrett Paradise Friendly Library
X-ORIGINAL-URL:https://www.barrettlibrary.org
X-WR-CALDESC:Events for Barrett Paradise Friendly Library
REFRESH-INTERVAL;VALUE=DURATION:PT1H
X-Robots-Tag:noindex
X-PUBLISHED-TTL:PT1H
BEGIN:VTIMEZONE
TZID:America/New_York
BEGIN:DAYLIGHT
TZOFFSETFROM:-0500
TZOFFSETTO:-0400
TZNAME:EDT
DTSTART:20210314T070000
END:DAYLIGHT
BEGIN:STANDARD
TZOFFSETFROM:-0400
TZOFFSETTO:-0500
TZNAME:EST
DTSTART:20211107T060000
END:STANDARD
BEGIN:DAYLIGHT
TZOFFSETFROM:-0500
TZOFFSETTO:-0400
TZNAME:EDT
DTSTART:20220313T070000
END:DAYLIGHT
BEGIN:STANDARD
TZOFFSETFROM:-0400
TZOFFSETTO:-0500
TZNAME:EST
DTSTART:20221106T060000
END:STANDARD
BEGIN:DAYLIGHT
TZOFFSETFROM:-0500
TZOFFSETTO:-0400
TZNAME:EDT
DTSTART:20230312T070000
END:DAYLIGHT
BEGIN:STANDARD
TZOFFSETFROM:-0400
TZOFFSETTO:-0500
TZNAME:EST
DTSTART:20231105T060000
END:STANDARD
END:VTIMEZONE
BEGIN:VEVENT
DTSTART;TZID=America/New_York:20221130T130000
DTEND;TZID=America/New_York:20221130T140000
DTSTAMP:20260425T112108
CREATED:20221102T170936Z
LAST-MODIFIED:20221102T170936Z
UID:5115-1669813200-1669816800@www.barrettlibrary.org
SUMMARY:Shakespeare Group
DESCRIPTION:The Bard is back! Join Pat Williams for this weekly literary experience discussing Shakespeare and/or other topics of interest to the group. Please contact Pat or call the Library if you’re interested in attending. 
URL:https://www.barrettlibrary.org/event/shakespeare-group-12/
END:VEVENT
BEGIN:VEVENT
DTSTART;TZID=America/New_York:20221129T190000
DTEND;TZID=America/New_York:20221129T200000
DTSTAMP:20260425T112108
CREATED:20221102T171550Z
LAST-MODIFIED:20221102T171550Z
UID:5125-1669748400-1669752000@www.barrettlibrary.org
SUMMARY:Virtual Evening Book Club
DESCRIPTION:Join our virtual evening book club on Zoom. This month\, we will discuss Giovanni’s Room by James Baldwin. If you’re interested in joining\, please call the Library for more details.
URL:https://www.barrettlibrary.org/event/virtual-evening-book-club-14/
END:VEVENT
BEGIN:VEVENT
DTSTART;TZID=America/New_York:20221123T130000
DTEND;TZID=America/New_York:20221123T140000
DTSTAMP:20260425T112108
CREATED:20221102T170857Z
LAST-MODIFIED:20221102T170857Z
UID:5113-1669208400-1669212000@www.barrettlibrary.org
SUMMARY:Shakespeare Group
DESCRIPTION:The Bard is back! Join Pat Williams for this weekly literary experience discussing Shakespeare and/or other topics of interest to the group. Please contact Pat or call the Library if you’re interested in attending. 
URL:https://www.barrettlibrary.org/event/shakespeare-group-11/
END:VEVENT
BEGIN:VEVENT
DTSTART;TZID=America/New_York:20221122T103000
DTEND;TZID=America/New_York:20221122T110000
DTSTAMP:20260425T112108
CREATED:20221015T184058Z
LAST-MODIFIED:20221015T184127Z
UID:5081-1669113000-1669114800@www.barrettlibrary.org
SUMMARY:Baby & Me
DESCRIPTION:  \nBaby & Me \nAges 0-2 \nTuesdays\, November 8th & 22nd 10:30AM \nA special story time for our youngest patrons and their grownups. Join us for stories\, songs\, and games!  \nRegistration is required. Please call 570-595-7171
URL:https://www.barrettlibrary.org/event/baby-me-2/
END:VEVENT
BEGIN:VEVENT
DTSTART;VALUE=DATE:20221121
DTEND;VALUE=DATE:20221122
DTSTAMP:20260425T112108
CREATED:20221102T171455Z
LAST-MODIFIED:20221102T171455Z
UID:5123-1668988800-1669075199@www.barrettlibrary.org
SUMMARY:Adult Take-Home Craft: Pumpkin Spice Candles
DESCRIPTION:Make your own pumpkin spice candle! We supply all the materials. You must register for this craft. Craft bags will be available on Monday\, November 21st. 
URL:https://www.barrettlibrary.org/event/adult-take-home-craft-pumpkin-spice-candles/
END:VEVENT
BEGIN:VEVENT
DTSTART;TZID=America/New_York:20221117T103000
DTEND;TZID=America/New_York:20221117T113000
DTSTAMP:20260425T112108
CREATED:20221015T184458Z
LAST-MODIFIED:20221015T184458Z
UID:5088-1668681000-1668684600@www.barrettlibrary.org
SUMMARY:Story Time at the Library
DESCRIPTION:Story Time at the Library \nAges 0-5 \nThursdays\, November 3rd\, 10th. & 17th 10:30AM-11:30AM \nPlease join us for stories and songs in the Weiler Family Community Room.  \nSpace is limited and sign ups are required. Call 570-595-7171
URL:https://www.barrettlibrary.org/event/story-time-at-the-library-10/
END:VEVENT
BEGIN:VEVENT
DTSTART;TZID=America/New_York:20221116T180000
DTEND;TZID=America/New_York:20221116T190000
DTSTAMP:20260425T112108
CREATED:20221102T171340Z
LAST-MODIFIED:20221102T171340Z
UID:5121-1668621600-1668625200@www.barrettlibrary.org
SUMMARY:DIY Holiday Cards with Lisa Flanagan
DESCRIPTION:Join Lisa Flanagan at the Library as she guides you through the fun craft of making your own holiday cards. We supply the materials. You must register for this class\, as space is extremely limited.
URL:https://www.barrettlibrary.org/event/diy-holiday-cards-with-lisa-flanagan/
END:VEVENT
BEGIN:VEVENT
DTSTART;TZID=America/New_York:20221116T143000
DTEND;TZID=America/New_York:20221116T151500
DTSTAMP:20260425T112108
CREATED:20221015T185319Z
LAST-MODIFIED:20221015T185319Z
UID:5099-1668609000-1668611700@www.barrettlibrary.org
SUMMARY:Block Party
DESCRIPTION:Block Parties \nAges 0-5 \nWednesdays\, November 2nd & 16th  2:30PM \nBuilding with blocks develops a child’s math and science skills\, and is lots of fun! \nBring your children to a block party and build\, talk\, explore and create together. \nAll you need is your imagination.  \nRegistration is required. Call 570-595-7171
URL:https://www.barrettlibrary.org/event/block-party-2/
END:VEVENT
BEGIN:VEVENT
DTSTART;TZID=America/New_York:20221116T130000
DTEND;TZID=America/New_York:20221116T140000
DTSTAMP:20260425T112108
CREATED:20221102T170803Z
LAST-MODIFIED:20221102T170803Z
UID:5111-1668603600-1668607200@www.barrettlibrary.org
SUMMARY:Shakespeare Group
DESCRIPTION:The Bard is back! Join Pat Williams for this weekly literary experience discussing Shakespeare and/or other topics of interest to the group. Please contact Pat or call the Library if you’re interested in attending. 
URL:https://www.barrettlibrary.org/event/shakespeare-group-10/
END:VEVENT
BEGIN:VEVENT
DTSTART;TZID=America/New_York:20221115T130000
DTEND;TZID=America/New_York:20221115T140000
DTSTAMP:20260425T112108
CREATED:20221102T171203Z
LAST-MODIFIED:20221102T171203Z
UID:5119-1668517200-1668520800@www.barrettlibrary.org
SUMMARY:Virtual Afternoon Book Club
DESCRIPTION:Join our virtual afternoon book club on Zoom. This month\, we will discuss Six Years by Harlan Coben. If you’re interested in joining\, please call the Library for more details.
URL:https://www.barrettlibrary.org/event/virtual-afternoon-book-club-14/
END:VEVENT
BEGIN:VEVENT
DTSTART;TZID=America/New_York:20221110T183000
DTEND;TZID=America/New_York:20221110T193000
DTSTAMP:20260425T112108
CREATED:20221102T171055Z
LAST-MODIFIED:20221102T171055Z
UID:5117-1668105000-1668108600@www.barrettlibrary.org
SUMMARY:Virtual Writing Group
DESCRIPTION:Join us on Zoom to discuss the art of writing while sharing work with the group. For further information\, or to register\, please call the Library (570-595-7171) or email Lynn at l.vromanbpfl@gmail.com
URL:https://www.barrettlibrary.org/event/virtual-writing-group-14/
END:VEVENT
BEGIN:VEVENT
DTSTART;TZID=America/New_York:20221110T103000
DTEND;TZID=America/New_York:20221110T113000
DTSTAMP:20260425T112108
CREATED:20221015T184343Z
LAST-MODIFIED:20221015T184343Z
UID:5086-1668076200-1668079800@www.barrettlibrary.org
SUMMARY:Story Time at the Library
DESCRIPTION:Story Time at the Library \nAges 0-5 \nThursdays\, November 3rd\, 10th. & 17th 10:30AM-11:30AM \nPlease join us for stories and songs in the Weiler Family Community Room.  \nSpace is limited and sign ups are required. Call 570-595-7171
URL:https://www.barrettlibrary.org/event/story-time-at-the-library-9/
END:VEVENT
BEGIN:VEVENT
DTSTART;TZID=America/New_York:20221109T183000
DTEND;TZID=America/New_York:20221109T193000
DTSTAMP:20260425T112108
CREATED:20221015T184721Z
LAST-MODIFIED:20221015T184721Z
UID:5090-1668018600-1668022200@www.barrettlibrary.org
SUMMARY:Lego Challenges
DESCRIPTION:Lego Challenges \nAges 6-11 \nWednesday\, November 9th 6:30PM \nJoin us in the Weiler Family Community Room for a series of S.T.E.A.M. challenges using legos.  \nRegistration is required. Call 570-595-7171
URL:https://www.barrettlibrary.org/event/lego-challenges/
END:VEVENT
BEGIN:VEVENT
DTSTART;TZID=America/New_York:20221109T130000
DTEND;TZID=America/New_York:20221109T140000
DTSTAMP:20260425T112108
CREATED:20221102T170716Z
LAST-MODIFIED:20221102T170716Z
UID:5109-1667998800-1668002400@www.barrettlibrary.org
SUMMARY:Shakespeare Group
DESCRIPTION:The Bard is back! Join Pat Williams for this weekly literary experience discussing Shakespeare and/or other topics of interest to the group. Please contact Pat or call the Library if you’re interested in attending. 
URL:https://www.barrettlibrary.org/event/shakespeare-group-9/
END:VEVENT
BEGIN:VEVENT
DTSTART;TZID=America/New_York:20221108T103000
DTEND;TZID=America/New_York:20221108T110000
DTSTAMP:20260425T112108
CREATED:20221015T183954Z
LAST-MODIFIED:20221015T183954Z
UID:5078-1667903400-1667905200@www.barrettlibrary.org
SUMMARY:Baby & Me
DESCRIPTION:  \nBaby & Me \nAges 0-2 \nTuesdays\, November 8th & 22nd 10:30AM \nA special story time for our youngest patrons and their grownups. Join us for stories\, songs\, and games!  \nRegistration is required. Please call 570-595-7171
URL:https://www.barrettlibrary.org/event/baby-me/
END:VEVENT
BEGIN:VEVENT
DTSTART;TZID=America/New_York:20221103T103000
DTEND;TZID=America/New_York:20221103T113000
DTSTAMP:20260425T112108
CREATED:20221015T184255Z
LAST-MODIFIED:20221015T184255Z
UID:5083-1667471400-1667475000@www.barrettlibrary.org
SUMMARY:Story Time at the Library
DESCRIPTION:Story Time at the Library \nAges 0-5 \nThursdays\, November 3rd\, 10th. & 17th 10:30AM-11:30AM \nPlease join us for stories and songs in the Weiler Family Community Room.  \nSpace is limited and sign ups are required. Call 570-595-7171 \n \n 
URL:https://www.barrettlibrary.org/event/story-time-at-the-library-8/
END:VEVENT
BEGIN:VEVENT
DTSTART;TZID=America/New_York:20221102T143000
DTEND;TZID=America/New_York:20221102T151500
DTSTAMP:20260425T112108
CREATED:20221015T185135Z
LAST-MODIFIED:20221015T185135Z
UID:5096-1667399400-1667402100@www.barrettlibrary.org
SUMMARY:Block Party
DESCRIPTION:Block Parties \nAges 0-5 \nWednesdays\, November 2nd & 16th  2:30PM \nBuilding with blocks develops a child’s math and science skills\, and is lots of fun! \nBring your children to a block party and build\, talk\, explore and create together. \nAll you need is your imagination.  \nRegistration is required. Call 570-595-7171
URL:https://www.barrettlibrary.org/event/block-party/
END:VEVENT
BEGIN:VEVENT
DTSTART;TZID=America/New_York:20221102T130000
DTEND;TZID=America/New_York:20221102T140000
DTSTAMP:20260425T112108
CREATED:20221102T170626Z
LAST-MODIFIED:20221102T170626Z
UID:5107-1667394000-1667397600@www.barrettlibrary.org
SUMMARY:Shakespeare Group
DESCRIPTION:The Bard is back! Join Pat Williams for this weekly literary experience discussing Shakespeare and/or other topics of interest to the group. Please contact Pat or call the Library if you’re interested in attending. 
URL:https://www.barrettlibrary.org/event/shakespeare-group-8/
END:VEVENT
BEGIN:VEVENT
DTSTART;VALUE=DATE:20221101
DTEND;VALUE=DATE:20221201
DTSTAMP:20260425T112108
CREATED:20221015T185614Z
LAST-MODIFIED:20221015T185614Z
UID:5101-1667260800-1669852799@www.barrettlibrary.org
SUMMARY:Tale on the Trail at Ice Lake
DESCRIPTION:Tale on the Trail at Ice Lake \nVisit the Barrett Township Community Park at Ice Lake to embark on this family reading adventure!  \nFollow the trail behind the pavilion and turn right. Enjoy a picture book as you stroll along the path.  \nThe path is about 0.12 miles from beginning to end\, and then you can continue around the lake or turn around to return to the pavilion.  \nThe trail is mostly flat\, but rough and rocky. Very young children may need help or prefer to ride in a stroller. \n \n 
URL:https://www.barrettlibrary.org/event/tale-on-the-trail-at-ice-lake-3/
END:VEVENT
BEGIN:VEVENT
DTSTART;TZID=America/New_York:20221027T103000
DTEND;TZID=America/New_York:20221027T113000
DTSTAMP:20260425T112108
CREATED:20220906T155039Z
LAST-MODIFIED:20220906T155039Z
UID:5011-1666866600-1666870200@www.barrettlibrary.org
SUMMARY:Halloween Party
DESCRIPTION:Halloween Party \nAges 0-5 \nThursday\, October 27th \n10:30AM \nCome to the library in your Halloween costume for some spooky fun!  \nWe will read stories\, play games\, and trick-or-treat around the library!  \nRegistration is required.
URL:https://www.barrettlibrary.org/event/halloween-party/
END:VEVENT
BEGIN:VEVENT
DTSTART;TZID=America/New_York:20221026T183000
DTEND;TZID=America/New_York:20221026T193000
DTSTAMP:20260425T112108
CREATED:20220906T155253Z
LAST-MODIFIED:20221004T180944Z
UID:5015-1666809000-1666812600@www.barrettlibrary.org
SUMMARY:Needle Felt Pumpkins (teen program)
DESCRIPTION:Needle Felt Pumpkins (teen program) \nWednesday\, October 26th 6:30PM \nAges 12+ \nLearn how to needle felt a pumpkin. Registration is required \n.
URL:https://www.barrettlibrary.org/event/needle-felt-pumpkins/
END:VEVENT
BEGIN:VEVENT
DTSTART;TZID=America/New_York:20221026T130000
DTEND;TZID=America/New_York:20221026T140000
DTSTAMP:20260425T112108
CREATED:20221001T175001Z
LAST-MODIFIED:20221001T175001Z
UID:5042-1666789200-1666792800@www.barrettlibrary.org
SUMMARY:Shakespeare Group
DESCRIPTION:The Bard is back! Join Pat Williams for this weekly literary experience discussing Shakespeare and/or other topics of interest to the group. Please contact Pat or call the Library if you’re interested in attending. 
URL:https://www.barrettlibrary.org/event/shakespeare-group-7/
END:VEVENT
BEGIN:VEVENT
DTSTART;TZID=America/New_York:20221025T190000
DTEND;TZID=America/New_York:20221025T200000
DTSTAMP:20260425T112108
CREATED:20221001T175444Z
LAST-MODIFIED:20221001T175444Z
UID:5050-1666724400-1666728000@www.barrettlibrary.org
SUMMARY:Virtual Evening Book Club
DESCRIPTION:Join our virtual evening book club on Zoom. This month\, we will discuss The Silent Patient by Alex Michaelides. If you’re interested in joining\, please call the Library for more details. \n 
URL:https://www.barrettlibrary.org/event/virtual-evening-book-club-13/
END:VEVENT
BEGIN:VEVENT
DTSTART;TZID=America/New_York:20221020T103000
DTEND;TZID=America/New_York:20221020T113000
DTSTAMP:20260425T112108
CREATED:20220906T154937Z
LAST-MODIFIED:20220906T154937Z
UID:5009-1666261800-1666265400@www.barrettlibrary.org
SUMMARY:Story Time at the Library
DESCRIPTION:Story Time at the Library \nAges 0-5 \nThursday\, October 6th -Thursday\, October 20th \n10:30AM-11:30AM \nPlease join us for stories and songs in the Weiler Family Community Room. Space is limited and sign ups are required for this three-week session. \nPlease call the library to register for this series.
URL:https://www.barrettlibrary.org/event/story-time-at-the-library-7/
END:VEVENT
BEGIN:VEVENT
DTSTART;TZID=America/New_York:20221019T183000
DTEND;TZID=America/New_York:20221019T193000
DTSTAMP:20260425T112108
CREATED:20220906T155134Z
LAST-MODIFIED:20220906T155134Z
UID:5013-1666204200-1666207800@www.barrettlibrary.org
SUMMARY:Cemeterrarium
DESCRIPTION:Cemeterrarium \nWednesday\, October 19th 6:30PM \nAges 6-11 \nBuild a spooky Halloween-themed terrarium with your friends at the library. Registration is required.
URL:https://www.barrettlibrary.org/event/cemeterrarium/
END:VEVENT
BEGIN:VEVENT
DTSTART;TZID=America/New_York:20221019T130000
DTEND;TZID=America/New_York:20221019T140000
DTSTAMP:20260425T112108
CREATED:20221001T174913Z
LAST-MODIFIED:20221001T174913Z
UID:5039-1666184400-1666188000@www.barrettlibrary.org
SUMMARY:Shakespeare Group
DESCRIPTION:The Bard is back! Join Pat Williams for this weekly literary experience discussing Shakespeare and/or other topics of interest to the group. Please contact Pat or call the Library if you’re interested in attending. 
URL:https://www.barrettlibrary.org/event/shakespeare-group-6/
END:VEVENT
BEGIN:VEVENT
DTSTART;TZID=America/New_York:20221018T130000
DTEND;TZID=America/New_York:20221018T140000
DTSTAMP:20260425T112108
CREATED:20221001T175338Z
LAST-MODIFIED:20221001T175338Z
UID:5048-1666098000-1666101600@www.barrettlibrary.org
SUMMARY:Virtual Afternoon Book Club
DESCRIPTION:Join our virtual afternoon book club on Zoom. This month\, we will discuss No Graves As Yet by Anne Perry. If you’re interested in joining\, please call the Library for more details.
URL:https://www.barrettlibrary.org/event/virtual-afternoon-book-club-13/
END:VEVENT
BEGIN:VEVENT
DTSTART;TZID=America/New_York:20221018T103000
DTEND;TZID=America/New_York:20221018T110000
DTSTAMP:20260425T112108
CREATED:20220906T154440Z
LAST-MODIFIED:20221017T193815Z
UID:5002-1666089000-1666090800@www.barrettlibrary.org
SUMMARY:Story Time at Ice Lake (canceled today)
DESCRIPTION:Story Time at Ice Lake \nAges 0-5 \nTuesdays in October 10:30AM-11AM \nAll children are welcome to join us under the pavilion at The Barrett Township Community Park at Ice Lake for stories\, songs\, and games! Registration is not required. If it is raining on story time day\, please check our Facebook page or call the library for updates about cancellations.
URL:https://www.barrettlibrary.org/event/story-time-at-ice-lake-20/
END:VEVENT
BEGIN:VEVENT
DTSTART;VALUE=DATE:20221017
DTEND;VALUE=DATE:20221018
DTSTAMP:20260425T112108
CREATED:20221001T175248Z
LAST-MODIFIED:20221001T175248Z
UID:5046-1665964800-1666051199@www.barrettlibrary.org
SUMMARY:Adult Take-Home Craft: Macramé Feathers
DESCRIPTION:Show off your macramé talents with an easy\, fun craft. We supply all the materials. You must register for this craft. \n 
URL:https://www.barrettlibrary.org/event/adult-take-home-craft-macrame-feathers/
END:VEVENT
BEGIN:VEVENT
DTSTART;TZID=America/New_York:20221013T183000
DTEND;TZID=America/New_York:20221013T193000
DTSTAMP:20260425T112108
CREATED:20221001T175101Z
LAST-MODIFIED:20221001T175101Z
UID:5044-1665685800-1665689400@www.barrettlibrary.org
SUMMARY:Virtual Writing Group
DESCRIPTION:Join us on Zoom to discuss the art of writing while sharing work with the group.  \n 
URL:https://www.barrettlibrary.org/event/virtual-writing-group-13/
END:VEVENT
END:VCALENDAR